BEGIN:VCALENDAR
VERSION:2.0
PRODID:-//Rootead - ECPv6.15.20//NONSGML v1.0//EN
CALSCALE:GREGORIAN
METHOD:PUBLISH
X-ORIGINAL-URL:https://rootead.org
X-WR-CALDESC:Events for Rootead
REFRESH-INTERVAL;VALUE=DURATION:PT1H
X-Robots-Tag:noindex
X-PUBLISHED-TTL:PT1H
BEGIN:VTIMEZONE
TZID:UTC
BEGIN:STANDARD
TZOFFSETFROM:+0000
TZOFFSETTO:+0000
TZNAME:UTC
DTSTART:20250101T000000
END:STANDARD
END:VTIMEZONE
BEGIN:VEVENT
DTSTART;TZID=UTC:20260325T110000
DTEND;TZID=UTC:20260325T130000
DTSTAMP:20260423T180528
CREATED:20250127T181625Z
LAST-MODIFIED:20260324T171637Z
UID:10000523-1774436400-1774443600@rootead.org
SUMMARY:Diaper Giveaway @ Baby Café
DESCRIPTION:Diaper Giveaway Every Wednesday!\nDiaper giveaway will be every Wednesday from 11 AM -1 PM.  Come to the Village Playdates and also get free diapers! \nNewborn – 4t/ 5t Pull-ups ~ Limited supply\, first come first serve! \n  \n 
URL:https://rootead.org/event/diaper-giveaway-mar-25-2026/
LOCATION:Rootead\, 505 E Kalamazoo Ave\, Suite 3\, Kalamazoo\, 49007
CATEGORIES:Birth Justice,Home
ATTACH;FMTTYPE=image/png:https://rootead.org/wp-content/uploads/2024/09/Diaper-Giveaway.png
END:VEVENT
BEGIN:VEVENT
DTSTART;TZID=UTC:20260326T100000
DTEND;TZID=UTC:20260326T120000
DTSTAMP:20260423T180528
CREATED:20260225T220446Z
LAST-MODIFIED:20260225T221136Z
UID:10000753-1774519200-1774526400@rootead.org
SUMMARY:Baby Café Open Hours - Virtual
DESCRIPTION:Nourish your baby. Nourish yourself. Find your community at Rootead’s Baby Café\nThursdays weekly from 10 AM – 12 PM \nThe Baby Café is a walk-in parent support group with lactation professionals present to provide support for baby feeding. This free service is available in partnership with Bronson Health Foundation and W.K. Kellogg Foundation. \n  \nDate: Weekly on Thursdays \nTime: 10am-12pm \nLocation: \n1st and 3rd Thursdays at the Baby Cafe\, Rootead Enrichment Center\, 505 East Kalamazoo Ave. Suite 0\, Kalamazoo\, MI 49007 \n2nd and 4th Thursdays\, Virtually. Join using this link. \n  \n 
URL:https://rootead.org/event/baby-cafe-open-hours-mar-26-2026/
LOCATION:Rootead\, 505 E Kalamazoo Ave\, Suite 3\, Kalamazoo\, 49007
CATEGORIES:Birth Justice,Home
ATTACH;FMTTYPE=image/png:https://rootead.org/wp-content/uploads/2026/02/BabyCafeInfoCard.png
END:VEVENT
BEGIN:VEVENT
DTSTART;TZID=UTC:20260326T181500
DTEND;TZID=UTC:20260326T190000
DTSTAMP:20260423T180528
CREATED:20260206T172539Z
LAST-MODIFIED:20260206T172809Z
UID:10000725-1774548900-1774551600@rootead.org
SUMMARY:Hip Hop Kettlebell III
DESCRIPTION:Join us for Hip Hop Kettlebell!\nHip hop kettlebell offers a combination of strength and cardiovascular movement. This 6-week series cultivates an environment which uplifts\, empowers and grounds you in community. Vibe to the sounds of hip hop music over the decades! All adults and abilities are welcome. \nWe will be offering Hip Hop Kettlebell Session III beginning Thursday\, February 19\, 2026 at 6:15PM.  Registration is required. \nThis is a 6-week session class that requires pre-registration for the entire 6 weeks. \nDates are: \n\nThursday\, February 19\nThursday\, February 26\nThursday\, March 5\nThursday\, March 12\nThursday\, March 19\nThursday\, March 26\n\n$100 for 6 weeks. Scholarships are available but limited. This is an 18+ class. Bundle with our Cardio Kickboxing Series for just $150 for both classes! \nREGISTER HERE\n  \nWhat: Hip Hop Kettlebell Session III\nWhen: Thursdays at 6:15PM\, beginning February 19\, 2026\nWhere: Rootead Studio 505 E. Kalamazoo Ave. 49007\nWh0: All adults 18+ and all abilities are welcome\nFacilitated by Rootead Staff \n  \n 
URL:https://rootead.org/event/hip-hop-kettlebell-mar-26/
LOCATION:Rootead\, 505 E Kalamazoo Ave\, Suite 3\, Kalamazoo\, 49007
CATEGORIES:Community Healing,Home
ATTACH;FMTTYPE=image/png:https://rootead.org/wp-content/uploads/2026/02/HHKB-CB-III-Flyer-1.png
END:VEVENT
BEGIN:VEVENT
DTSTART;VALUE=DATE:20260328
DTEND;VALUE=DATE:20260407
DTSTAMP:20260423T180528
CREATED:20260217T175213Z
LAST-MODIFIED:20260217T175213Z
UID:10000739-1774656000-1775519999@rootead.org
SUMMARY:CLOSED for Spring Break
DESCRIPTION:Rootead Enrichment Center will be closed for Spring Break from Saturday\, March 28th – Monday\, April 6th. We will resume regular hours on Tuesday\, April 7th. \nProgramming will be temporarily paused during this period. \n 
URL:https://rootead.org/event/closed-for-spring-break-26/
LOCATION:Rootead\, 505 E Kalamazoo Ave\, Suite 3\, Kalamazoo\, 49007
CATEGORIES:Home
END:VEVENT
BEGIN:VEVENT
DTSTART;TZID=UTC:20260328T120000
DTEND;TZID=UTC:20260328T140000
DTSTAMP:20260423T180528
CREATED:20260212T155038Z
LAST-MODIFIED:20260313T192250Z
UID:10000733-1774699200-1774706400@rootead.org
SUMMARY:Meet the Village: Doula Meet and Greet
DESCRIPTION:You’re invited to Meet the Village: Doula Meet & Greet\nSaturday\, March 28\, 2026 from 12 PM – 2 PM\nWe are inviting the community to come meet doulas from Kalamazoo County and surrounding areas! \nWhat to Expect: \n\nLight Snacks\nA community resource table (WIC\, lactation\, mental health)\nSmall takeaways: affirmation cards or a mini postpartum checklist\nKid-friendly play area for those with children\n\nREGISTER HERE \nDate: Saturday\, March 28th\, 2026 \nTime: 12 PM – 2 PM \nLocation: Baby Cafe at Rootead\, 505 E Kalamazoo Ave\, Kalamazoo\, MI 49007. On the corner of E. Kalamazoo Ave and Wallbridge St.
URL:https://rootead.org/event/meet-the-village/
LOCATION:Rootead\, 505 E Kalamazoo Ave\, Suite 3\, Kalamazoo\, 49007
CATEGORIES:Birth Justice,Home
ATTACH;FMTTYPE=image/png:https://rootead.org/wp-content/uploads/2026/02/2-2.png
END:VEVENT
BEGIN:VEVENT
DTSTART;TZID=UTC:20260408T100000
DTEND;TZID=UTC:20260408T113000
DTSTAMP:20260423T180528
CREATED:20260225T213355Z
LAST-MODIFIED:20260225T213355Z
UID:10000745-1775642400-1775647800@rootead.org
SUMMARY:Village Playdate
DESCRIPTION:Are you and your little(s) looking for a fun place to learn and play that focuses on inclusivity and community? Come join the village! \nVillage Playdates are weekly drop-ins with story time and activities to participate in at no cost. \n  \nVillage Playdates will be every Wednesday from 10 AM – 11:30 AM at the Kalamazoo Baby Café at Rootead\, 505 E Kalamazoo Ave\, Suite o. Kalamazoo MI 49007. \n  \n 
URL:https://rootead.org/event/village-playdate-apr-8-2026/
LOCATION:Rootead\, 505 E Kalamazoo Ave\, Suite 3\, Kalamazoo\, 49007
CATEGORIES:Birth Justice,Home
ATTACH;FMTTYPE=image/png:https://rootead.org/wp-content/uploads/2026/02/Village-Playdates-Updated-Flyer.png
END:VEVENT
BEGIN:VEVENT
DTSTART;TZID=UTC:20260408T110000
DTEND;TZID=UTC:20260408T130000
DTSTAMP:20260423T180528
CREATED:20260324T171825Z
LAST-MODIFIED:20260324T171825Z
UID:10000765-1775646000-1775653200@rootead.org
SUMMARY:Diaper Giveaway @ Baby Café
DESCRIPTION:Diaper Giveaway Every Wednesday!\nDiaper giveaway will be every Wednesday from 11 AM -1 PM.  Come to the Village Playdates and also get free diapers! \nNewborn – 4t/ 5t Pull-ups ~ Limited supply\, first come first serve! \n 
URL:https://rootead.org/event/diaper-giveaway-apr-8-2026/
LOCATION:Rootead\, 505 E Kalamazoo Ave\, Suite 3\, Kalamazoo\, 49007
CATEGORIES:Birth Justice,Home
ATTACH;FMTTYPE=image/png:https://rootead.org/wp-content/uploads/2024/09/Diaper-Giveaway.png
END:VEVENT
BEGIN:VEVENT
DTSTART;TZID=UTC:20260409T100000
DTEND;TZID=UTC:20260409T120000
DTSTAMP:20260423T180528
CREATED:20260225T220541Z
LAST-MODIFIED:20260319T152240Z
UID:10000754-1775728800-1775736000@rootead.org
SUMMARY:Baby Café Open Hours - Virtual
DESCRIPTION:Nourish your baby. Nourish yourself. Find your community at Rootead’s Baby Café\nThursdays weekly from 10 AM – 12 PM \nThe Baby Café is a walk-in parent support group with lactation professionals present to provide support for baby feeding. This free service is available in partnership with Bronson Health Foundation and W.K. Kellogg Foundation. \n  \nDate: Weekly on Thursdays \nTime: 10am-12pm \nLocation: \n1st and 3rd Thursdays at the Baby Cafe\, Rootead Enrichment Center\, 505 East Kalamazoo Ave. Suite 0\, Kalamazoo\, MI 49007 \n2nd and 4th Thursdays\, Virtually. Join using this link. \n  \n 
URL:https://rootead.org/event/baby-cafe-open-hours-apr-9-2026/
LOCATION:Rootead\, 505 E Kalamazoo Ave\, Suite 3\, Kalamazoo\, 49007
CATEGORIES:Birth Justice,Home
ATTACH;FMTTYPE=image/png:https://rootead.org/wp-content/uploads/2026/02/BabyCafeInfoCard.png
END:VEVENT
BEGIN:VEVENT
DTSTART;TZID=UTC:20260409T140000
DTEND;TZID=UTC:20260409T160000
DTSTAMP:20260423T180528
CREATED:20260324T181615Z
LAST-MODIFIED:20260324T181751Z
UID:10000998-1775743200-1775750400@rootead.org
SUMMARY:Pop Up Baby Café - El Concilio
DESCRIPTION:Join us for a pop up of our Baby Café at El Concilio!\nMarch 12th\, April 9th\, May 14th\, June 11th\, and July 9th from 2pm – 4pm \nThe Baby Café is a walk-in parent support group with lactation professionals present to provide support for baby feeding. This free service is available in partnership with Bronson Health Foundation and W.K. Kellogg Foundation. \n  \n 
URL:https://rootead.org/event/pop-up-baby-cafe-el-concilio/2026-04-09/
LOCATION:El Concilio\, 2501 Millcork St\, Kalamazoo\, Michigan\, 49001
CATEGORIES:Birth Justice,Home
ATTACH;FMTTYPE=image/png:https://rootead.org/wp-content/uploads/2026/03/Baby-Cafe-Pop-Up-El-Concilio-Spanish.png
END:VEVENT
BEGIN:VEVENT
DTSTART;TZID=UTC:20260409T193000
DTEND;TZID=UTC:20260409T210000
DTSTAMP:20260423T180528
CREATED:20260407T195309Z
LAST-MODIFIED:20260407T195309Z
UID:10001002-1775763000-1775768400@rootead.org
SUMMARY:Open Mic Night
DESCRIPTION:Join us for Open Mic Night!\nShare your voice or come enjoy the vibes. Featured Artist: Asia Sings! \n\nAsia Sings is an emerging R&B artist known for her soulful tone and emotional honesty. Blending contemporary R&B with heartfelt storytelling\, her music explores healing\, love\, growth\, and self-discovery. As both a mother and a creative\, she brings depth and authenticity to every performance—using her voice to connect.\n\nWhen: April 9th\, 7:30 PM – 9:00 PM \nWhere: Rootead Studio
URL:https://rootead.org/event/open-mic-night/
LOCATION:Rootead\, 505 E Kalamazoo Ave\, Suite 3\, Kalamazoo\, 49007
CATEGORIES:Community Healing,Home
ATTACH;FMTTYPE=image/png:https://rootead.org/wp-content/uploads/2026/04/Poetry-Night-Specific-2.png
END:VEVENT
BEGIN:VEVENT
DTSTART;VALUE=DATE:20260410
DTEND;VALUE=DATE:20260411
DTSTAMP:20260423T180528
CREATED:20240302T190713Z
LAST-MODIFIED:20260313T191721Z
UID:10000308-1775779200-1775865599@rootead.org
SUMMARY:Community-Based Doula Training Program - Application Deadline
DESCRIPTION:Today is the last day to submit an application for the next cohort of our Community-Based Doula Training Program!\n20-week training session beginning May 8\, 2026\nRootead’s community-based doula training program will run its next 20-week cohort from May 8 to August 1\, 2026. \n\nLEARN MORE ABOUT COMMUNITY-BASED DOULA TRAINING PROGRAM\n  \n  \n 
URL:https://rootead.org/event/community-based-doula-training-program-application-deadline/
LOCATION:Michigan
CATEGORIES:Birth Justice,Home
ATTACH;FMTTYPE=image/jpeg:https://rootead.org/wp-content/uploads/2026/03/IMG_3239-1.jpeg
END:VEVENT
BEGIN:VEVENT
DTSTART;TZID=UTC:20260410T170000
DTEND;TZID=UTC:20260410T190000
DTSTAMP:20260423T180528
CREATED:20260324T181347Z
LAST-MODIFIED:20260324T181347Z
UID:10000994-1775840400-1775847600@rootead.org
SUMMARY:Pop Up Baby Café - Edison Neighborhood Association
DESCRIPTION:Join us for a pop up of our Baby Café at the Edison Neighborhood Association!\nMarch 13th\, April 10th\, May 8th\, June 12th\, and July 10th from 5pm – 7pm \nThe Baby Café is a walk-in parent support group with lactation professionals present to provide support for baby feeding. This free service is available in partnership with Bronson Health Foundation and W.K. Kellogg Foundation. \n\n  \n 
URL:https://rootead.org/event/baby-cafe-edison/2026-04-10/
LOCATION:Edison Neighborhood Association\, 816 Washington Ave\, Kalamazoo\, Michigan\, 49001
CATEGORIES:Birth Justice,Home
ATTACH;FMTTYPE=image/png:https://rootead.org/wp-content/uploads/2026/03/Edison-Baby-Cafe.png
END:VEVENT
BEGIN:VEVENT
DTSTART;TZID=UTC:20260415T100000
DTEND;TZID=UTC:20260415T113000
DTSTAMP:20260423T180528
CREATED:20260225T214535Z
LAST-MODIFIED:20260225T214535Z
UID:10000746-1776247200-1776252600@rootead.org
SUMMARY:Village Playdate
DESCRIPTION:Are you and your little(s) looking for a fun place to learn and play that focuses on inclusivity and community? Come join the village! \nVillage Playdates are weekly drop-ins with story time and activities to participate in at no cost. \n  \nVillage Playdates will be every Wednesday from 10 AM – 11:30 AM at the Kalamazoo Baby Café at Rootead\, 505 E Kalamazoo Ave\, Suite o. Kalamazoo MI 49007. \n  \n 
URL:https://rootead.org/event/village-playdate-apr-15-2026/
LOCATION:Rootead\, 505 E Kalamazoo Ave\, Suite 3\, Kalamazoo\, 49007
CATEGORIES:Birth Justice,Home
ATTACH;FMTTYPE=image/png:https://rootead.org/wp-content/uploads/2026/02/Village-Playdates-Updated-Flyer.png
END:VEVENT
BEGIN:VEVENT
DTSTART;TZID=UTC:20260415T110000
DTEND;TZID=UTC:20260415T130000
DTSTAMP:20260423T180528
CREATED:20260324T172041Z
LAST-MODIFIED:20260324T172041Z
UID:10000766-1776250800-1776258000@rootead.org
SUMMARY:Diaper Giveaway @ Baby Café
DESCRIPTION:Diaper Giveaway Every Wednesday!\nDiaper giveaway will be every Wednesday from 11 AM -1 PM.  Come to the Village Playdates and also get free diapers! \nNewborn – 4t/ 5t Pull-ups ~ Limited supply\, first come first serve! \n 
URL:https://rootead.org/event/diaper-giveaway-apr-15-2026/
LOCATION:Rootead\, 505 E Kalamazoo Ave\, Suite 3\, Kalamazoo\, 49007
CATEGORIES:Birth Justice,Home
ATTACH;FMTTYPE=image/png:https://rootead.org/wp-content/uploads/2024/09/Diaper-Giveaway.png
END:VEVENT
BEGIN:VEVENT
DTSTART;TZID=UTC:20260416T100000
DTEND;TZID=UTC:20260416T120000
DTSTAMP:20260423T180528
CREATED:20260225T220759Z
LAST-MODIFIED:20260313T192354Z
UID:10000755-1776333600-1776340800@rootead.org
SUMMARY:Baby Café Open Hours - In Person
DESCRIPTION:Nourish your baby. Nourish yourself. Find your community at Rootead’s Baby Café\nThursdays weekly from 10 AM – 12 PM \nThe Baby Café is a walk-in parent support group with lactation professionals present to provide support for baby feeding. This free service is available in partnership with Bronson Health Foundation and W.K. Kellogg Foundation. \n  \nDate: Weekly on Thursdays \nTime: 10am-12pm \nLocation: \n1st and 3rd Thursdays at the Baby Cafe\, Rootead Enrichment Center\, 505 East Kalamazoo Ave. Suite 0\, Kalamazoo\, MI 49007 \n2nd and 4th Thursdays\, Virtually. Join using this link. \n  \n 
URL:https://rootead.org/event/baby-cafe-open-hours-apr-16-2026/
LOCATION:Rootead\, 505 E Kalamazoo Ave\, Suite 3\, Kalamazoo\, 49007
CATEGORIES:Birth Justice,Home
ATTACH;FMTTYPE=image/png:https://rootead.org/wp-content/uploads/2026/02/BabyCafeInfoCard.png
END:VEVENT
BEGIN:VEVENT
DTSTART;TZID=UTC:20260422T100000
DTEND;TZID=UTC:20260422T113000
DTSTAMP:20260423T180528
CREATED:20260225T214634Z
LAST-MODIFIED:20260225T214634Z
UID:10000747-1776852000-1776857400@rootead.org
SUMMARY:Village Playdate
DESCRIPTION:Are you and your little(s) looking for a fun place to learn and play that focuses on inclusivity and community? Come join the village! \nVillage Playdates are weekly drop-ins with story time and activities to participate in at no cost. \n  \nVillage Playdates will be every Wednesday from 10 AM – 11:30 AM at the Kalamazoo Baby Café at Rootead\, 505 E Kalamazoo Ave\, Suite o. Kalamazoo MI 49007. \n  \n 
URL:https://rootead.org/event/village-playdate-apr-22-2026/
LOCATION:Rootead\, 505 E Kalamazoo Ave\, Suite 3\, Kalamazoo\, 49007
CATEGORIES:Birth Justice,Home
ATTACH;FMTTYPE=image/png:https://rootead.org/wp-content/uploads/2026/02/Village-Playdates-Updated-Flyer.png
END:VEVENT
BEGIN:VEVENT
DTSTART;TZID=UTC:20260422T110000
DTEND;TZID=UTC:20260422T130000
DTSTAMP:20260423T180528
CREATED:20260324T172120Z
LAST-MODIFIED:20260324T172120Z
UID:10000767-1776855600-1776862800@rootead.org
SUMMARY:Diaper Giveaway @ Baby Café
DESCRIPTION:Diaper Giveaway Every Wednesday!\nDiaper giveaway will be every Wednesday from 11 AM -1 PM.  Come to the Village Playdates and also get free diapers! \nNewborn – 4t/ 5t Pull-ups ~ Limited supply\, first come first serve! \n 
URL:https://rootead.org/event/diaper-giveaway-apr-22-2026/
LOCATION:Rootead\, 505 E Kalamazoo Ave\, Suite 3\, Kalamazoo\, 49007
CATEGORIES:Birth Justice,Home
ATTACH;FMTTYPE=image/png:https://rootead.org/wp-content/uploads/2024/09/Diaper-Giveaway.png
END:VEVENT
BEGIN:VEVENT
DTSTART;TZID=UTC:20260423T100000
DTEND;TZID=UTC:20260423T120000
DTSTAMP:20260423T180528
CREATED:20260225T221000Z
LAST-MODIFIED:20260319T151223Z
UID:10000756-1776938400-1776945600@rootead.org
SUMMARY:Baby Café Open Hours - Virtual
DESCRIPTION:Nourish your baby. Nourish yourself. Find your community at Rootead’s Baby Café\nThursdays weekly from 10 AM – 12 PM \nThe Baby Café is a walk-in parent support group with lactation professionals present to provide support for baby feeding. This free service is available in partnership with Bronson Health Foundation and W.K. Kellogg Foundation. \n  \nDate: Weekly on Thursdays \nTime: 10am-12pm \nLocation: \n1st and 3rd Thursdays at the Baby Cafe\, Rootead Enrichment Center\, 505 East Kalamazoo Ave. Suite 0\, Kalamazoo\, MI 49007 \n2nd and 4th Thursdays\, Virtually. Join using this link. \n  \n 
URL:https://rootead.org/event/baby-cafe-open-hours-apr-23-2026/
LOCATION:Rootead\, 505 E Kalamazoo Ave\, Suite 3\, Kalamazoo\, 49007
CATEGORIES:Birth Justice,Home
ATTACH;FMTTYPE=image/png:https://rootead.org/wp-content/uploads/2026/02/BabyCafeInfoCard.png
END:VEVENT
BEGIN:VEVENT
DTSTART;TZID=UTC:20260429T100000
DTEND;TZID=UTC:20260429T113000
DTSTAMP:20260423T180528
CREATED:20260225T214725Z
LAST-MODIFIED:20260225T214824Z
UID:10000748-1777456800-1777462200@rootead.org
SUMMARY:Village Playdate
DESCRIPTION:Are you and your little(s) looking for a fun place to learn and play that focuses on inclusivity and community? Come join the village! \nVillage Playdates are weekly drop-ins with story time and activities to participate in at no cost. \n  \nVillage Playdates will be every Wednesday from 10 AM – 11:30 AM at the Kalamazoo Baby Café at Rootead\, 505 E Kalamazoo Ave\, Suite o. Kalamazoo MI 49007. \n  \n 
URL:https://rootead.org/event/village-playdate-apr-29-2026/
LOCATION:Rootead\, 505 E Kalamazoo Ave\, Suite 3\, Kalamazoo\, 49007
CATEGORIES:Birth Justice,Home
ATTACH;FMTTYPE=image/png:https://rootead.org/wp-content/uploads/2026/02/Village-Playdates-Updated-Flyer.png
END:VEVENT
BEGIN:VEVENT
DTSTART;TZID=UTC:20260429T110000
DTEND;TZID=UTC:20260429T130000
DTSTAMP:20260423T180528
CREATED:20260324T172149Z
LAST-MODIFIED:20260324T172149Z
UID:10000768-1777460400-1777467600@rootead.org
SUMMARY:Diaper Giveaway @ Baby Café
DESCRIPTION:Diaper Giveaway Every Wednesday!\nDiaper giveaway will be every Wednesday from 11 AM -1 PM.  Come to the Village Playdates and also get free diapers! \nNewborn – 4t/ 5t Pull-ups ~ Limited supply\, first come first serve! \n 
URL:https://rootead.org/event/diaper-giveaway-apr-29-2026/
LOCATION:Rootead\, 505 E Kalamazoo Ave\, Suite 3\, Kalamazoo\, 49007
CATEGORIES:Birth Justice,Home
ATTACH;FMTTYPE=image/png:https://rootead.org/wp-content/uploads/2024/09/Diaper-Giveaway.png
END:VEVENT
BEGIN:VEVENT
DTSTART;TZID=UTC:20260506T100000
DTEND;TZID=UTC:20260506T113000
DTSTAMP:20260423T180528
CREATED:20260319T151734Z
LAST-MODIFIED:20260319T151820Z
UID:10000761-1778061600-1778067000@rootead.org
SUMMARY:Village Playdate
DESCRIPTION:Are you and your little(s) looking for a fun place to learn and play that focuses on inclusivity and community? Come join the village! \nVillage Playdates are weekly drop-ins with story time and activities to participate in at no cost. \n  \nVillage Playdates will be every Wednesday from 10 AM – 11:30 AM at the Kalamazoo Baby Café at Rootead\, 505 E Kalamazoo Ave\, Suite o. Kalamazoo MI 49007. \n  \n 
URL:https://rootead.org/event/village-playdate-may-6-2026/
LOCATION:Rootead\, 505 E Kalamazoo Ave\, Suite 3\, Kalamazoo\, 49007
CATEGORIES:Birth Justice,Home
ATTACH;FMTTYPE=image/png:https://rootead.org/wp-content/uploads/2026/02/Village-Playdates-Updated-Flyer.png
END:VEVENT
BEGIN:VEVENT
DTSTART;TZID=UTC:20260506T110000
DTEND;TZID=UTC:20260506T130000
DTSTAMP:20260423T180528
CREATED:20260324T172252Z
LAST-MODIFIED:20260324T172252Z
UID:10000769-1778065200-1778072400@rootead.org
SUMMARY:Diaper Giveaway @ Baby Café
DESCRIPTION:Diaper Giveaway Every Wednesday!\nDiaper giveaway will be every Wednesday from 11 AM -1 PM.  Come to the Village Playdates and also get free diapers! \nNewborn – 4t/ 5t Pull-ups ~ Limited supply\, first come first serve! \n 
URL:https://rootead.org/event/diaper-giveaway-may-6-2026/
LOCATION:Rootead\, 505 E Kalamazoo Ave\, Suite 3\, Kalamazoo\, 49007
CATEGORIES:Birth Justice,Home
ATTACH;FMTTYPE=image/png:https://rootead.org/wp-content/uploads/2024/09/Diaper-Giveaway.png
END:VEVENT
BEGIN:VEVENT
DTSTART;TZID=UTC:20260507T100000
DTEND;TZID=UTC:20260507T120000
DTSTAMP:20260423T180528
CREATED:20260319T150908Z
LAST-MODIFIED:20260324T180752Z
UID:10000757-1778148000-1778155200@rootead.org
SUMMARY:Baby Café Open Hours - In Person
DESCRIPTION:Nourish your baby. Nourish yourself. Find your community at Rootead’s Baby Café\nThursdays weekly from 10 AM – 12 PM \nThe Baby Café is a walk-in parent support group with lactation professionals present to provide support for baby feeding. This free service is available in partnership with Bronson Health Foundation and W.K. Kellogg Foundation. \n  \nDate: Weekly on Thursdays \nTime: 10am-12pm \nLocation: \n1st and 3rd Thursdays at the Baby Cafe\, Rootead Enrichment Center\, 505 East Kalamazoo Ave. Suite 0\, Kalamazoo\, MI 49007 \n2nd and 4th Thursdays\, Virtually. Join using this link. \n  \n 
URL:https://rootead.org/event/baby-cafe-open-hours-spring-2026-2/2026-05-07/
LOCATION:Rootead\, 505 E Kalamazoo Ave\, Suite 3\, Kalamazoo\, 49007
CATEGORIES:Birth Justice,Home
ATTACH;FMTTYPE=image/png:https://rootead.org/wp-content/uploads/2026/02/BabyCafeInfoCard.png
END:VEVENT
BEGIN:VEVENT
DTSTART;TZID=UTC:20260508T170000
DTEND;TZID=UTC:20260508T190000
DTSTAMP:20260423T180528
CREATED:20260324T181347Z
LAST-MODIFIED:20260324T181347Z
UID:10000995-1778259600-1778266800@rootead.org
SUMMARY:Pop Up Baby Café - Edison Neighborhood Association
DESCRIPTION:Join us for a pop up of our Baby Café at the Edison Neighborhood Association!\nMarch 13th\, April 10th\, May 8th\, June 12th\, and July 10th from 5pm – 7pm \nThe Baby Café is a walk-in parent support group with lactation professionals present to provide support for baby feeding. This free service is available in partnership with Bronson Health Foundation and W.K. Kellogg Foundation. \n\n  \n 
URL:https://rootead.org/event/baby-cafe-edison/2026-05-08/
LOCATION:Edison Neighborhood Association\, 816 Washington Ave\, Kalamazoo\, Michigan\, 49001
CATEGORIES:Birth Justice,Home
ATTACH;FMTTYPE=image/png:https://rootead.org/wp-content/uploads/2026/03/Edison-Baby-Cafe.png
END:VEVENT
BEGIN:VEVENT
DTSTART;TZID=UTC:20260513T100000
DTEND;TZID=UTC:20260513T113000
DTSTAMP:20260423T180528
CREATED:20260319T151913Z
LAST-MODIFIED:20260319T151913Z
UID:10000762-1778666400-1778671800@rootead.org
SUMMARY:Village Playdate
DESCRIPTION:Are you and your little(s) looking for a fun place to learn and play that focuses on inclusivity and community? Come join the village! \nVillage Playdates are weekly drop-ins with story time and activities to participate in at no cost. \n  \nVillage Playdates will be every Wednesday from 10 AM – 11:30 AM at the Kalamazoo Baby Café at Rootead\, 505 E Kalamazoo Ave\, Suite o. Kalamazoo MI 49007. \n  \n 
URL:https://rootead.org/event/village-playdate-may-13-2026/
LOCATION:Rootead\, 505 E Kalamazoo Ave\, Suite 3\, Kalamazoo\, 49007
CATEGORIES:Birth Justice,Home
ATTACH;FMTTYPE=image/png:https://rootead.org/wp-content/uploads/2026/02/Village-Playdates-Updated-Flyer.png
END:VEVENT
BEGIN:VEVENT
DTSTART;TZID=UTC:20260513T110000
DTEND;TZID=UTC:20260513T130000
DTSTAMP:20260423T180528
CREATED:20260324T172328Z
LAST-MODIFIED:20260324T172328Z
UID:10000770-1778670000-1778677200@rootead.org
SUMMARY:Diaper Giveaway @ Baby Café
DESCRIPTION:Diaper Giveaway Every Wednesday!\nDiaper giveaway will be every Wednesday from 11 AM -1 PM.  Come to the Village Playdates and also get free diapers! \nNewborn – 4t/ 5t Pull-ups ~ Limited supply\, first come first serve! \n 
URL:https://rootead.org/event/diaper-giveaway-may-13-2026/
LOCATION:Rootead\, 505 E Kalamazoo Ave\, Suite 3\, Kalamazoo\, 49007
CATEGORIES:Birth Justice,Home
ATTACH;FMTTYPE=image/png:https://rootead.org/wp-content/uploads/2024/09/Diaper-Giveaway.png
END:VEVENT
BEGIN:VEVENT
DTSTART;TZID=UTC:20260514T100000
DTEND;TZID=UTC:20260514T120000
DTSTAMP:20260423T180528
CREATED:20260319T151142Z
LAST-MODIFIED:20260324T180442Z
UID:10000758-1778752800-1778760000@rootead.org
SUMMARY:Baby Café Open Hours - Virtual
DESCRIPTION:Nourish your baby. Nourish yourself. Find your community at Rootead’s Baby Café\nThursdays weekly from 10 AM – 12 PM \nThe Baby Café is a walk-in parent support group with lactation professionals present to provide support for baby feeding. This free service is available in partnership with Bronson Health Foundation and W.K. Kellogg Foundation. \n  \nDate: Weekly on Thursdays \nTime: 10am-12pm \nLocation: \n1st and 3rd Thursdays at the Baby Cafe\, Rootead Enrichment Center\, 505 East Kalamazoo Ave. Suite 0\, Kalamazoo\, MI 49007 \n2nd and 4th Thursdays\, Virtually. Join using this link. \n  \n 
URL:https://rootead.org/event/baby-cafe-open-hours-virtual/2026-05-14/
LOCATION:Rootead\, 505 E Kalamazoo Ave\, Suite 3\, Kalamazoo\, 49007
CATEGORIES:Birth Justice,Home
ATTACH;FMTTYPE=image/png:https://rootead.org/wp-content/uploads/2026/02/BabyCafeInfoCard.png
END:VEVENT
BEGIN:VEVENT
DTSTART;TZID=UTC:20260514T140000
DTEND;TZID=UTC:20260514T160000
DTSTAMP:20260423T180528
CREATED:20260324T181615Z
LAST-MODIFIED:20260324T181751Z
UID:10000999-1778767200-1778774400@rootead.org
SUMMARY:Pop Up Baby Café - El Concilio
DESCRIPTION:Join us for a pop up of our Baby Café at El Concilio!\nMarch 12th\, April 9th\, May 14th\, June 11th\, and July 9th from 2pm – 4pm \nThe Baby Café is a walk-in parent support group with lactation professionals present to provide support for baby feeding. This free service is available in partnership with Bronson Health Foundation and W.K. Kellogg Foundation. \n  \n 
URL:https://rootead.org/event/pop-up-baby-cafe-el-concilio/2026-05-14/
LOCATION:El Concilio\, 2501 Millcork St\, Kalamazoo\, Michigan\, 49001
CATEGORIES:Birth Justice,Home
ATTACH;FMTTYPE=image/png:https://rootead.org/wp-content/uploads/2026/03/Baby-Cafe-Pop-Up-El-Concilio-Spanish.png
END:VEVENT
BEGIN:VEVENT
DTSTART;TZID=UTC:20260520T100000
DTEND;TZID=UTC:20260520T113000
DTSTAMP:20260423T180528
CREATED:20260319T152008Z
LAST-MODIFIED:20260319T152008Z
UID:10000763-1779271200-1779276600@rootead.org
SUMMARY:Village Playdate
DESCRIPTION:Are you and your little(s) looking for a fun place to learn and play that focuses on inclusivity and community? Come join the village! \nVillage Playdates are weekly drop-ins with story time and activities to participate in at no cost. \n  \nVillage Playdates will be every Wednesday from 10 AM – 11:30 AM at the Kalamazoo Baby Café at Rootead\, 505 E Kalamazoo Ave\, Suite o. Kalamazoo MI 49007. \n  \n 
URL:https://rootead.org/event/village-playdate-may-20-2026/
LOCATION:Rootead\, 505 E Kalamazoo Ave\, Suite 3\, Kalamazoo\, 49007
CATEGORIES:Birth Justice,Home
ATTACH;FMTTYPE=image/png:https://rootead.org/wp-content/uploads/2026/02/Village-Playdates-Updated-Flyer.png
END:VEVENT
BEGIN:VEVENT
DTSTART;TZID=UTC:20260520T110000
DTEND;TZID=UTC:20260520T130000
DTSTAMP:20260423T180528
CREATED:20260324T172404Z
LAST-MODIFIED:20260324T172404Z
UID:10000771-1779274800-1779282000@rootead.org
SUMMARY:Diaper Giveaway @ Baby Café
DESCRIPTION:Diaper Giveaway Every Wednesday!\nDiaper giveaway will be every Wednesday from 11 AM -1 PM.  Come to the Village Playdates and also get free diapers! \nNewborn – 4t/ 5t Pull-ups ~ Limited supply\, first come first serve! \n 
URL:https://rootead.org/event/diaper-giveaway-may-20-2026/
LOCATION:Rootead\, 505 E Kalamazoo Ave\, Suite 3\, Kalamazoo\, 49007
CATEGORIES:Birth Justice,Home
ATTACH;FMTTYPE=image/png:https://rootead.org/wp-content/uploads/2024/09/Diaper-Giveaway.png
END:VEVENT
END:VCALENDAR