BEGIN:VCALENDAR
VERSION:2.0
PRODID:-//Rootead - ECPv6.15.20//NONSGML v1.0//EN
CALSCALE:GREGORIAN
METHOD:PUBLISH
X-ORIGINAL-URL:https://rootead.org
X-WR-CALDESC:Events for Rootead
REFRESH-INTERVAL;VALUE=DURATION:PT1H
X-Robots-Tag:noindex
X-PUBLISHED-TTL:PT1H
BEGIN:VTIMEZONE
TZID:UTC
BEGIN:STANDARD
TZOFFSETFROM:+0000
TZOFFSETTO:+0000
TZNAME:UTC
DTSTART:20260101T000000
END:STANDARD
END:VTIMEZONE
BEGIN:VEVENT
DTSTART;VALUE=DATE:20270317
DTEND;VALUE=DATE:20270318
DTSTAMP:20260424T115412
CREATED:20260421T141522Z
LAST-MODIFIED:20260421T141522Z
UID:10001007-1805241600-1805327999@rootead.org
SUMMARY:CLOSED: Following RYDDE Showcase
DESCRIPTION:Rootead Enrichment Center will be closed on Wednesday\, March 17th following the RYDDE Showcase. Staff will work remotely. We will resume regular hours on Thursday\, March 18th. \nProgramming will be temporarily paused during this period. \n 
URL:https://rootead.org/event/showcase-rest-2026/
LOCATION:Rootead\, 505 E Kalamazoo Ave\, Suite 3\, Kalamazoo\, 49007
CATEGORIES:Home
END:VEVENT
BEGIN:VEVENT
DTSTART;TZID=UTC:20270317T100000
DTEND;TZID=UTC:20270317T113000
DTSTAMP:20260424T115412
CREATED:20260319T152109Z
LAST-MODIFIED:20260324T180154Z
UID:10000875-1805277600-1805283000@rootead.org
SUMMARY:Village Playdate
DESCRIPTION:Are you and your little(s) looking for a fun place to learn and play that focuses on inclusivity and community? Come join the village! \nVillage Playdates are weekly drop-ins with story time and activities to participate in at no cost. \n  \nVillage Playdates will be every Wednesday from 10 AM – 11:30 AM at the Kalamazoo Baby Café at Rootead\, 505 E Kalamazoo Ave\, Suite o. Kalamazoo MI 49007. \n  \n 
URL:https://rootead.org/event/village-playdate-may-27-2026/2027-03-17/
LOCATION:Rootead\, 505 E Kalamazoo Ave\, Suite 3\, Kalamazoo\, 49007
CATEGORIES:Birth Justice,Home
ATTACH;FMTTYPE=image/png:https://rootead.org/wp-content/uploads/2026/02/Village-Playdates-Updated-Flyer.png
END:VEVENT
BEGIN:VEVENT
DTSTART;TZID=UTC:20270317T110000
DTEND;TZID=UTC:20270317T130000
DTSTAMP:20260424T115412
CREATED:20260324T172751Z
LAST-MODIFIED:20260324T180023Z
UID:10000814-1805281200-1805288400@rootead.org
SUMMARY:Diaper Giveaway @ Baby Café
DESCRIPTION:Diaper Giveaway Every Wednesday!\nDiaper giveaway will be every Wednesday from 11 AM -1 PM.  Come to the Village Playdates and also get free diapers! \nNewborn – 4t/ 5t Pull-ups ~ Limited supply\, first come first serve! \n 
URL:https://rootead.org/event/diaper-giveaway-jun-24-2026/2027-03-17/
LOCATION:Rootead\, 505 E Kalamazoo Ave\, Suite 3\, Kalamazoo\, 49007
CATEGORIES:Birth Justice,Home
ATTACH;FMTTYPE=image/png:https://rootead.org/wp-content/uploads/2024/09/Diaper-Giveaway.png
END:VEVENT
BEGIN:VEVENT
DTSTART;TZID=UTC:20270318T100000
DTEND;TZID=UTC:20270318T120000
DTSTAMP:20260424T115412
CREATED:20260319T151357Z
LAST-MODIFIED:20260324T180640Z
UID:10000975-1805364000-1805371200@rootead.org
SUMMARY:Baby Café Open Hours - In Person
DESCRIPTION:Nourish your baby. Nourish yourself. Find your community at Rootead’s Baby Café\nThursdays weekly from 10 AM – 12 PM \nThe Baby Café is a walk-in parent support group with lactation professionals present to provide support for baby feeding. This free service is available in partnership with Bronson Health Foundation and W.K. Kellogg Foundation. \n  \nDate: Weekly on Thursdays \nTime: 10am-12pm \nLocation: \n1st and 3rd Thursdays at the Baby Cafe\, Rootead Enrichment Center\, 505 East Kalamazoo Ave. Suite 0\, Kalamazoo\, MI 49007 \n2nd and 4th Thursdays\, Virtually. Join using this link. \n  \n 
URL:https://rootead.org/event/baby-cafe-open-hours-spring-2026/2027-03-18/
LOCATION:Rootead\, 505 E Kalamazoo Ave\, Suite 3\, Kalamazoo\, 49007
CATEGORIES:Birth Justice,Home
ATTACH;FMTTYPE=image/png:https://rootead.org/wp-content/uploads/2026/02/BabyCafeInfoCard.png
END:VEVENT
BEGIN:VEVENT
DTSTART;TZID=UTC:20270324T100000
DTEND;TZID=UTC:20270324T113000
DTSTAMP:20260424T115412
CREATED:20260319T152109Z
LAST-MODIFIED:20260324T180154Z
UID:10000876-1805882400-1805887800@rootead.org
SUMMARY:Village Playdate
DESCRIPTION:Are you and your little(s) looking for a fun place to learn and play that focuses on inclusivity and community? Come join the village! \nVillage Playdates are weekly drop-ins with story time and activities to participate in at no cost. \n  \nVillage Playdates will be every Wednesday from 10 AM – 11:30 AM at the Kalamazoo Baby Café at Rootead\, 505 E Kalamazoo Ave\, Suite o. Kalamazoo MI 49007. \n  \n 
URL:https://rootead.org/event/village-playdate-may-27-2026/2027-03-24/
LOCATION:Rootead\, 505 E Kalamazoo Ave\, Suite 3\, Kalamazoo\, 49007
CATEGORIES:Birth Justice,Home
ATTACH;FMTTYPE=image/png:https://rootead.org/wp-content/uploads/2026/02/Village-Playdates-Updated-Flyer.png
END:VEVENT
BEGIN:VEVENT
DTSTART;TZID=UTC:20270324T110000
DTEND;TZID=UTC:20270324T130000
DTSTAMP:20260424T115412
CREATED:20260324T172751Z
LAST-MODIFIED:20260324T180023Z
UID:10000815-1805886000-1805893200@rootead.org
SUMMARY:Diaper Giveaway @ Baby Café
DESCRIPTION:Diaper Giveaway Every Wednesday!\nDiaper giveaway will be every Wednesday from 11 AM -1 PM.  Come to the Village Playdates and also get free diapers! \nNewborn – 4t/ 5t Pull-ups ~ Limited supply\, first come first serve! \n 
URL:https://rootead.org/event/diaper-giveaway-jun-24-2026/2027-03-24/
LOCATION:Rootead\, 505 E Kalamazoo Ave\, Suite 3\, Kalamazoo\, 49007
CATEGORIES:Birth Justice,Home
ATTACH;FMTTYPE=image/png:https://rootead.org/wp-content/uploads/2024/09/Diaper-Giveaway.png
END:VEVENT
BEGIN:VEVENT
DTSTART;TZID=UTC:20270331T100000
DTEND;TZID=UTC:20270331T113000
DTSTAMP:20260424T115412
CREATED:20260319T152109Z
LAST-MODIFIED:20260324T180154Z
UID:10000877-1806487200-1806492600@rootead.org
SUMMARY:Village Playdate
DESCRIPTION:Are you and your little(s) looking for a fun place to learn and play that focuses on inclusivity and community? Come join the village! \nVillage Playdates are weekly drop-ins with story time and activities to participate in at no cost. \n  \nVillage Playdates will be every Wednesday from 10 AM – 11:30 AM at the Kalamazoo Baby Café at Rootead\, 505 E Kalamazoo Ave\, Suite o. Kalamazoo MI 49007. \n  \n 
URL:https://rootead.org/event/village-playdate-may-27-2026/2027-03-31/
LOCATION:Rootead\, 505 E Kalamazoo Ave\, Suite 3\, Kalamazoo\, 49007
CATEGORIES:Birth Justice,Home
ATTACH;FMTTYPE=image/png:https://rootead.org/wp-content/uploads/2026/02/Village-Playdates-Updated-Flyer.png
END:VEVENT
BEGIN:VEVENT
DTSTART;TZID=UTC:20270331T110000
DTEND;TZID=UTC:20270331T130000
DTSTAMP:20260424T115412
CREATED:20260324T172751Z
LAST-MODIFIED:20260324T180023Z
UID:10000816-1806490800-1806498000@rootead.org
SUMMARY:Diaper Giveaway @ Baby Café
DESCRIPTION:Diaper Giveaway Every Wednesday!\nDiaper giveaway will be every Wednesday from 11 AM -1 PM.  Come to the Village Playdates and also get free diapers! \nNewborn – 4t/ 5t Pull-ups ~ Limited supply\, first come first serve! \n 
URL:https://rootead.org/event/diaper-giveaway-jun-24-2026/2027-03-31/
LOCATION:Rootead\, 505 E Kalamazoo Ave\, Suite 3\, Kalamazoo\, 49007
CATEGORIES:Birth Justice,Home
ATTACH;FMTTYPE=image/png:https://rootead.org/wp-content/uploads/2024/09/Diaper-Giveaway.png
END:VEVENT
BEGIN:VEVENT
DTSTART;TZID=UTC:20270401T100000
DTEND;TZID=UTC:20270401T120000
DTSTAMP:20260424T115412
CREATED:20260319T150908Z
LAST-MODIFIED:20260324T180752Z
UID:10000990-1806573600-1806580800@rootead.org
SUMMARY:Baby Café Open Hours - In Person
DESCRIPTION:Nourish your baby. Nourish yourself. Find your community at Rootead’s Baby Café\nThursdays weekly from 10 AM – 12 PM \nThe Baby Café is a walk-in parent support group with lactation professionals present to provide support for baby feeding. This free service is available in partnership with Bronson Health Foundation and W.K. Kellogg Foundation. \n  \nDate: Weekly on Thursdays \nTime: 10am-12pm \nLocation: \n1st and 3rd Thursdays at the Baby Cafe\, Rootead Enrichment Center\, 505 East Kalamazoo Ave. Suite 0\, Kalamazoo\, MI 49007 \n2nd and 4th Thursdays\, Virtually. Join using this link. \n  \n 
URL:https://rootead.org/event/baby-cafe-open-hours-spring-2026-2/2027-04-01/
LOCATION:Rootead\, 505 E Kalamazoo Ave\, Suite 3\, Kalamazoo\, 49007
CATEGORIES:Birth Justice,Home
ATTACH;FMTTYPE=image/png:https://rootead.org/wp-content/uploads/2026/02/BabyCafeInfoCard.png
END:VEVENT
BEGIN:VEVENT
DTSTART;TZID=UTC:20270407T100000
DTEND;TZID=UTC:20270407T113000
DTSTAMP:20260424T115412
CREATED:20260319T152109Z
LAST-MODIFIED:20260324T180154Z
UID:10000878-1807092000-1807097400@rootead.org
SUMMARY:Village Playdate
DESCRIPTION:Are you and your little(s) looking for a fun place to learn and play that focuses on inclusivity and community? Come join the village! \nVillage Playdates are weekly drop-ins with story time and activities to participate in at no cost. \n  \nVillage Playdates will be every Wednesday from 10 AM – 11:30 AM at the Kalamazoo Baby Café at Rootead\, 505 E Kalamazoo Ave\, Suite o. Kalamazoo MI 49007. \n  \n 
URL:https://rootead.org/event/village-playdate-may-27-2026/2027-04-07/
LOCATION:Rootead\, 505 E Kalamazoo Ave\, Suite 3\, Kalamazoo\, 49007
CATEGORIES:Birth Justice,Home
ATTACH;FMTTYPE=image/png:https://rootead.org/wp-content/uploads/2026/02/Village-Playdates-Updated-Flyer.png
END:VEVENT
BEGIN:VEVENT
DTSTART;TZID=UTC:20270407T110000
DTEND;TZID=UTC:20270407T130000
DTSTAMP:20260424T115412
CREATED:20260324T172751Z
LAST-MODIFIED:20260324T180023Z
UID:10000817-1807095600-1807102800@rootead.org
SUMMARY:Diaper Giveaway @ Baby Café
DESCRIPTION:Diaper Giveaway Every Wednesday!\nDiaper giveaway will be every Wednesday from 11 AM -1 PM.  Come to the Village Playdates and also get free diapers! \nNewborn – 4t/ 5t Pull-ups ~ Limited supply\, first come first serve! \n 
URL:https://rootead.org/event/diaper-giveaway-jun-24-2026/2027-04-07/
LOCATION:Rootead\, 505 E Kalamazoo Ave\, Suite 3\, Kalamazoo\, 49007
CATEGORIES:Birth Justice,Home
ATTACH;FMTTYPE=image/png:https://rootead.org/wp-content/uploads/2024/09/Diaper-Giveaway.png
END:VEVENT
BEGIN:VEVENT
DTSTART;TZID=UTC:20270408T100000
DTEND;TZID=UTC:20270408T120000
DTSTAMP:20260424T115412
CREATED:20260319T151142Z
LAST-MODIFIED:20260324T180442Z
UID:10000962-1807178400-1807185600@rootead.org
SUMMARY:Baby Café Open Hours - Virtual
DESCRIPTION:Nourish your baby. Nourish yourself. Find your community at Rootead’s Baby Café\nThursdays weekly from 10 AM – 12 PM \nThe Baby Café is a walk-in parent support group with lactation professionals present to provide support for baby feeding. This free service is available in partnership with Bronson Health Foundation and W.K. Kellogg Foundation. \n  \nDate: Weekly on Thursdays \nTime: 10am-12pm \nLocation: \n1st and 3rd Thursdays at the Baby Cafe\, Rootead Enrichment Center\, 505 East Kalamazoo Ave. Suite 0\, Kalamazoo\, MI 49007 \n2nd and 4th Thursdays\, Virtually. Join using this link. \n  \n 
URL:https://rootead.org/event/baby-cafe-open-hours-virtual/2027-04-08/
LOCATION:Rootead\, 505 E Kalamazoo Ave\, Suite 3\, Kalamazoo\, 49007
CATEGORIES:Birth Justice,Home
ATTACH;FMTTYPE=image/png:https://rootead.org/wp-content/uploads/2026/02/BabyCafeInfoCard.png
END:VEVENT
BEGIN:VEVENT
DTSTART;TZID=UTC:20270414T100000
DTEND;TZID=UTC:20270414T113000
DTSTAMP:20260424T115412
CREATED:20260319T152109Z
LAST-MODIFIED:20260324T180154Z
UID:10000879-1807696800-1807702200@rootead.org
SUMMARY:Village Playdate
DESCRIPTION:Are you and your little(s) looking for a fun place to learn and play that focuses on inclusivity and community? Come join the village! \nVillage Playdates are weekly drop-ins with story time and activities to participate in at no cost. \n  \nVillage Playdates will be every Wednesday from 10 AM – 11:30 AM at the Kalamazoo Baby Café at Rootead\, 505 E Kalamazoo Ave\, Suite o. Kalamazoo MI 49007. \n  \n 
URL:https://rootead.org/event/village-playdate-may-27-2026/2027-04-14/
LOCATION:Rootead\, 505 E Kalamazoo Ave\, Suite 3\, Kalamazoo\, 49007
CATEGORIES:Birth Justice,Home
ATTACH;FMTTYPE=image/png:https://rootead.org/wp-content/uploads/2026/02/Village-Playdates-Updated-Flyer.png
END:VEVENT
BEGIN:VEVENT
DTSTART;TZID=UTC:20270414T110000
DTEND;TZID=UTC:20270414T130000
DTSTAMP:20260424T115412
CREATED:20260324T172751Z
LAST-MODIFIED:20260324T180023Z
UID:10000818-1807700400-1807707600@rootead.org
SUMMARY:Diaper Giveaway @ Baby Café
DESCRIPTION:Diaper Giveaway Every Wednesday!\nDiaper giveaway will be every Wednesday from 11 AM -1 PM.  Come to the Village Playdates and also get free diapers! \nNewborn – 4t/ 5t Pull-ups ~ Limited supply\, first come first serve! \n 
URL:https://rootead.org/event/diaper-giveaway-jun-24-2026/2027-04-14/
LOCATION:Rootead\, 505 E Kalamazoo Ave\, Suite 3\, Kalamazoo\, 49007
CATEGORIES:Birth Justice,Home
ATTACH;FMTTYPE=image/png:https://rootead.org/wp-content/uploads/2024/09/Diaper-Giveaway.png
END:VEVENT
BEGIN:VEVENT
DTSTART;TZID=UTC:20270415T100000
DTEND;TZID=UTC:20270415T120000
DTSTAMP:20260424T115412
CREATED:20260319T151357Z
LAST-MODIFIED:20260324T180640Z
UID:10000976-1807783200-1807790400@rootead.org
SUMMARY:Baby Café Open Hours - In Person
DESCRIPTION:Nourish your baby. Nourish yourself. Find your community at Rootead’s Baby Café\nThursdays weekly from 10 AM – 12 PM \nThe Baby Café is a walk-in parent support group with lactation professionals present to provide support for baby feeding. This free service is available in partnership with Bronson Health Foundation and W.K. Kellogg Foundation. \n  \nDate: Weekly on Thursdays \nTime: 10am-12pm \nLocation: \n1st and 3rd Thursdays at the Baby Cafe\, Rootead Enrichment Center\, 505 East Kalamazoo Ave. Suite 0\, Kalamazoo\, MI 49007 \n2nd and 4th Thursdays\, Virtually. Join using this link. \n  \n 
URL:https://rootead.org/event/baby-cafe-open-hours-spring-2026/2027-04-15/
LOCATION:Rootead\, 505 E Kalamazoo Ave\, Suite 3\, Kalamazoo\, 49007
CATEGORIES:Birth Justice,Home
ATTACH;FMTTYPE=image/png:https://rootead.org/wp-content/uploads/2026/02/BabyCafeInfoCard.png
END:VEVENT
BEGIN:VEVENT
DTSTART;TZID=UTC:20270421T100000
DTEND;TZID=UTC:20270421T113000
DTSTAMP:20260424T115412
CREATED:20260319T152109Z
LAST-MODIFIED:20260324T180154Z
UID:10000880-1808301600-1808307000@rootead.org
SUMMARY:Village Playdate
DESCRIPTION:Are you and your little(s) looking for a fun place to learn and play that focuses on inclusivity and community? Come join the village! \nVillage Playdates are weekly drop-ins with story time and activities to participate in at no cost. \n  \nVillage Playdates will be every Wednesday from 10 AM – 11:30 AM at the Kalamazoo Baby Café at Rootead\, 505 E Kalamazoo Ave\, Suite o. Kalamazoo MI 49007. \n  \n 
URL:https://rootead.org/event/village-playdate-may-27-2026/2027-04-21/
LOCATION:Rootead\, 505 E Kalamazoo Ave\, Suite 3\, Kalamazoo\, 49007
CATEGORIES:Birth Justice,Home
ATTACH;FMTTYPE=image/png:https://rootead.org/wp-content/uploads/2026/02/Village-Playdates-Updated-Flyer.png
END:VEVENT
BEGIN:VEVENT
DTSTART;TZID=UTC:20270421T110000
DTEND;TZID=UTC:20270421T130000
DTSTAMP:20260424T115412
CREATED:20260324T172751Z
LAST-MODIFIED:20260324T180023Z
UID:10000819-1808305200-1808312400@rootead.org
SUMMARY:Diaper Giveaway @ Baby Café
DESCRIPTION:Diaper Giveaway Every Wednesday!\nDiaper giveaway will be every Wednesday from 11 AM -1 PM.  Come to the Village Playdates and also get free diapers! \nNewborn – 4t/ 5t Pull-ups ~ Limited supply\, first come first serve! \n 
URL:https://rootead.org/event/diaper-giveaway-jun-24-2026/2027-04-21/
LOCATION:Rootead\, 505 E Kalamazoo Ave\, Suite 3\, Kalamazoo\, 49007
CATEGORIES:Birth Justice,Home
ATTACH;FMTTYPE=image/png:https://rootead.org/wp-content/uploads/2024/09/Diaper-Giveaway.png
END:VEVENT
BEGIN:VEVENT
DTSTART;TZID=UTC:20270428T100000
DTEND;TZID=UTC:20270428T113000
DTSTAMP:20260424T115412
CREATED:20260319T152109Z
LAST-MODIFIED:20260324T180154Z
UID:10000881-1808906400-1808911800@rootead.org
SUMMARY:Village Playdate
DESCRIPTION:Are you and your little(s) looking for a fun place to learn and play that focuses on inclusivity and community? Come join the village! \nVillage Playdates are weekly drop-ins with story time and activities to participate in at no cost. \n  \nVillage Playdates will be every Wednesday from 10 AM – 11:30 AM at the Kalamazoo Baby Café at Rootead\, 505 E Kalamazoo Ave\, Suite o. Kalamazoo MI 49007. \n  \n 
URL:https://rootead.org/event/village-playdate-may-27-2026/2027-04-28/
LOCATION:Rootead\, 505 E Kalamazoo Ave\, Suite 3\, Kalamazoo\, 49007
CATEGORIES:Birth Justice,Home
ATTACH;FMTTYPE=image/png:https://rootead.org/wp-content/uploads/2026/02/Village-Playdates-Updated-Flyer.png
END:VEVENT
BEGIN:VEVENT
DTSTART;TZID=UTC:20270428T110000
DTEND;TZID=UTC:20270428T130000
DTSTAMP:20260424T115412
CREATED:20260324T172751Z
LAST-MODIFIED:20260324T180023Z
UID:10000820-1808910000-1808917200@rootead.org
SUMMARY:Diaper Giveaway @ Baby Café
DESCRIPTION:Diaper Giveaway Every Wednesday!\nDiaper giveaway will be every Wednesday from 11 AM -1 PM.  Come to the Village Playdates and also get free diapers! \nNewborn – 4t/ 5t Pull-ups ~ Limited supply\, first come first serve! \n 
URL:https://rootead.org/event/diaper-giveaway-jun-24-2026/2027-04-28/
LOCATION:Rootead\, 505 E Kalamazoo Ave\, Suite 3\, Kalamazoo\, 49007
CATEGORIES:Birth Justice,Home
ATTACH;FMTTYPE=image/png:https://rootead.org/wp-content/uploads/2024/09/Diaper-Giveaway.png
END:VEVENT
BEGIN:VEVENT
DTSTART;TZID=UTC:20270505T100000
DTEND;TZID=UTC:20270505T113000
DTSTAMP:20260424T115412
CREATED:20260319T152109Z
LAST-MODIFIED:20260324T180154Z
UID:10000882-1809511200-1809516600@rootead.org
SUMMARY:Village Playdate
DESCRIPTION:Are you and your little(s) looking for a fun place to learn and play that focuses on inclusivity and community? Come join the village! \nVillage Playdates are weekly drop-ins with story time and activities to participate in at no cost. \n  \nVillage Playdates will be every Wednesday from 10 AM – 11:30 AM at the Kalamazoo Baby Café at Rootead\, 505 E Kalamazoo Ave\, Suite o. Kalamazoo MI 49007. \n  \n 
URL:https://rootead.org/event/village-playdate-may-27-2026/2027-05-05/
LOCATION:Rootead\, 505 E Kalamazoo Ave\, Suite 3\, Kalamazoo\, 49007
CATEGORIES:Birth Justice,Home
ATTACH;FMTTYPE=image/png:https://rootead.org/wp-content/uploads/2026/02/Village-Playdates-Updated-Flyer.png
END:VEVENT
BEGIN:VEVENT
DTSTART;TZID=UTC:20270505T110000
DTEND;TZID=UTC:20270505T130000
DTSTAMP:20260424T115412
CREATED:20260324T172751Z
LAST-MODIFIED:20260324T180023Z
UID:10000821-1809514800-1809522000@rootead.org
SUMMARY:Diaper Giveaway @ Baby Café
DESCRIPTION:Diaper Giveaway Every Wednesday!\nDiaper giveaway will be every Wednesday from 11 AM -1 PM.  Come to the Village Playdates and also get free diapers! \nNewborn – 4t/ 5t Pull-ups ~ Limited supply\, first come first serve! \n 
URL:https://rootead.org/event/diaper-giveaway-jun-24-2026/2027-05-05/
LOCATION:Rootead\, 505 E Kalamazoo Ave\, Suite 3\, Kalamazoo\, 49007
CATEGORIES:Birth Justice,Home
ATTACH;FMTTYPE=image/png:https://rootead.org/wp-content/uploads/2024/09/Diaper-Giveaway.png
END:VEVENT
BEGIN:VEVENT
DTSTART;TZID=UTC:20270506T100000
DTEND;TZID=UTC:20270506T120000
DTSTAMP:20260424T115412
CREATED:20260319T150908Z
LAST-MODIFIED:20260324T180752Z
UID:10000991-1809597600-1809604800@rootead.org
SUMMARY:Baby Café Open Hours - In Person
DESCRIPTION:Nourish your baby. Nourish yourself. Find your community at Rootead’s Baby Café\nThursdays weekly from 10 AM – 12 PM \nThe Baby Café is a walk-in parent support group with lactation professionals present to provide support for baby feeding. This free service is available in partnership with Bronson Health Foundation and W.K. Kellogg Foundation. \n  \nDate: Weekly on Thursdays \nTime: 10am-12pm \nLocation: \n1st and 3rd Thursdays at the Baby Cafe\, Rootead Enrichment Center\, 505 East Kalamazoo Ave. Suite 0\, Kalamazoo\, MI 49007 \n2nd and 4th Thursdays\, Virtually. Join using this link. \n  \n 
URL:https://rootead.org/event/baby-cafe-open-hours-spring-2026-2/2027-05-06/
LOCATION:Rootead\, 505 E Kalamazoo Ave\, Suite 3\, Kalamazoo\, 49007
CATEGORIES:Birth Justice,Home
ATTACH;FMTTYPE=image/png:https://rootead.org/wp-content/uploads/2026/02/BabyCafeInfoCard.png
END:VEVENT
BEGIN:VEVENT
DTSTART;TZID=UTC:20270512T100000
DTEND;TZID=UTC:20270512T113000
DTSTAMP:20260424T115412
CREATED:20260319T152109Z
LAST-MODIFIED:20260324T180154Z
UID:10000883-1810116000-1810121400@rootead.org
SUMMARY:Village Playdate
DESCRIPTION:Are you and your little(s) looking for a fun place to learn and play that focuses on inclusivity and community? Come join the village! \nVillage Playdates are weekly drop-ins with story time and activities to participate in at no cost. \n  \nVillage Playdates will be every Wednesday from 10 AM – 11:30 AM at the Kalamazoo Baby Café at Rootead\, 505 E Kalamazoo Ave\, Suite o. Kalamazoo MI 49007. \n  \n 
URL:https://rootead.org/event/village-playdate-may-27-2026/2027-05-12/
LOCATION:Rootead\, 505 E Kalamazoo Ave\, Suite 3\, Kalamazoo\, 49007
CATEGORIES:Birth Justice,Home
ATTACH;FMTTYPE=image/png:https://rootead.org/wp-content/uploads/2026/02/Village-Playdates-Updated-Flyer.png
END:VEVENT
BEGIN:VEVENT
DTSTART;TZID=UTC:20270512T110000
DTEND;TZID=UTC:20270512T130000
DTSTAMP:20260424T115412
CREATED:20260324T172751Z
LAST-MODIFIED:20260324T180023Z
UID:10000822-1810119600-1810126800@rootead.org
SUMMARY:Diaper Giveaway @ Baby Café
DESCRIPTION:Diaper Giveaway Every Wednesday!\nDiaper giveaway will be every Wednesday from 11 AM -1 PM.  Come to the Village Playdates and also get free diapers! \nNewborn – 4t/ 5t Pull-ups ~ Limited supply\, first come first serve! \n 
URL:https://rootead.org/event/diaper-giveaway-jun-24-2026/2027-05-12/
LOCATION:Rootead\, 505 E Kalamazoo Ave\, Suite 3\, Kalamazoo\, 49007
CATEGORIES:Birth Justice,Home
ATTACH;FMTTYPE=image/png:https://rootead.org/wp-content/uploads/2024/09/Diaper-Giveaway.png
END:VEVENT
BEGIN:VEVENT
DTSTART;TZID=UTC:20270513T100000
DTEND;TZID=UTC:20270513T120000
DTSTAMP:20260424T115412
CREATED:20260319T151142Z
LAST-MODIFIED:20260324T180442Z
UID:10000963-1810202400-1810209600@rootead.org
SUMMARY:Baby Café Open Hours - Virtual
DESCRIPTION:Nourish your baby. Nourish yourself. Find your community at Rootead’s Baby Café\nThursdays weekly from 10 AM – 12 PM \nThe Baby Café is a walk-in parent support group with lactation professionals present to provide support for baby feeding. This free service is available in partnership with Bronson Health Foundation and W.K. Kellogg Foundation. \n  \nDate: Weekly on Thursdays \nTime: 10am-12pm \nLocation: \n1st and 3rd Thursdays at the Baby Cafe\, Rootead Enrichment Center\, 505 East Kalamazoo Ave. Suite 0\, Kalamazoo\, MI 49007 \n2nd and 4th Thursdays\, Virtually. Join using this link. \n  \n 
URL:https://rootead.org/event/baby-cafe-open-hours-virtual/2027-05-13/
LOCATION:Rootead\, 505 E Kalamazoo Ave\, Suite 3\, Kalamazoo\, 49007
CATEGORIES:Birth Justice,Home
ATTACH;FMTTYPE=image/png:https://rootead.org/wp-content/uploads/2026/02/BabyCafeInfoCard.png
END:VEVENT
BEGIN:VEVENT
DTSTART;TZID=UTC:20270519T100000
DTEND;TZID=UTC:20270519T113000
DTSTAMP:20260424T115412
CREATED:20260319T152109Z
LAST-MODIFIED:20260324T180154Z
UID:10000884-1810720800-1810726200@rootead.org
SUMMARY:Village Playdate
DESCRIPTION:Are you and your little(s) looking for a fun place to learn and play that focuses on inclusivity and community? Come join the village! \nVillage Playdates are weekly drop-ins with story time and activities to participate in at no cost. \n  \nVillage Playdates will be every Wednesday from 10 AM – 11:30 AM at the Kalamazoo Baby Café at Rootead\, 505 E Kalamazoo Ave\, Suite o. Kalamazoo MI 49007. \n  \n 
URL:https://rootead.org/event/village-playdate-may-27-2026/2027-05-19/
LOCATION:Rootead\, 505 E Kalamazoo Ave\, Suite 3\, Kalamazoo\, 49007
CATEGORIES:Birth Justice,Home
ATTACH;FMTTYPE=image/png:https://rootead.org/wp-content/uploads/2026/02/Village-Playdates-Updated-Flyer.png
END:VEVENT
BEGIN:VEVENT
DTSTART;TZID=UTC:20270519T110000
DTEND;TZID=UTC:20270519T130000
DTSTAMP:20260424T115412
CREATED:20260324T172751Z
LAST-MODIFIED:20260324T180023Z
UID:10000823-1810724400-1810731600@rootead.org
SUMMARY:Diaper Giveaway @ Baby Café
DESCRIPTION:Diaper Giveaway Every Wednesday!\nDiaper giveaway will be every Wednesday from 11 AM -1 PM.  Come to the Village Playdates and also get free diapers! \nNewborn – 4t/ 5t Pull-ups ~ Limited supply\, first come first serve! \n 
URL:https://rootead.org/event/diaper-giveaway-jun-24-2026/2027-05-19/
LOCATION:Rootead\, 505 E Kalamazoo Ave\, Suite 3\, Kalamazoo\, 49007
CATEGORIES:Birth Justice,Home
ATTACH;FMTTYPE=image/png:https://rootead.org/wp-content/uploads/2024/09/Diaper-Giveaway.png
END:VEVENT
BEGIN:VEVENT
DTSTART;TZID=UTC:20270520T100000
DTEND;TZID=UTC:20270520T120000
DTSTAMP:20260424T115412
CREATED:20260319T151357Z
LAST-MODIFIED:20260324T180640Z
UID:10000977-1810807200-1810814400@rootead.org
SUMMARY:Baby Café Open Hours - In Person
DESCRIPTION:Nourish your baby. Nourish yourself. Find your community at Rootead’s Baby Café\nThursdays weekly from 10 AM – 12 PM \nThe Baby Café is a walk-in parent support group with lactation professionals present to provide support for baby feeding. This free service is available in partnership with Bronson Health Foundation and W.K. Kellogg Foundation. \n  \nDate: Weekly on Thursdays \nTime: 10am-12pm \nLocation: \n1st and 3rd Thursdays at the Baby Cafe\, Rootead Enrichment Center\, 505 East Kalamazoo Ave. Suite 0\, Kalamazoo\, MI 49007 \n2nd and 4th Thursdays\, Virtually. Join using this link. \n  \n 
URL:https://rootead.org/event/baby-cafe-open-hours-spring-2026/2027-05-20/
LOCATION:Rootead\, 505 E Kalamazoo Ave\, Suite 3\, Kalamazoo\, 49007
CATEGORIES:Birth Justice,Home
ATTACH;FMTTYPE=image/png:https://rootead.org/wp-content/uploads/2026/02/BabyCafeInfoCard.png
END:VEVENT
BEGIN:VEVENT
DTSTART;TZID=UTC:20270526T100000
DTEND;TZID=UTC:20270526T113000
DTSTAMP:20260424T115412
CREATED:20260319T152109Z
LAST-MODIFIED:20260324T180154Z
UID:10000885-1811325600-1811331000@rootead.org
SUMMARY:Village Playdate
DESCRIPTION:Are you and your little(s) looking for a fun place to learn and play that focuses on inclusivity and community? Come join the village! \nVillage Playdates are weekly drop-ins with story time and activities to participate in at no cost. \n  \nVillage Playdates will be every Wednesday from 10 AM – 11:30 AM at the Kalamazoo Baby Café at Rootead\, 505 E Kalamazoo Ave\, Suite o. Kalamazoo MI 49007. \n  \n 
URL:https://rootead.org/event/village-playdate-may-27-2026/2027-05-26/
LOCATION:Rootead\, 505 E Kalamazoo Ave\, Suite 3\, Kalamazoo\, 49007
CATEGORIES:Birth Justice,Home
ATTACH;FMTTYPE=image/png:https://rootead.org/wp-content/uploads/2026/02/Village-Playdates-Updated-Flyer.png
END:VEVENT
BEGIN:VEVENT
DTSTART;TZID=UTC:20270526T110000
DTEND;TZID=UTC:20270526T130000
DTSTAMP:20260424T115412
CREATED:20260324T172751Z
LAST-MODIFIED:20260324T180023Z
UID:10000824-1811329200-1811336400@rootead.org
SUMMARY:Diaper Giveaway @ Baby Café
DESCRIPTION:Diaper Giveaway Every Wednesday!\nDiaper giveaway will be every Wednesday from 11 AM -1 PM.  Come to the Village Playdates and also get free diapers! \nNewborn – 4t/ 5t Pull-ups ~ Limited supply\, first come first serve! \n 
URL:https://rootead.org/event/diaper-giveaway-jun-24-2026/2027-05-26/
LOCATION:Rootead\, 505 E Kalamazoo Ave\, Suite 3\, Kalamazoo\, 49007
CATEGORIES:Birth Justice,Home
ATTACH;FMTTYPE=image/png:https://rootead.org/wp-content/uploads/2024/09/Diaper-Giveaway.png
END:VEVENT
END:VCALENDAR