BEGIN:VCALENDAR
VERSION:2.0
PRODID:-//Rootead - ECPv6.15.20//NONSGML v1.0//EN
CALSCALE:GREGORIAN
METHOD:PUBLISH
X-WR-CALNAME:Rootead
X-ORIGINAL-URL:https://rootead.org
X-WR-CALDESC:Events for Rootead
REFRESH-INTERVAL;VALUE=DURATION:PT1H
X-Robots-Tag:noindex
X-PUBLISHED-TTL:PT1H
BEGIN:VTIMEZONE
TZID:UTC
BEGIN:STANDARD
TZOFFSETFROM:+0000
TZOFFSETTO:+0000
TZNAME:UTC
DTSTART:20210101T000000
END:STANDARD
END:VTIMEZONE
BEGIN:VEVENT
DTSTART;TZID=UTC:20220929T180000
DTEND;TZID=UTC:20220929T190000
DTSTAMP:20260423T234040
CREATED:20220830T184503Z
LAST-MODIFIED:20221012T184650Z
UID:10000012-1664474400-1664478000@rootead.org
SUMMARY:RYDDE Auditions
DESCRIPTION:Rootead Youth Drum & Dance Ensemble Auditions. For details\, email info@rootead.org
URL:https://rootead.org/event/rydde-auditions/
CATEGORIES:Youth Enrichment
ATTACH;FMTTYPE=image/png:https://rootead.org/wp-content/uploads/2022/08/RYDDE-Auditions.png
END:VEVENT
BEGIN:VEVENT
DTSTART;TZID=UTC:20220914T190000
DTEND;TZID=UTC:20220914T203000
DTSTAMP:20260423T234040
CREATED:20220810T212847Z
LAST-MODIFIED:20221012T184608Z
UID:10000009-1663182000-1663187400@rootead.org
SUMMARY:Adult Drum Circle
DESCRIPTION:Bring a drum & chair! RSVP or drop-in. $5 donation suggested. \nRegister Here
URL:https://rootead.org/event/adult-drum-circle-2/
LOCATION:Harrison Park\, Gull Rd\, Kalamazoo\, MI\, 49007\, United States
CATEGORIES:Community Healing
ATTACH;FMTTYPE=image/png:https://rootead.org/wp-content/uploads/2022/08/62b73db4fdb95d7e569ba84c_OKAY-TO-SHARE-Radicle-2.png
END:VEVENT
END:VCALENDAR