BEGIN:VCALENDAR
VERSION:2.0
PRODID:-//Rootead - ECPv6.15.20//NONSGML v1.0//EN
CALSCALE:GREGORIAN
METHOD:PUBLISH
X-WR-CALNAME:Rootead
X-ORIGINAL-URL:https://rootead.org
X-WR-CALDESC:Events for Rootead
REFRESH-INTERVAL;VALUE=DURATION:PT1H
X-Robots-Tag:noindex
X-PUBLISHED-TTL:PT1H
BEGIN:VTIMEZONE
TZID:UTC
BEGIN:STANDARD
TZOFFSETFROM:+0000
TZOFFSETTO:+0000
TZNAME:UTC
DTSTART:20220101T000000
END:STANDARD
END:VTIMEZONE
BEGIN:VEVENT
DTSTART;TZID=UTC:20231130T100000
DTEND;TZID=UTC:20231130T104500
DTSTAMP:20260426T021744
CREATED:20231005T193450Z
LAST-MODIFIED:20231107T150221Z
UID:10000137-1701338400-1701341100@rootead.org
SUMMARY:Embodied Families
DESCRIPTION:Embodied Families kicks off Thursday mornings at 10:00-10:45 am October through December\, and is a rotating selection of movement classes: \n\nJoyful Dancing Babies with Kama Tai Mitchell (bring your baby carrier!)\nInfant Massage with Tierene Inuolaji\nBaby and Me Yoga with Carmen James\nTumbling Toddlers also with Carmen James\n\nNov 30 –  Tumbling Toddlers with Carmen James (up to 4 yrs) \nCost: $10 / $5 with student ID (no one will be turned away)
URL:https://rootead.org/event/embodied-families-nov-3-2023/
LOCATION:Rootead\, 505 E Kalamazoo Ave\, Suite 3\, Kalamazoo\, 49007
CATEGORIES:Birth Justice,Home
ATTACH;FMTTYPE=image/png:https://rootead.org/wp-content/uploads/2023/10/Rootead-Embodied-Families-1.png
END:VEVENT
BEGIN:VEVENT
DTSTART;TZID=UTC:20231129T100000
DTEND;TZID=UTC:20231129T110000
DTSTAMP:20260426T021744
CREATED:20230907T180235Z
LAST-MODIFIED:20230907T180235Z
UID:10000120-1701252000-1701255600@rootead.org
SUMMARY:Village Playdate
DESCRIPTION:Are you and your little(s) looking for a fun place to learn and play that focuses on inclusivity and community? Come join the village! \n???? Village Playdates are weekly drop-ins with story time and activities to participate in at no cost. \n  \nVillage Playdates will be every Wednesday September 13th through December 20th (EXCEPT November 22nd) from 10 AM – 11 AM at Rootead’s studio. \n 
URL:https://rootead.org/event/village-playdate-nov29-2023/
LOCATION:Rootead\, 505 E Kalamazoo Ave\, Suite 3\, Kalamazoo\, 49007
CATEGORIES:Birth Justice,Home
ATTACH;FMTTYPE=image/png:https://rootead.org/wp-content/uploads/2023/09/Village-Playdates.png
END:VEVENT
BEGIN:VEVENT
DTSTART;TZID=UTC:20231128T180000
DTEND;TZID=UTC:20231128T190000
DTSTAMP:20260426T021744
CREATED:20231127T173201Z
LAST-MODIFIED:20240103T192315Z
UID:10000174-1701194400-1701198000@rootead.org
SUMMARY:Community Yoga
DESCRIPTION:Join us for our weekly Community Yoga! \n  \nBeginner-friendly yoga & movement. Everyone is welcome\, but these workshops will be intentional\, safe spaces for Black people and people of color. No special clothing or equipment required. We have yoga mats\, yoga blocks\, blankets\, and pillows for use. Please come as you are and deep breathe with us! \n  \nWhen: Tuesdays from 6pm – 7pm beginning October 3rd \nWhere: Rootead Studio \nCost: $10 / $5 with student ID / No one will be turned away \n 
URL:https://rootead.org/event/community-yoga-nov-28-2023/
LOCATION:Rootead\, 505 E Kalamazoo Ave\, Suite 3\, Kalamazoo\, 49007
CATEGORIES:Community Healing,Home
ATTACH;FMTTYPE=image/png:https://rootead.org/wp-content/uploads/2023/09/Rootead-Yoga-Sessions-2.png
END:VEVENT
BEGIN:VEVENT
DTSTART;TZID=UTC:20231118T100000
DTEND;TZID=UTC:20231118T130000
DTSTAMP:20260426T021744
CREATED:20230817T164543Z
LAST-MODIFIED:20230817T174442Z
UID:10000095-1700301600-1700312400@rootead.org
SUMMARY:Rootead in Youth - Fall Session
DESCRIPTION:Rootead in Youth (RIY) is a program for children ages 2 – 12 years old that includes instruction on movement\, songs\, rhythms\, and storytelling centering on the African Diaspora. \nRIY Fall Session 2023 will be Saturdays: October 7\, October 14\, October 21\, October 28\, November 4\, November 18 \nThe schedule for each RIY Saturday is: \n10:00am – 10:30am: 2 – 3 year olds \n10:45am – 11:15am: 4 – 5 year olds \n11:30am – 12:00pm: 6 – 8 year olds \n12:15pm – 1:00pm:  9 – 12 year olds \nThe cost for this program is $65. Scholarships are available. REGISTER HERE \nPlease email will@rootead.org with any questions.
URL:https://rootead.org/event/rootead-in-youth-fall-session-nov18/
LOCATION:Rootead\, 505 E Kalamazoo Ave\, Suite 3\, Kalamazoo\, 49007
CATEGORIES:Home,Youth Enrichment
ATTACH;FMTTYPE=image/jpeg:https://rootead.org/wp-content/uploads/2023/08/RIY_Fall2023.jpg
END:VEVENT
BEGIN:VEVENT
DTSTART;TZID=UTC:20231117T180000
DTEND;TZID=UTC:20231117T200000
DTSTAMP:20260426T021744
CREATED:20231026T210431Z
LAST-MODIFIED:20240103T192025Z
UID:10000170-1700244000-1700251200@rootead.org
SUMMARY:Speak Freely Fridays
DESCRIPTION:Join us for Speak Freely Fridays! \n  \nSpeak Freely Fridays are a Community Healing program. These are healing groups that are facilitated by a therapist from the Black & Brown Therapy Collective.  \nThird Fridays are Speak Freely Fridays for Men & Masc folx. \nTopic for November 17th is “Anxiety and Depression” led by Calvin Ruff\, LLMSW. \nFolks who attend the BBTC led Speak Freely Fridays will receive a gift pack and $10 after they attend. \nREGISTER HERE
URL:https://rootead.org/event/speak-freely-fridays-nov-17-2023/
LOCATION:Rootead\, 505 E Kalamazoo Ave\, Suite 3\, Kalamazoo\, 49007
CATEGORIES:Community Healing,Home
ATTACH;FMTTYPE=image/png:https://rootead.org/wp-content/uploads/2023/10/Speak-Freely-Third.png
END:VEVENT
BEGIN:VEVENT
DTSTART;TZID=UTC:20231117T090000
DTEND;TZID=UTC:20231117T110000
DTSTAMP:20260426T021744
CREATED:20231005T200308Z
LAST-MODIFIED:20231005T200308Z
UID:10000160-1700211600-1700218800@rootead.org
SUMMARY:Walk-In Lactation Support
DESCRIPTION:On Fridays from 9-11 AM\, we will host our drop-in breast- and chest-feeding support. Lactation consultants Tierene Inuolaji and Vanessa Moon are available to help you with anything from latching on basics or adjustments\, paced bottle feeding\, pumping help\, and more! \n 
URL:https://rootead.org/event/walk-in-lactation-support-nov-17-2023/
LOCATION:Rootead\, 505 E Kalamazoo Ave\, Suite 3\, Kalamazoo\, 49007
CATEGORIES:Birth Justice,Home
ATTACH;FMTTYPE=image/png:https://rootead.org/wp-content/uploads/2023/10/Rootead-Feeding-Support.png
END:VEVENT
BEGIN:VEVENT
DTSTART;TZID=UTC:20231116T110000
DTEND;TZID=UTC:20231116T120000
DTSTAMP:20260426T021744
CREATED:20231005T194930Z
LAST-MODIFIED:20231005T194930Z
UID:10000148-1700132400-1700136000@rootead.org
SUMMARY:Tea Time with Rootead
DESCRIPTION:At 11 am on Thursdays our doulas Erica Dixon and Stephanie Weatherspoon will facilitate conversations over tea. Come chat with other parents or ask our doulas questions about pregnancy\, birth\, postpartum\, and early childhood development and sip on some delicious tea! \n 
URL:https://rootead.org/event/tea-time-with-rootead-nov-16-2023/
LOCATION:Rootead\, 505 E Kalamazoo Ave\, Suite 3\, Kalamazoo\, 49007
CATEGORIES:Birth Justice,Home
ATTACH;FMTTYPE=image/png:https://rootead.org/wp-content/uploads/2023/10/Rootead-Tea-Time.png
END:VEVENT
BEGIN:VEVENT
DTSTART;TZID=UTC:20231116T100000
DTEND;TZID=UTC:20231116T104500
DTSTAMP:20260426T021744
CREATED:20231005T193353Z
LAST-MODIFIED:20231107T150319Z
UID:10000136-1700128800-1700131500@rootead.org
SUMMARY:Embodied Families
DESCRIPTION:Embodied Families kicks off Thursday mornings at 10:00-10:45 am October through December\, and is a rotating selection of movement classes: \n\nJoyful Dancing Babies with Kama Tai Mitchell (bring your baby carrier!)\nInfant Massage with Tierene Inuolaji\nBaby and Me Yoga with Carmen James\nTumbling Toddlers also with Carmen James\n\nNov 16  – Baby and Me Yoga with Carmen James (up to 18 mos) \nCost: $10 / $5 with student ID (no one will be turned away)
URL:https://rootead.org/event/embodied-families-nov-16-2023/
LOCATION:Rootead\, 505 E Kalamazoo Ave\, Suite 3\, Kalamazoo\, 49007
CATEGORIES:Birth Justice,Home
ATTACH;FMTTYPE=image/png:https://rootead.org/wp-content/uploads/2023/10/Rootead-Embodied-Families-1.png
END:VEVENT
BEGIN:VEVENT
DTSTART;TZID=UTC:20231115T100000
DTEND;TZID=UTC:20231115T110000
DTSTAMP:20260426T021744
CREATED:20230907T180138Z
LAST-MODIFIED:20230907T180138Z
UID:10000119-1700042400-1700046000@rootead.org
SUMMARY:Village Playdate
DESCRIPTION:Are you and your little(s) looking for a fun place to learn and play that focuses on inclusivity and community? Come join the village! \n???? Village Playdates are weekly drop-ins with story time and activities to participate in at no cost. \n  \nVillage Playdates will be every Wednesday September 13th through December 20th (EXCEPT November 22nd) from 10 AM – 11 AM at Rootead’s studio. \n 
URL:https://rootead.org/event/village-playdate-nov15-2023/
LOCATION:Rootead\, 505 E Kalamazoo Ave\, Suite 3\, Kalamazoo\, 49007
CATEGORIES:Birth Justice,Home
ATTACH;FMTTYPE=image/png:https://rootead.org/wp-content/uploads/2023/09/Village-Playdates.png
END:VEVENT
BEGIN:VEVENT
DTSTART;TZID=UTC:20231110T180000
DTEND;TZID=UTC:20231110T200000
DTSTAMP:20260426T021744
CREATED:20231026T210228Z
LAST-MODIFIED:20231113T171411Z
UID:10000169-1699639200-1699646400@rootead.org
SUMMARY:Speak Freely Fridays
DESCRIPTION:Join us for Speak Freely Fridays! \n  \nSpeak Freely Fridays are a Community Healing program. These are healing groups that are facilitated by a therapist from the Black & Brown Therapy Collective.  \nSecond Fridays\, 6pm – 8pm are Speak Freely Fridays for Women & Femmes. \nTopic for November 10th is “Anxiety and Depression” led by Tara Logan MA\, LLPC\, LLMFT. \nFolks who attend the BBTC led Speak Freely Fridays will receive a gift pack and $10 after they attend. \nREGISTER HERE
URL:https://rootead.org/event/speak-freely-fridays-nov-10-2023/
LOCATION:Rootead\, 505 E Kalamazoo Ave\, Suite 3\, Kalamazoo\, 49007
CATEGORIES:Community Healing,Home
ATTACH;FMTTYPE=image/png:https://rootead.org/wp-content/uploads/2023/10/Speak-Freely-Second.png
END:VEVENT
BEGIN:VEVENT
DTSTART;TZID=UTC:20231110T090000
DTEND;TZID=UTC:20231110T110000
DTSTAMP:20260426T021744
CREATED:20231005T200219Z
LAST-MODIFIED:20231005T200219Z
UID:10000159-1699606800-1699614000@rootead.org
SUMMARY:Walk-In Lactation Support
DESCRIPTION:On Fridays from 9-11 AM\, we will host our drop-in breast- and chest-feeding support. Lactation consultants Tierene Inuolaji and Vanessa Moon are available to help you with anything from latching on basics or adjustments\, paced bottle feeding\, pumping help\, and more! \n 
URL:https://rootead.org/event/walk-in-lactation-support-nov-10-2023/
LOCATION:Rootead\, 505 E Kalamazoo Ave\, Suite 3\, Kalamazoo\, 49007
CATEGORIES:Birth Justice,Home
ATTACH;FMTTYPE=image/png:https://rootead.org/wp-content/uploads/2023/10/Rootead-Feeding-Support.png
END:VEVENT
BEGIN:VEVENT
DTSTART;TZID=UTC:20231109T110000
DTEND;TZID=UTC:20231109T120000
DTSTAMP:20260426T021744
CREATED:20231005T194836Z
LAST-MODIFIED:20231005T194836Z
UID:10000147-1699527600-1699531200@rootead.org
SUMMARY:Tea Time with Rootead
DESCRIPTION:At 11 am on Thursdays our doulas Erica Dixon and Stephanie Weatherspoon will facilitate conversations over tea. Come chat with other parents or ask our doulas questions about pregnancy\, birth\, postpartum\, and early childhood development and sip on some delicious tea! \n 
URL:https://rootead.org/event/tea-time-with-rootead-nov-9-2023/
LOCATION:Rootead\, 505 E Kalamazoo Ave\, Suite 3\, Kalamazoo\, 49007
CATEGORIES:Birth Justice,Home
ATTACH;FMTTYPE=image/png:https://rootead.org/wp-content/uploads/2023/10/Rootead-Tea-Time.png
END:VEVENT
BEGIN:VEVENT
DTSTART;TZID=UTC:20231109T100000
DTEND;TZID=UTC:20231109T104500
DTSTAMP:20260426T021744
CREATED:20231005T193243Z
LAST-MODIFIED:20231107T150405Z
UID:10000135-1699524000-1699526700@rootead.org
SUMMARY:Embodied Families
DESCRIPTION:Embodied Families kicks off Thursday mornings at 10:00-10:45 am October through December\, and is a rotating selection of movement classes: \n\nJoyful Dancing Babies with Kama Tai Mitchell (bring your baby carrier!)\nInfant Massage with Tierene Inuolaji\nBaby and Me Yoga with Carmen James\nTumbling Toddlers also with Carmen James\n\nNov 9 –  Infant Massage with Tierene Inuolaji (for prenatal up to 6 months) \nCost: $10 / $5 with student ID (no one will be turned away)
URL:https://rootead.org/event/embodied-families-nov-9-2023/
LOCATION:Rootead\, 505 E Kalamazoo Ave\, Suite 3\, Kalamazoo\, 49007
CATEGORIES:Birth Justice,Home
ATTACH;FMTTYPE=image/png:https://rootead.org/wp-content/uploads/2023/10/Rootead-Embodied-Families-1.png
END:VEVENT
BEGIN:VEVENT
DTSTART;TZID=UTC:20231108T100000
DTEND;TZID=UTC:20231108T110000
DTSTAMP:20260426T021744
CREATED:20230907T180041Z
LAST-MODIFIED:20230907T180041Z
UID:10000118-1699437600-1699441200@rootead.org
SUMMARY:Village Playdate
DESCRIPTION:Are you and your little(s) looking for a fun place to learn and play that focuses on inclusivity and community? Come join the village! \n???? Village Playdates are weekly drop-ins with story time and activities to participate in at no cost. \n  \nVillage Playdates will be every Wednesday September 13th through December 20th (EXCEPT November 22nd) from 10 AM – 11 AM at Rootead’s studio. \n 
URL:https://rootead.org/event/village-playdate-nov8-2023/
LOCATION:Rootead\, 505 E Kalamazoo Ave\, Suite 3\, Kalamazoo\, 49007
CATEGORIES:Birth Justice,Home
ATTACH;FMTTYPE=image/png:https://rootead.org/wp-content/uploads/2023/09/Village-Playdates.png
END:VEVENT
BEGIN:VEVENT
DTSTART;TZID=UTC:20231107T180000
DTEND;TZID=UTC:20231107T190000
DTSTAMP:20260426T021744
CREATED:20230927T163851Z
LAST-MODIFIED:20240103T193057Z
UID:10000129-1699380000-1699383600@rootead.org
SUMMARY:Community Yoga
DESCRIPTION:Join us for our weekly Community Yoga! \n  \nBeginner-friendly yoga & movement. Everyone is welcome\, but these workshops will be intentional\, safe spaces for Black people and people of color. No special clothing or equipment required. We have yoga mats\, yoga blocks\, blankets\, and pillows for use. Please come as you are and deep breathe with us! \n  \nWhen: Tuesdays from 6pm – 7pm beginning October 3rd \nWhere: Rootead Studio \nCost: $10 / $5 with student ID / No one will be turned away \n 
URL:https://rootead.org/event/community-yoga-nov-7-2023/
LOCATION:Rootead\, 505 E Kalamazoo Ave\, Suite 3\, Kalamazoo\, 49007
CATEGORIES:Community Healing,Home
ATTACH;FMTTYPE=image/png:https://rootead.org/wp-content/uploads/2023/09/Rootead-Yoga-Sessions-2.png
END:VEVENT
BEGIN:VEVENT
DTSTART;TZID=UTC:20231104T100000
DTEND;TZID=UTC:20231104T130000
DTSTAMP:20260426T021744
CREATED:20230817T164451Z
LAST-MODIFIED:20230817T174507Z
UID:10000094-1699092000-1699102800@rootead.org
SUMMARY:Rootead in Youth - Fall Session
DESCRIPTION:Rootead in Youth (RIY) is a program for children ages 2 – 12 years old that includes instruction on movement\, songs\, rhythms\, and storytelling centering on the African Diaspora. \nRIY Fall Session 2023 will be Saturdays: October 7\, October 14\, October 21\, October 28\, November 4\, November 18 \nThe schedule for each RIY Saturday is: \n10:00am – 10:30am: 2 – 3 year olds \n10:45am – 11:15am: 4 – 5 year olds \n11:30am – 12:00pm: 6 – 8 year olds \n12:15pm – 1:00pm:  9 – 12 year olds \nThe cost for this program is $65. Scholarships are available. REGISTER HERE \nPlease email will@rootead.org with any questions.
URL:https://rootead.org/event/rootead-in-youth-fall-session-nov4/
LOCATION:Rootead\, 505 E Kalamazoo Ave\, Suite 3\, Kalamazoo\, 49007
CATEGORIES:Home,Youth Enrichment
ATTACH;FMTTYPE=image/jpeg:https://rootead.org/wp-content/uploads/2023/08/RIY_Fall2023.jpg
END:VEVENT
BEGIN:VEVENT
DTSTART;TZID=UTC:20231103T180000
DTEND;TZID=UTC:20231103T200000
DTSTAMP:20260426T021744
CREATED:20231026T150438Z
LAST-MODIFIED:20231107T163025Z
UID:10000168-1699034400-1699041600@rootead.org
SUMMARY:Speak Freely Fridays - Feeling Good
DESCRIPTION:Join us for Speak Freely Fridays! \n  \nSpeak Freely Fridays are a Community Healing program. These are healing groups that are facilitated by a therapist from the Black & Brown Therapy Collective.  \nFirst Fridays (November 3 and December 1) are Speak Freely Fridays – Feeling Good (for adults age 21+). These conversations are a Community Healing & Birth Justice collaboration. We’ll be discussing all things body and sexual health related (consent\, body autonomy\, menstruation & hormones\, sexual orientation\, gender identity\, gender roles\, relationships\, pleasure\, etc.). This will be a safe space for folks to share and learn from other folks. \nThe topic for November will be consent and bodily autonomy. \nFolks who attend the BBTC led Speak Freely Fridays will receive a gift pack and $10 after they attend. \nREGISTER HERE
URL:https://rootead.org/event/speak-freely-fridays-nov-3-2023/
LOCATION:Rootead\, 505 E Kalamazoo Ave\, Suite 3\, Kalamazoo\, 49007
CATEGORIES:Community Healing,Home
ATTACH;FMTTYPE=image/png:https://rootead.org/wp-content/uploads/2023/10/Speak-Freely-Friday-Template11.3.png
END:VEVENT
BEGIN:VEVENT
DTSTART;TZID=UTC:20231103T090000
DTEND;TZID=UTC:20231103T110000
DTSTAMP:20260426T021744
CREATED:20231005T200131Z
LAST-MODIFIED:20231005T200131Z
UID:10000158-1699002000-1699009200@rootead.org
SUMMARY:Walk-In Lactation Support
DESCRIPTION:On Fridays from 9-11 AM\, we will host our drop-in breast- and chest-feeding support. Lactation consultants Tierene Inuolaji and Vanessa Moon are available to help you with anything from latching on basics or adjustments\, paced bottle feeding\, pumping help\, and more! \n 
URL:https://rootead.org/event/walk-in-lactation-support-nov-3-2023/
LOCATION:Rootead\, 505 E Kalamazoo Ave\, Suite 3\, Kalamazoo\, 49007
CATEGORIES:Birth Justice,Home
ATTACH;FMTTYPE=image/png:https://rootead.org/wp-content/uploads/2023/10/Rootead-Feeding-Support.png
END:VEVENT
BEGIN:VEVENT
DTSTART;TZID=UTC:20231102T110000
DTEND;TZID=UTC:20231102T120000
DTSTAMP:20260426T021744
CREATED:20231005T194747Z
LAST-MODIFIED:20231005T194747Z
UID:10000146-1698922800-1698926400@rootead.org
SUMMARY:Tea Time with Rootead
DESCRIPTION:At 11 am on Thursdays our doulas Erica Dixon and Stephanie Weatherspoon will facilitate conversations over tea. Come chat with other parents or ask our doulas questions about pregnancy\, birth\, postpartum\, and early childhood development and sip on some delicious tea! \n 
URL:https://rootead.org/event/tea-time-with-rootead-nov-2-2023/
LOCATION:Rootead\, 505 E Kalamazoo Ave\, Suite 3\, Kalamazoo\, 49007
CATEGORIES:Birth Justice,Home
ATTACH;FMTTYPE=image/png:https://rootead.org/wp-content/uploads/2023/10/Rootead-Tea-Time.png
END:VEVENT
BEGIN:VEVENT
DTSTART;TZID=UTC:20231102T100000
DTEND;TZID=UTC:20231102T104500
DTSTAMP:20260426T021744
CREATED:20231005T192820Z
LAST-MODIFIED:20231107T150450Z
UID:10000134-1698919200-1698921900@rootead.org
SUMMARY:Embodied Families
DESCRIPTION:Embodied Families kicks off Thursday mornings at 10:00-10:45 am October through December\, and is a rotating selection of movement classes: \n\nJoyful Dancing Babies with Kama Tai Mitchell (bring your baby carrier!)\nInfant Massage with Tierene Inuolaji\nBaby and Me Yoga with Carmen James\nTumbling Toddlers also with Carmen James\n\nNov 2 –  Babywearing Dancing with Kama Tai Mitchell (bring child and carrier!) \nCost: $10 / $5 with student ID (no one will be turned away)
URL:https://rootead.org/event/embodied-families-nov-2-2023/
LOCATION:Rootead\, 505 E Kalamazoo Ave\, Suite 3\, Kalamazoo\, 49007
CATEGORIES:Birth Justice,Home
ATTACH;FMTTYPE=image/png:https://rootead.org/wp-content/uploads/2023/10/Rootead-Embodied-Families-1.png
END:VEVENT
BEGIN:VEVENT
DTSTART;TZID=UTC:20231101T100000
DTEND;TZID=UTC:20231101T110000
DTSTAMP:20260426T021744
CREATED:20230907T175917Z
LAST-MODIFIED:20230907T175917Z
UID:10000117-1698832800-1698836400@rootead.org
SUMMARY:Village Playdate
DESCRIPTION:Are you and your little(s) looking for a fun place to learn and play that focuses on inclusivity and community? Come join the village! \n???? Village Playdates are weekly drop-ins with story time and activities to participate in at no cost. \n  \nVillage Playdates will be every Wednesday September 13th through December 20th (EXCEPT November 22nd) from 10 AM – 11 AM at Rootead’s studio. \n 
URL:https://rootead.org/event/village-playdate-nov1-2023/
LOCATION:Rootead\, 505 E Kalamazoo Ave\, Suite 3\, Kalamazoo\, 49007
CATEGORIES:Birth Justice,Home
ATTACH;FMTTYPE=image/png:https://rootead.org/wp-content/uploads/2023/09/Village-Playdates.png
END:VEVENT
BEGIN:VEVENT
DTSTART;TZID=UTC:20231031T180000
DTEND;TZID=UTC:20231031T190000
DTSTAMP:20260426T021744
CREATED:20230927T163723Z
LAST-MODIFIED:20231107T162945Z
UID:10000128-1698775200-1698778800@rootead.org
SUMMARY:Community Yoga
DESCRIPTION:Join us for our weekly Community Yoga! \n  \nBeginner-friendly yoga & movement. Everyone is welcome\, but these workshops will be intentional\, safe spaces for Black people and people of color. No special clothing or equipment required. We have yoga mats\, yoga blocks\, blankets\, and pillows for use. Please come as you are and deep breathe with us! \n  \nWhen: Tuesdays from 6pm – 7pm beginning October 3rd \nWhere: Rootead Studio \nCost: $10 / $5 with student ID / No one will be turned away \n 
URL:https://rootead.org/event/community-yoga-oct-31-2023/
LOCATION:Rootead\, 505 E Kalamazoo Ave\, Suite 3\, Kalamazoo\, 49007
CATEGORIES:Community Healing,Home
ATTACH;FMTTYPE=image/png:https://rootead.org/wp-content/uploads/2023/09/Rootead-Yoga-Sessions-2.png
END:VEVENT
BEGIN:VEVENT
DTSTART;TZID=UTC:20231028T100000
DTEND;TZID=UTC:20231028T130000
DTSTAMP:20260426T021744
CREATED:20230817T164338Z
LAST-MODIFIED:20230817T174549Z
UID:10000093-1698487200-1698498000@rootead.org
SUMMARY:Rootead in Youth - Fall Session
DESCRIPTION:Rootead in Youth (RIY) is a program for children ages 2 – 12 years old that includes instruction on movement\, songs\, rhythms\, and storytelling centering on the African Diaspora. \nRIY Fall Session 2023 will be Saturdays: October 7\, October 14\, October 21\, October 28\, November 4\, November 18 \nThe schedule for each RIY Saturday is: \n10:00am – 10:30am: 2 – 3 year olds \n10:45am – 11:15am: 4 – 5 year olds \n11:30am – 12:00pm: 6 – 8 year olds \n12:15pm – 1:00pm:  9 – 12 year olds \nThe cost for this program is $65. Scholarships are available. REGISTER HERE \nPlease email will@rootead.org with any questions.
URL:https://rootead.org/event/rootead-in-youth-fall-session-oct28/
LOCATION:Rootead\, 505 E Kalamazoo Ave\, Suite 3\, Kalamazoo\, 49007
CATEGORIES:Home,Youth Enrichment
ATTACH;FMTTYPE=image/jpeg:https://rootead.org/wp-content/uploads/2023/08/RIY_Fall2023.jpg
END:VEVENT
BEGIN:VEVENT
DTSTART;TZID=UTC:20231027T090000
DTEND;TZID=UTC:20231027T110000
DTSTAMP:20260426T021744
CREATED:20231005T200042Z
LAST-MODIFIED:20231005T200042Z
UID:10000157-1698397200-1698404400@rootead.org
SUMMARY:Walk-In Lactation Support
DESCRIPTION:On Fridays from 9-11 AM\, we will host our drop-in breast- and chest-feeding support. Lactation consultants Tierene Inuolaji and Vanessa Moon are available to help you with anything from latching on basics or adjustments\, paced bottle feeding\, pumping help\, and more! \n 
URL:https://rootead.org/event/walk-in-lactation-support-oct-27-2023/
LOCATION:Rootead\, 505 E Kalamazoo Ave\, Suite 3\, Kalamazoo\, 49007
CATEGORIES:Birth Justice,Home
ATTACH;FMTTYPE=image/png:https://rootead.org/wp-content/uploads/2023/10/Rootead-Feeding-Support.png
END:VEVENT
BEGIN:VEVENT
DTSTART;TZID=UTC:20231026T110000
DTEND;TZID=UTC:20231026T120000
DTSTAMP:20260426T021744
CREATED:20231005T194656Z
LAST-MODIFIED:20231005T194656Z
UID:10000145-1698318000-1698321600@rootead.org
SUMMARY:Tea Time with Rootead
DESCRIPTION:At 11 am on Thursdays our doulas Erica Dixon and Stephanie Weatherspoon will facilitate conversations over tea. Come chat with other parents or ask our doulas questions about pregnancy\, birth\, postpartum\, and early childhood development and sip on some delicious tea! \n 
URL:https://rootead.org/event/tea-time-with-rootead-oct-26-2023/
LOCATION:Rootead\, 505 E Kalamazoo Ave\, Suite 3\, Kalamazoo\, 49007
CATEGORIES:Birth Justice,Home
ATTACH;FMTTYPE=image/png:https://rootead.org/wp-content/uploads/2023/10/Rootead-Tea-Time.png
END:VEVENT
BEGIN:VEVENT
DTSTART;TZID=UTC:20231026T100000
DTEND;TZID=UTC:20231026T104500
DTSTAMP:20260426T021744
CREATED:20231005T192733Z
LAST-MODIFIED:20231107T150534Z
UID:10000133-1698314400-1698317100@rootead.org
SUMMARY:Embodied Families
DESCRIPTION:Embodied Families kicks off Thursday mornings at 10:00-10:45 am October through December\, and is a rotating selection of movement classes: \n\nJoyful Dancing Babies with Kama Tai Mitchell (bring your baby carrier!)\nInfant Massage with Tierene Inuolaji\nBaby and Me Yoga with Carmen James\nTumbling Toddlers also with Carmen James\n\n  \nCost: $10 / $5 with student ID (no one will be turned away)
URL:https://rootead.org/event/embodied-families/
LOCATION:Rootead\, 505 E Kalamazoo Ave\, Suite 3\, Kalamazoo\, 49007
CATEGORIES:Birth Justice,Home
ATTACH;FMTTYPE=image/png:https://rootead.org/wp-content/uploads/2023/10/Rootead-Embodied-Families-1.png
END:VEVENT
BEGIN:VEVENT
DTSTART;TZID=UTC:20231025T100000
DTEND;TZID=UTC:20231025T110000
DTSTAMP:20260426T021744
CREATED:20230907T175815Z
LAST-MODIFIED:20230907T175815Z
UID:10000116-1698228000-1698231600@rootead.org
SUMMARY:Village Playdate
DESCRIPTION:Are you and your little(s) looking for a fun place to learn and play that focuses on inclusivity and community? Come join the village! \n???? Village Playdates are weekly drop-ins with story time and activities to participate in at no cost. \n  \nVillage Playdates will be every Wednesday September 13th through December 20th (EXCEPT November 22nd) from 10 AM – 11 AM at Rootead’s studio. \n 
URL:https://rootead.org/event/village-playdate-oct25-2023/
LOCATION:Rootead\, 505 E Kalamazoo Ave\, Suite 3\, Kalamazoo\, 49007
CATEGORIES:Birth Justice,Home
ATTACH;FMTTYPE=image/png:https://rootead.org/wp-content/uploads/2023/09/Village-Playdates.png
END:VEVENT
BEGIN:VEVENT
DTSTART;TZID=UTC:20231024T180000
DTEND;TZID=UTC:20231024T190000
DTSTAMP:20260426T021744
CREATED:20230927T163611Z
LAST-MODIFIED:20231026T143627Z
UID:10000127-1698170400-1698174000@rootead.org
SUMMARY:Community Yoga
DESCRIPTION:Join us for our weekly Community Yoga! \n  \nBeginner-friendly yoga & movement. Everyone is welcome\, but these workshops will be intentional\, safe spaces for Black people and people of color. No special clothing or equipment required. We have yoga mats\, yoga blocks\, blankets\, and pillows for use. Please come as you are and deep breathe with us! \n  \nWhen: Tuesdays from 6pm – 7pm beginning October 3rd \nWhere: Rootead Studio \nCost: $10 / $5 with student ID / No one will be turned away \n  \n 
URL:https://rootead.org/event/community-yoga-oct-24/
LOCATION:Rootead\, 505 E Kalamazoo Ave\, Suite 3\, Kalamazoo\, 49007
CATEGORIES:Community Healing,Home
ATTACH;FMTTYPE=image/png:https://rootead.org/wp-content/uploads/2023/09/Rootead-Yoga-Sessions-2.png
END:VEVENT
BEGIN:VEVENT
DTSTART;TZID=UTC:20231021T100000
DTEND;TZID=UTC:20231021T130000
DTSTAMP:20260426T021744
CREATED:20230817T164227Z
LAST-MODIFIED:20230817T174629Z
UID:10000092-1697882400-1697893200@rootead.org
SUMMARY:Rootead in Youth - Fall Session
DESCRIPTION:Rootead in Youth (RIY) is a program for children ages 2 – 12 years old that includes instruction on movement\, songs\, rhythms\, and storytelling centering on the African Diaspora. \nRIY Fall Session 2023 will be Saturdays: October 7\, October 14\, October 21\, October 28\, November 4\, November 18 \nThe schedule for each RIY Saturday is: \n10:00am – 10:30am: 2 – 3 year olds \n10:45am – 11:15am: 4 – 5 year olds \n11:30am – 12:00pm: 6 – 8 year olds \n12:15pm – 1:00pm:  9 – 12 year olds \nThe cost for this program is $65. Scholarships are available. REGISTER HERE \nPlease email will@rootead.org with any questions.
URL:https://rootead.org/event/rootead-in-youth-fall-session-oct21/
LOCATION:Rootead\, 505 E Kalamazoo Ave\, Suite 3\, Kalamazoo\, 49007
CATEGORIES:Home,Youth Enrichment
ATTACH;FMTTYPE=image/jpeg:https://rootead.org/wp-content/uploads/2023/08/RIY_Fall2023.jpg
END:VEVENT
BEGIN:VEVENT
DTSTART;TZID=UTC:20231020T090000
DTEND;TZID=UTC:20231020T110000
DTSTAMP:20260426T021744
CREATED:20231005T195956Z
LAST-MODIFIED:20231005T195956Z
UID:10000156-1697792400-1697799600@rootead.org
SUMMARY:Walk-In Lactation Support
DESCRIPTION:On Fridays from 9-11 AM\, we will host our drop-in breast- and chest-feeding support. Lactation consultants Tierene Inuolaji and Vanessa Moon are available to help you with anything from latching on basics or adjustments\, paced bottle feeding\, pumping help\, and more! \n 
URL:https://rootead.org/event/walk-in-lactation-support-oct-20-2023/
LOCATION:Rootead\, 505 E Kalamazoo Ave\, Suite 3\, Kalamazoo\, 49007
CATEGORIES:Birth Justice,Home
ATTACH;FMTTYPE=image/png:https://rootead.org/wp-content/uploads/2023/10/Rootead-Feeding-Support.png
END:VEVENT
END:VCALENDAR