BEGIN:VCALENDAR
VERSION:2.0
PRODID:-//Rootead - ECPv6.15.20//NONSGML v1.0//EN
CALSCALE:GREGORIAN
METHOD:PUBLISH
X-WR-CALNAME:Rootead
X-ORIGINAL-URL:https://rootead.org
X-WR-CALDESC:Events for Rootead
REFRESH-INTERVAL;VALUE=DURATION:PT1H
X-Robots-Tag:noindex
X-PUBLISHED-TTL:PT1H
BEGIN:VTIMEZONE
TZID:UTC
BEGIN:STANDARD
TZOFFSETFROM:+0000
TZOFFSETTO:+0000
TZNAME:UTC
DTSTART:20220101T000000
END:STANDARD
END:VTIMEZONE
BEGIN:VEVENT
DTSTART;TZID=UTC:20231006T090000
DTEND;TZID=UTC:20231006T110000
DTSTAMP:20260426T034244
CREATED:20231005T195822Z
LAST-MODIFIED:20231005T195822Z
UID:10000154-1696582800-1696590000@rootead.org
SUMMARY:Walk-In Lactation Support
DESCRIPTION:On Fridays from 9-11 AM\, we will host our drop-in breast- and chest-feeding support. Lactation consultants Tierene Inuolaji and Vanessa Moon are available to help you with anything from latching on basics or adjustments\, paced bottle feeding\, pumping help\, and more! \n 
URL:https://rootead.org/event/lactation-support-oct-6-2023/
LOCATION:Rootead\, 505 E Kalamazoo Ave\, Suite 3\, Kalamazoo\, 49007
CATEGORIES:Birth Justice,Home
ATTACH;FMTTYPE=image/png:https://rootead.org/wp-content/uploads/2023/10/Rootead-Feeding-Support.png
END:VEVENT
BEGIN:VEVENT
DTSTART;TZID=UTC:20231005T110000
DTEND;TZID=UTC:20231005T120000
DTSTAMP:20260426T034244
CREATED:20231005T194355Z
LAST-MODIFIED:20231005T194355Z
UID:10000142-1696503600-1696507200@rootead.org
SUMMARY:Tea Time with Rootead
DESCRIPTION:At 11 am on Thursdays our doulas Erica Dixon and Stephanie Weatherspoon will facilitate conversations over tea. Come chat with other parents or ask our doulas questions about pregnancy\, birth\, postpartum\, and early childhood development and sip on some delicious tea! \n 
URL:https://rootead.org/event/tea-time-oct-5-2023/
LOCATION:Rootead\, 505 E Kalamazoo Ave\, Suite 3\, Kalamazoo\, 49007
CATEGORIES:Birth Justice,Home
ATTACH;FMTTYPE=image/png:https://rootead.org/wp-content/uploads/2023/10/Rootead-Tea-Time.png
END:VEVENT
BEGIN:VEVENT
DTSTART;TZID=UTC:20231005T100000
DTEND;TZID=UTC:20231005T104500
DTSTAMP:20260426T034244
CREATED:20231005T192218Z
LAST-MODIFIED:20231107T150754Z
UID:10000130-1696500000-1696502700@rootead.org
SUMMARY:Embodied Families
DESCRIPTION:Embodied Families kicks off Thursday mornings at 10:00-10:45 am October through December\, and is a rotating selection of movement classes: \n\nJoyful Dancing Babies with Kama Tai Mitchell (bring your baby carrier!)\nInfant Massage with Tierene Inuolaji\nBaby and Me Yoga with Carmen James\nTumbling Toddlers also with Carmen James\n\n  \nCost: $10 / $5 with student ID (no one will be turned away) \n 
URL:https://rootead.org/event/embodied-families-oct-5-23/
LOCATION:Rootead\, 505 E Kalamazoo Ave\, Suite 3\, Kalamazoo\, 49007
CATEGORIES:Birth Justice,Home
ATTACH;FMTTYPE=image/png:https://rootead.org/wp-content/uploads/2023/10/Rootead-Embodied-Families-1.png
END:VEVENT
BEGIN:VEVENT
DTSTART;TZID=UTC:20231004T100000
DTEND;TZID=UTC:20231004T110000
DTSTAMP:20260426T034244
CREATED:20230907T175319Z
LAST-MODIFIED:20230907T175319Z
UID:10000113-1696413600-1696417200@rootead.org
SUMMARY:Village Playdate
DESCRIPTION:Are you and your little(s) looking for a fun place to learn and play that focuses on inclusivity and community? Come join the village! \n???? Village Playdates are weekly drop-ins with story time and activities to participate in at no cost. \n  \nVillage Playdates will be every Wednesday September 13th through December 20th (EXCEPT November 22nd) from 10 AM – 11 AM at Rootead’s studio. \n 
URL:https://rootead.org/event/village-playdate-oct4-2023/
LOCATION:Rootead\, 505 E Kalamazoo Ave\, Suite 3\, Kalamazoo\, 49007
CATEGORIES:Birth Justice,Home
ATTACH;FMTTYPE=image/png:https://rootead.org/wp-content/uploads/2023/09/Village-Playdates.png
END:VEVENT
BEGIN:VEVENT
DTSTART;TZID=UTC:20231003T180000
DTEND;TZID=UTC:20231003T190000
DTSTAMP:20260426T034244
CREATED:20230921T211812Z
LAST-MODIFIED:20231026T143444Z
UID:10000124-1696356000-1696359600@rootead.org
SUMMARY:Community Yoga
DESCRIPTION:Join us for our weekly Community Yoga! \n  \nBeginner-friendly yoga & movement. Everyone is welcome\, but these workshops will be intentional\, safe spaces for Black people and people of color. No special clothing or equipment required. We have yoga mats\, yoga blocks\, blankets\, and pillows for use. Please come as you are and deep breathe with us! \n  \nWhen: Tuesdays from 6pm – 7pm beginning October 3rd \nWhere: Rootead Studio \nCost: $10 / $5 with student ID / No one will be turned away \n 
URL:https://rootead.org/event/community-yoga-oct-3-2023/
LOCATION:Rootead\, 505 E Kalamazoo Ave\, Suite 3\, Kalamazoo\, 49007
CATEGORIES:Community Healing,Home
ATTACH;FMTTYPE=image/png:https://rootead.org/wp-content/uploads/2023/09/Rootead-Yoga-Sessions-2.png
END:VEVENT
BEGIN:VEVENT
DTSTART;TZID=UTC:20230928T180000
DTEND;TZID=UTC:20230928T200000
DTSTAMP:20260426T034244
CREATED:20230804T195119Z
LAST-MODIFIED:20230817T173837Z
UID:10000089-1695924000-1695931200@rootead.org
SUMMARY:RYDDE Auditions
DESCRIPTION:Audition for RYDDE (Rootead Youth Drum & Dance Ensemble)\nRYDDE is a non-competitive pre-professional youth & dance company. They perform in the wider Kalamazoo area\, training in the arts of the Black diaspora. RYDEE is open to ages 12-18. \nDrummers Audition: Wednesday\, September 27th @ 6 PM – 7 PM \nDancers Audition: Thursday\, September 28th @ 6 PM – 8 PM \n  \nCLICK HERE to apply for the RYDDE interest list\, or learn more about RYDDE here. \n  \n 
URL:https://rootead.org/event/rydde-auditions-dancers-sept-2023/
LOCATION:Rootead\, 505 E Kalamazoo Ave\, Suite 3\, Kalamazoo\, 49007
CATEGORIES:Home,Youth Enrichment
ATTACH;FMTTYPE=image/png:https://rootead.org/wp-content/uploads/2023/08/RYDDE-Auditions.png
END:VEVENT
BEGIN:VEVENT
DTSTART;TZID=UTC:20230927T180000
DTEND;TZID=UTC:20230927T190000
DTSTAMP:20260426T034244
CREATED:20230804T194913Z
LAST-MODIFIED:20231005T212317Z
UID:10000088-1695837600-1695841200@rootead.org
SUMMARY:RYDDE Auditions
DESCRIPTION:Audition for RYDDE (Rootead Youth Drum & Dance Ensemble)\nRYDDE is a non-competitive pre-professional youth & dance company. They perform in the wider Kalamazoo area\, training in the arts of the Black diaspora. RYDEE is open to ages 12-18. \nDrummers Audition: Wednesday\, September 27th @ 6 PM – 7 PM \nDancers Audition: Thursday\, September 28th @ 6 PM – 8 PM \n  \nCLICK HERE to apply for the RYDDE interest list\, or learn more about RYDDE here. \n  \n 
URL:https://rootead.org/event/rydde-auditions-drummers-sept-2023/
LOCATION:Rootead\, 505 E Kalamazoo Ave\, Suite 3\, Kalamazoo\, 49007
CATEGORIES:Home,Youth Enrichment
ATTACH;FMTTYPE=image/png:https://rootead.org/wp-content/uploads/2023/08/RYDDE-Auditions.png
END:VEVENT
BEGIN:VEVENT
DTSTART;TZID=UTC:20230927T100000
DTEND;TZID=UTC:20230927T110000
DTSTAMP:20260426T034244
CREATED:20230907T175218Z
LAST-MODIFIED:20230907T175218Z
UID:10000112-1695808800-1695812400@rootead.org
SUMMARY:Village Playdate
DESCRIPTION:Are you and your little(s) looking for a fun place to learn and play that focuses on inclusivity and community? Come join the village! \n???? Village Playdates are weekly drop-ins with story time and activities to participate in at no cost. \n  \nVillage Playdates will be every Wednesday September 13th through December 20th (EXCEPT November 22nd) from 10 AM – 11 AM at Rootead’s studio. \n 
URL:https://rootead.org/event/village-playdate-sep27-2023/
LOCATION:Rootead\, 505 E Kalamazoo Ave\, Suite 3\, Kalamazoo\, 49007
CATEGORIES:Birth Justice,Home
ATTACH;FMTTYPE=image/png:https://rootead.org/wp-content/uploads/2023/09/Village-Playdates.png
END:VEVENT
BEGIN:VEVENT
DTSTART;TZID=UTC:20230920T100000
DTEND;TZID=UTC:20230920T110000
DTSTAMP:20260426T034244
CREATED:20230907T175105Z
LAST-MODIFIED:20230907T175105Z
UID:10000111-1695204000-1695207600@rootead.org
SUMMARY:Village Playdate
DESCRIPTION:Are you and your little(s) looking for a fun place to learn and play that focuses on inclusivity and community? Come join the village! \n???? Village Playdates are weekly drop-ins with story time and activities to participate in at no cost. \n  \nVillage Playdates will be every Wednesday September 13th through December 20th (EXCEPT November 22nd) from 10 AM – 11 AM at Rootead’s studio. \n 
URL:https://rootead.org/event/village-playdate-sept20-2023/
LOCATION:Rootead\, 505 E Kalamazoo Ave\, Suite 3\, Kalamazoo\, 49007
CATEGORIES:Birth Justice,Home
ATTACH;FMTTYPE=image/png:https://rootead.org/wp-content/uploads/2023/09/Village-Playdates.png
END:VEVENT
BEGIN:VEVENT
DTSTART;TZID=UTC:20230913T100000
DTEND;TZID=UTC:20230913T110000
DTSTAMP:20260426T034244
CREATED:20230907T174926Z
LAST-MODIFIED:20230907T174926Z
UID:10000110-1694599200-1694602800@rootead.org
SUMMARY:Village Playdate
DESCRIPTION:Are you and your little(s) looking for a fun place to learn and play that focuses on inclusivity and community? Come join the village! \n???? Village Playdates are weekly drop-ins with story time and activities to participate in at no cost. \n  \nVillage Playdates will be every Wednesday September 13th through December 20th (EXCEPT November 22nd) from 10 AM – 11 AM at Rootead’s studio. \n 
URL:https://rootead.org/event/village-playdate-sept13-2023/
LOCATION:Rootead\, 505 E Kalamazoo Ave\, Suite 3\, Kalamazoo\, 49007
CATEGORIES:Birth Justice,Home
ATTACH;FMTTYPE=image/png:https://rootead.org/wp-content/uploads/2023/09/Village-Playdates.png
END:VEVENT
BEGIN:VEVENT
DTSTART;TZID=UTC:20230803T180000
DTEND;TZID=UTC:20230803T190000
DTSTAMP:20260426T034244
CREATED:20230503T171525Z
LAST-MODIFIED:20230607T170142Z
UID:10000083-1691085600-1691089200@rootead.org
SUMMARY:Community Drum + Dance @ Harrison Park
DESCRIPTION:Thursday\, August 3rd \n6 pm – 7 pm at Harrison Park \nDrop-In. $10 donation suggested. \n  \n 
URL:https://rootead.org/event/community-drum-dance-august-2023/
LOCATION:Harrison Park\, Gull Rd\, Kalamazoo\, MI\, 49007\, United States
CATEGORIES:Community Healing,Home
ATTACH;FMTTYPE=image/png:https://rootead.org/wp-content/uploads/2023/05/Community-Drum-Dance-August-3-1.png
END:VEVENT
BEGIN:VEVENT
DTSTART;VALUE=DATE:20230717
DTEND;VALUE=DATE:20230722
DTSTAMP:20260426T034244
CREATED:20230208T203215Z
LAST-MODIFIED:20230317T140816Z
UID:10000052-1689552000-1689983999@rootead.org
SUMMARY:Youth Summer Camp - Session II
DESCRIPTION:Rootead Summer Camp is for youth ages 5 – 12. Youth will learn the fundamentals of West African Drum & Dance\, make African-inspired crafts\, learn Mancala – the oldest game in the world! Each summer camp Friday\, the youth will share what they’ve learned with their families at showcase/celebration! \nThere will be two sessions this year\, and the dates are:\nMonday\, July 10 – Friday\, July 14\, 9:00am – 4:00pm\nMonday\, July 17 – Friday\, July 21\, 9:00am – 4:00pm \nSnacks are provided\, but youth will need to bring a cold\, packed lunch. \nThe cost of the summer camp is $200/week.  Scholarships are available.  Payments can be made during registration\, made via CashApp\, PayPal\, or Venmo\, or paid in person at the first session. \nRegister for Session 2\nRegister for Session 1
URL:https://rootead.org/event/youth-summer-camp-session-2/
LOCATION:Rootead\, 505 E Kalamazoo Ave\, Suite 3\, Kalamazoo\, 49007
CATEGORIES:Home,Youth Enrichment
ATTACH;FMTTYPE=image/png:https://rootead.org/wp-content/uploads/2023/02/Rootead-Summer-Camp-2023.png
END:VEVENT
BEGIN:VEVENT
DTSTART;VALUE=DATE:20230710
DTEND;VALUE=DATE:20230715
DTSTAMP:20260426T034244
CREATED:20230208T191030Z
LAST-MODIFIED:20230517T200155Z
UID:10000051-1688947200-1689379199@rootead.org
SUMMARY:Youth Summer Camp - Session I
DESCRIPTION:Rootead Summer Camp is for youth ages 5 – 12. Youth will learn the fundamentals of West African Drum & Dance\, make African-inspired crafts\, learn Mancala – the oldest game in the world! Each summer camp Friday\, the youth will share what they’ve learned with their families at showcase/celebration! \nThere will be two sessions this year\, and the dates are:\nMonday\, July 10 – Friday\, July 14\, 9:00am – 4:00pm\nMonday\, July 17 – Friday\, July 21\, 9:00am – 4:00pm \nSnacks are provided\, but youth will need to bring a cold\, packed lunch. \nThe cost of the summer camp is $200/week.  Scholarships are available.  Payments can be made during registration\, made via CashApp\, PayPal\, or Venmo\, or paid in person at the first session. \nRegister for Session 1\nRegister for Session 2\nApply for a scholarship
URL:https://rootead.org/event/summer-camp-session-1/
LOCATION:Rootead\, 505 E Kalamazoo Ave\, Suite 3\, Kalamazoo\, 49007
CATEGORIES:Home,Youth Enrichment
ATTACH;FMTTYPE=image/png:https://rootead.org/wp-content/uploads/2023/02/Rootead-Summer-Camp-2023.png
END:VEVENT
BEGIN:VEVENT
DTSTART;TZID=UTC:20230708T150000
DTEND;TZID=UTC:20230708T160000
DTSTAMP:20260426T034244
CREATED:20230503T171138Z
LAST-MODIFIED:20230607T170230Z
UID:10000082-1688828400-1688832000@rootead.org
SUMMARY:Community Drum + Dance @ Harrison Park
DESCRIPTION:Saturday\, July 8th \n3 pm – 4 pm at Harrison Park \nDrop-In. $10 donation suggested. \n  \n 
URL:https://rootead.org/event/community-drum-dance-july-2023/
LOCATION:Harrison Park\, Gull Rd\, Kalamazoo\, MI\, 49007\, United States
CATEGORIES:Community Healing,Home
ATTACH;FMTTYPE=image/png:https://rootead.org/wp-content/uploads/2023/05/Community-Drum-Dance-August-3-1.png
END:VEVENT
BEGIN:VEVENT
DTSTART;TZID=UTC:20230628T100000
DTEND;TZID=UTC:20230628T110000
DTSTAMP:20260426T034244
CREATED:20230428T201547Z
LAST-MODIFIED:20230428T201547Z
UID:10000077-1687946400-1687950000@rootead.org
SUMMARY:Village Playdate
DESCRIPTION:Are you and your little(s) looking for a fun place to learn and play that focuses on inclusivity and community? Come join the village! \n???? Village Playdates are weekly drop-ins with story time and activities to participate in at no cost. \n  \nVillage Playdates will be every Wednesday at Rootead’s studio. \n 
URL:https://rootead.org/event/village-playdate-june-28-2023/
LOCATION:Rootead\, 505 E Kalamazoo Ave\, Suite 3\, Kalamazoo\, 49007
CATEGORIES:Home,Youth Enrichment
ATTACH;FMTTYPE=image/png:https://rootead.org/wp-content/uploads/2023/04/VPD-May.June_.2023_4.28.23.png
END:VEVENT
BEGIN:VEVENT
DTSTART;VALUE=DATE:20230627
DTEND;VALUE=DATE:20230906
DTSTAMP:20260426T034244
CREATED:20230626T173742Z
LAST-MODIFIED:20230815T212944Z
UID:10000084-1687824000-1693958399@rootead.org
SUMMARY:Summer Market Hours
DESCRIPTION:OPEN TO THE PUBLIC!\nWe have new established summer hours where the market at the Rootead Studio\, featuring Rootead merchandise as well as other items from local artisans\, will be open to the public. \nThe hours below will be effective Tuesday\, June 27\, 2023 thru Tuesday\, September 5\, 2023: \nTuesday-Thursday- 11 AM – 6 PM  \nFriday 11 AM to #wheneverwewant #decolonized \nSaturdays- as needed \n  \n 
URL:https://rootead.org/event/summer-market-hours/
LOCATION:Rootead\, 505 E Kalamazoo Ave\, Suite 3\, Kalamazoo\, 49007
CATEGORIES:Home
ATTACH;FMTTYPE=image/png:https://rootead.org/wp-content/uploads/2022/08/Rootead-Kante-Background_black.png
END:VEVENT
BEGIN:VEVENT
DTSTART;TZID=UTC:20230621T100000
DTEND;TZID=UTC:20230621T110000
DTSTAMP:20260426T034244
CREATED:20230428T201503Z
LAST-MODIFIED:20230428T201503Z
UID:10000076-1687341600-1687345200@rootead.org
SUMMARY:Village Playdate
DESCRIPTION:Are you and your little(s) looking for a fun place to learn and play that focuses on inclusivity and community? Come join the village! \n???? Village Playdates are weekly drop-ins with story time and activities to participate in at no cost. \n  \nVillage Playdates will be every Wednesday at Rootead’s studio. \n 
URL:https://rootead.org/event/village-playdate-june-21-2023/
LOCATION:Rootead\, 505 E Kalamazoo Ave\, Suite 3\, Kalamazoo\, 49007
CATEGORIES:Home,Youth Enrichment
ATTACH;FMTTYPE=image/png:https://rootead.org/wp-content/uploads/2023/04/VPD-May.June_.2023_4.28.23.png
END:VEVENT
BEGIN:VEVENT
DTSTART;TZID=UTC:20230617T150000
DTEND;TZID=UTC:20230617T190000
DTSTAMP:20260426T034244
CREATED:20230428T205010Z
LAST-MODIFIED:20230522T170325Z
UID:10000080-1687014000-1687028400@rootead.org
SUMMARY:Juneteenth Celebration @ Bronson Park
DESCRIPTION:Our Juneteenth celebration is going to be one to remember. \nThe theme we chose this year is Family Reunion.\nFamily reunions are special for Black and brown families for a couple of reasons we want to bring to our celebration: \n Uniting generations. Historically\, Black and brown family members were separated from one another. With no records kept on their family history\, it was difficult to reunite. Today\, it’s meaningful to be able to unify people across generations and across the diaspora. We’re all brothers and sisters\, aunties and cousins\, mothers and sons . \n Preserving cultural traditions. Part of Rootead’s mission is to bring African traditions to the Black community so that they can connect to their roots. Our ancestors had valuable wisdom that we can so greatly benefit from today. \n Sharing history. Not only are we able to make memories by getting together as a community but we’re able to recount stories and keep our ancestors’ stories and memories alive. \nWe will have live music\, a performance by RYDDE\, food trucks\, vendors\, and more. There will also be free food!\n  \n\n\n\nSIGN UP TO BE A VOLUNTEER HERE
URL:https://rootead.org/event/juneteenth-celebration-2023/
LOCATION:Bronson Park\, 200 Rose Street\, Kalamazoo\, MI\, 49007\, United States
CATEGORIES:Community Healing,Home
ATTACH;FMTTYPE=image/jpeg:https://rootead.org/wp-content/uploads/2023/04/Rootead_Juneteenth2023.jpeg
END:VEVENT
BEGIN:VEVENT
DTSTART;TZID=UTC:20230614T100000
DTEND;TZID=UTC:20230614T110000
DTSTAMP:20260426T034244
CREATED:20230428T201418Z
LAST-MODIFIED:20230428T201418Z
UID:10000075-1686736800-1686740400@rootead.org
SUMMARY:Village Playdate
DESCRIPTION:Are you and your little(s) looking for a fun place to learn and play that focuses on inclusivity and community? Come join the village! \n???? Village Playdates are weekly drop-ins with story time and activities to participate in at no cost. \n  \nVillage Playdates will be every Wednesday at Rootead’s studio. \n 
URL:https://rootead.org/event/village-playdate-june-14-2023/
LOCATION:Rootead\, 505 E Kalamazoo Ave\, Suite 3\, Kalamazoo\, 49007
CATEGORIES:Home,Youth Enrichment
ATTACH;FMTTYPE=image/png:https://rootead.org/wp-content/uploads/2023/04/VPD-May.June_.2023_4.28.23.png
END:VEVENT
BEGIN:VEVENT
DTSTART;TZID=UTC:20230610T110000
DTEND;TZID=UTC:20230610T120000
DTSTAMP:20260426T034244
CREATED:20230503T170736Z
LAST-MODIFIED:20230607T170341Z
UID:10000081-1686394800-1686398400@rootead.org
SUMMARY:Community Drum + Dance @ Harrison Park
DESCRIPTION:Saturday\, June 10th \n11 am – 12 pm at Harrison Park \nDrop-In. $10 donation suggested. \n  \n 
URL:https://rootead.org/event/community-drum-and-dance-june-2023/
LOCATION:Harrison Park\, Gull Rd\, Kalamazoo\, MI\, 49007\, United States
CATEGORIES:Community Healing,Home
ATTACH;FMTTYPE=image/png:https://rootead.org/wp-content/uploads/2023/05/Community-Drum-Dance-August-3-1.png
END:VEVENT
BEGIN:VEVENT
DTSTART;TZID=UTC:20230607T100000
DTEND;TZID=UTC:20230607T110000
DTSTAMP:20260426T034244
CREATED:20230428T201343Z
LAST-MODIFIED:20230428T201343Z
UID:10000074-1686132000-1686135600@rootead.org
SUMMARY:Village Playdate
DESCRIPTION:Are you and your little(s) looking for a fun place to learn and play that focuses on inclusivity and community? Come join the village! \n???? Village Playdates are weekly drop-ins with story time and activities to participate in at no cost. \n  \nVillage Playdates will be every Wednesday at Rootead’s studio. \n 
URL:https://rootead.org/event/village-playdate-june-7-2023/
LOCATION:Rootead\, 505 E Kalamazoo Ave\, Suite 3\, Kalamazoo\, 49007
CATEGORIES:Home,Youth Enrichment
ATTACH;FMTTYPE=image/png:https://rootead.org/wp-content/uploads/2023/04/VPD-May.June_.2023_4.28.23.png
END:VEVENT
BEGIN:VEVENT
DTSTART;TZID=UTC:20230531T100000
DTEND;TZID=UTC:20230531T110000
DTSTAMP:20260426T034244
CREATED:20230428T201247Z
LAST-MODIFIED:20230428T201247Z
UID:10000073-1685527200-1685530800@rootead.org
SUMMARY:Village Playdate
DESCRIPTION:Are you and your little(s) looking for a fun place to learn and play that focuses on inclusivity and community? Come join the village! \n???? Village Playdates are weekly drop-ins with story time and activities to participate in at no cost. \n  \nVillage Playdates will be every Wednesday at Rootead’s studio. \n 
URL:https://rootead.org/event/village-playdate-may-31-2023/
LOCATION:Rootead\, 505 E Kalamazoo Ave\, Suite 3\, Kalamazoo\, 49007
CATEGORIES:Home,Youth Enrichment
ATTACH;FMTTYPE=image/png:https://rootead.org/wp-content/uploads/2023/04/VPD-May.June_.2023_4.28.23.png
END:VEVENT
BEGIN:VEVENT
DTSTART;TZID=UTC:20230527T210000
DTEND;TZID=UTC:20230528T010000
DTSTAMP:20260426T034244
CREATED:20230428T201956Z
LAST-MODIFIED:20230428T205825Z
UID:10000078-1685221200-1685235600@rootead.org
SUMMARY:Radicle Night @ The Xperience
DESCRIPTION:Come as you are\, be who you are and love who you are. The Xperience & Rootead have collaborated to bring you Radicle Night at The Xperience. This is a space to be Black\, Brown\, yellow or white and be QUEER AF! \nThis event is an intentional\, joyful and liberatory space for LGBTQIA+ folx ages 21 and up. \nTickets are $10 presale and $15 at the door. \nGet Your Ticket\n 
URL:https://rootead.org/event/radicle-night-the-xperience-may-2023/
LOCATION:The Xperience\, 145 Farmers Alley\, Kalamazoo\, MI\, United States
CATEGORIES:Community Healing,Home
ATTACH;FMTTYPE=image/png:https://rootead.org/wp-content/uploads/2023/04/OKAY-TO-SHARE-Radicle-Instagram-Post.png
END:VEVENT
BEGIN:VEVENT
DTSTART;TZID=UTC:20230524T100000
DTEND;TZID=UTC:20230524T110000
DTSTAMP:20260426T034244
CREATED:20230428T201158Z
LAST-MODIFIED:20230428T201158Z
UID:10000072-1684922400-1684926000@rootead.org
SUMMARY:Village Playdate
DESCRIPTION:Are you and your little(s) looking for a fun place to learn and play that focuses on inclusivity and community? Come join the village! \n???? Village Playdates are weekly drop-ins with story time and activities to participate in at no cost. \n  \nVillage Playdates will be every Wednesday at Rootead’s studio. \n 
URL:https://rootead.org/event/village-playdate-may-24-2023/
LOCATION:Rootead\, 505 E Kalamazoo Ave\, Suite 3\, Kalamazoo\, 49007
CATEGORIES:Home,Youth Enrichment
ATTACH;FMTTYPE=image/png:https://rootead.org/wp-content/uploads/2023/04/VPD-May.June_.2023_4.28.23.png
END:VEVENT
BEGIN:VEVENT
DTSTART;TZID=UTC:20230517T100000
DTEND;TZID=UTC:20230517T110000
DTSTAMP:20260426T034244
CREATED:20230428T201102Z
LAST-MODIFIED:20230428T201102Z
UID:10000071-1684317600-1684321200@rootead.org
SUMMARY:Village Playdate
DESCRIPTION:Are you and your little(s) looking for a fun place to learn and play that focuses on inclusivity and community? Come join the village! \n???? Village Playdates are weekly drop-ins with story time and activities to participate in at no cost. \n  \nVillage Playdates will be every Wednesday at Rootead’s studio. \n 
URL:https://rootead.org/event/village-playdate-may-17-2023/
LOCATION:Rootead\, 505 E Kalamazoo Ave\, Suite 3\, Kalamazoo\, 49007
CATEGORIES:Home,Youth Enrichment
ATTACH;FMTTYPE=image/png:https://rootead.org/wp-content/uploads/2023/04/VPD-May.June_.2023_4.28.23.png
END:VEVENT
BEGIN:VEVENT
DTSTART;TZID=UTC:20230510T100000
DTEND;TZID=UTC:20230510T110000
DTSTAMP:20260426T034244
CREATED:20230428T200953Z
LAST-MODIFIED:20230428T200953Z
UID:10000070-1683712800-1683716400@rootead.org
SUMMARY:Village Playdate
DESCRIPTION:Are you and your little(s) looking for a fun place to learn and play that focuses on inclusivity and community? Come join the village! \n???? Village Playdates are weekly drop-ins with story time and activities to participate in at no cost. \n  \nVillage Playdates will be every Wednesday at Rootead’s studio. \n 
URL:https://rootead.org/event/village-playdate-may-10-2023/
LOCATION:Rootead\, 505 E Kalamazoo Ave\, Suite 3\, Kalamazoo\, 49007
CATEGORIES:Home,Youth Enrichment
ATTACH;FMTTYPE=image/png:https://rootead.org/wp-content/uploads/2023/04/VPD-May.June_.2023_4.28.23.png
END:VEVENT
BEGIN:VEVENT
DTSTART;TZID=UTC:20230503T100000
DTEND;TZID=UTC:20230503T110000
DTSTAMP:20260426T034244
CREATED:20230428T200822Z
LAST-MODIFIED:20230428T200822Z
UID:10000069-1683108000-1683111600@rootead.org
SUMMARY:Village Playdate
DESCRIPTION:Are you and your little(s) looking for a fun place to learn and play that focuses on inclusivity and community? Come join the village! \n???? Village Playdates are weekly drop-ins with story time and activities to participate in at no cost. \n  \nVillage Playdates will be every Wednesday at Rootead’s studio. \n 
URL:https://rootead.org/event/village-playdates-may/
LOCATION:Rootead\, 505 E Kalamazoo Ave\, Suite 3\, Kalamazoo\, 49007
CATEGORIES:Home,Youth Enrichment
ATTACH;FMTTYPE=image/png:https://rootead.org/wp-content/uploads/2023/04/VPD-May.June_.2023_4.28.23.png
END:VEVENT
BEGIN:VEVENT
DTSTART;TZID=UTC:20230429T100000
DTEND;TZID=UTC:20230429T120000
DTSTAMP:20260426T034244
CREATED:20230208T204847Z
LAST-MODIFIED:20230208T204847Z
UID:10000057-1682762400-1682769600@rootead.org
SUMMARY:Rootead in Youth - Spring Session
DESCRIPTION:Dance\, drum\, embodied movement and African culture. Saturdays March 25\, April 1\, April 15\, April 22\, April 29 \n10am-10:30am – 2-3 year olds; \n10:45am-11:15am – 4-5 year olds; \n11:30am-12pm – 6-8 year olds; \n$50. Scholarships available. \nRegister Today!
URL:https://rootead.org/event/rootead-in-youth-spring-session-5/
LOCATION:Rootead\, 505 E Kalamazoo Ave\, Suite 3\, Kalamazoo\, 49007
CATEGORIES:Youth Enrichment
ATTACH;FMTTYPE=image/png:https://rootead.org/wp-content/uploads/2023/02/Community-Healing-Graphics-2.png
END:VEVENT
BEGIN:VEVENT
DTSTART;TZID=UTC:20230426T100000
DTEND;TZID=UTC:20230426T110000
DTSTAMP:20260426T034244
CREATED:20230215T191044Z
LAST-MODIFIED:20230331T011631Z
UID:10000067-1682503200-1682506800@rootead.org
SUMMARY:Village Playdate
DESCRIPTION:Are you and your little(s) looking for a fun place to learn and play that focuses on inclusivity and community? Come join the village! \n???? Village Playdates are weekly drop-ins with story time and activities to participate in at no cost. \n  \nVillage Playdates will be every alternating Tuesday and Wednesday at Rootead’s studio.
URL:https://rootead.org/event/village-playdate-0426/
LOCATION:Rootead\, 505 E Kalamazoo Ave\, Suite 3\, Kalamazoo\, 49007
CATEGORIES:Home,Youth Enrichment
ATTACH;FMTTYPE=image/png:https://rootead.org/wp-content/uploads/2023/02/Acrylic-Stand-CH-Graphics-1024-×-1024-px.png
END:VEVENT
BEGIN:VEVENT
DTSTART;TZID=UTC:20230422T210000
DTEND;TZID=UTC:20230423T010000
DTSTAMP:20260426T034244
CREATED:20230324T173137Z
LAST-MODIFIED:20230324T173717Z
UID:10000068-1682197200-1682211600@rootead.org
SUMMARY:Radicle Night @ The Xperience
DESCRIPTION:Come as you are\, be who you are and love who you are. The Xperience & Rootead have collaborated to bring you Radicle Night at The Xperience. This is a space to be Black\, Brown\, yellow or white and be QUEER AF! \nThis event is an intentional\, joyful and liberatory space for LGBTQIA+ folx ages 21 and up. \nTickets are $10 presale and $15 at the door. \nGet Your Ticket
URL:https://rootead.org/event/radicle-night-the-xperience-042023/
LOCATION:The Xperience\, 145 Farmers Alley\, Kalamazoo\, MI\, United States
CATEGORIES:Community Healing,Home
ATTACH;FMTTYPE=image/png:https://rootead.org/wp-content/uploads/2023/03/OKAY-TO-SHARE-Radicle-Instagram-Post-1.png
END:VEVENT
END:VCALENDAR