BEGIN:VCALENDAR
VERSION:2.0
PRODID:-//Rootead - ECPv6.15.20//NONSGML v1.0//EN
CALSCALE:GREGORIAN
METHOD:PUBLISH
X-ORIGINAL-URL:https://rootead.org
X-WR-CALDESC:Events for Rootead
REFRESH-INTERVAL;VALUE=DURATION:PT1H
X-Robots-Tag:noindex
X-PUBLISHED-TTL:PT1H
BEGIN:VTIMEZONE
TZID:UTC
BEGIN:STANDARD
TZOFFSETFROM:+0000
TZOFFSETTO:+0000
TZNAME:UTC
DTSTART:20220101T000000
END:STANDARD
END:VTIMEZONE
BEGIN:VEVENT
DTSTART;TZID=UTC:20231216T130000
DTEND;TZID=UTC:20231216T160000
DTSTAMP:20260425T224546
CREATED:20231019T173736Z
LAST-MODIFIED:20240124T185557Z
UID:10000167-1702731600-1702742400@rootead.org
SUMMARY:3rd Annual RYDDE Showcase & Fundraiser
DESCRIPTION:Our 3rd Annual RYDDE Drum & Dance Showcase & Fundraiser will be Saturday\, December 16\, 1PM – 4PM!\nJoin us for our 3rd Annual RYDDE Drum & Dance Showcase & Fundraiser at Comstock Community Auditorium 2107 N 26th St\, Kalamazoo\, MI 49048. The performance will be 1PM – 2PM\, and appetizers and dancing will be 2PM – 4PM.\nTickets are available on an equitable scale: \n$50 Platinum\n$25 Gold\n$15 Silver\n$5 Copper \n*Ticket prices are for equity reasons only. All tickets are general seating\, and everyone is welcome to join the party and have appetizers afterward. We will have a silent auction and grab bags for sale\, as well as information booths for each of our branches. \nFolks can register below:\nPURCHASE RYDDE SHOWCASE TICKETS\n  \nWhen: Saturday\, December 16th from 1PM-4PM \nWhere: Comstock Community Auditorium\, 2107 N 26th Street\, Kalamazoo\, MI\, 40048 \nTickets: $5-$50. All tickets are general admission. here
URL:https://rootead.org/event/december-rydde-showcase-2023/
LOCATION:Comstock Community Auditorium\, 2107 N 26th St\, Kalamazoo\, MI\, 49048\, United States
CATEGORIES:Home,Youth Enrichment
ATTACH;FMTTYPE=image/png:https://rootead.org/wp-content/uploads/2023/10/Showcase-FB-Event-Cover.png
END:VEVENT
END:VCALENDAR