BEGIN:VCALENDAR
VERSION:2.0
PRODID:-//Rootead - ECPv6.15.20//NONSGML v1.0//EN
CALSCALE:GREGORIAN
METHOD:PUBLISH
X-ORIGINAL-URL:https://rootead.org
X-WR-CALDESC:Events for Rootead
REFRESH-INTERVAL;VALUE=DURATION:PT1H
X-Robots-Tag:noindex
X-PUBLISHED-TTL:PT1H
BEGIN:VTIMEZONE
TZID:UTC
BEGIN:STANDARD
TZOFFSETFROM:+0000
TZOFFSETTO:+0000
TZNAME:UTC
DTSTART:20240101T000000
END:STANDARD
END:VTIMEZONE
BEGIN:VEVENT
DTSTART;TZID=UTC:20250501T100000
DTEND;TZID=UTC:20250501T120000
DTSTAMP:20260424T055628
CREATED:20250127T183315Z
LAST-MODIFIED:20250127T183315Z
UID:10000536-1746093600-1746100800@rootead.org
SUMMARY:Baby Café Open Hours
DESCRIPTION:Announcing our new Kalamazoo Baby Café at Rootead!\nThursdays weekly from 10 AM – 12 PM \nOur weekly Kalamazoo Baby Café at Rootead is a new initiative in our community\, dedicated to providing a safe and nurturing space for chest- and breastfeeding individuals to access professional assistance free of charge\, receive unwavering support\, and gain access to invaluable resources essential for the success of their journeys. We understand the significance of supporting individuals and their infants during this crucial stage of life\, and our mission is to create an inclusive environment where everyone feels empowered and supported. \nThe Baby Café is a walk-in parent support group with lactation professionals present to provide support for baby feeding. This free service is available in partnership with Bronson Health Foundation and W.K. Kellogg Foundation. \n  \nDate: Weekly on Thursdays \nTime: 10am-12pm \nLocation: Rootead Enrichment Center\, 505 East Kalamazoo Ave. Suite 0\, Kalamazoo\, MI 49007 \n 
URL:https://rootead.org/event/baby-cafe-open-hours-may-1-2025/
LOCATION:Rootead\, 505 E Kalamazoo Ave\, Suite 3\, Kalamazoo\, 49007
CATEGORIES:Birth Justice,Home
END:VEVENT
BEGIN:VEVENT
DTSTART;TZID=UTC:20250507T100000
DTEND;TZID=UTC:20250507T113000
DTSTAMP:20260424T055628
CREATED:20250127T180837Z
LAST-MODIFIED:20250127T180837Z
UID:10000519-1746612000-1746617400@rootead.org
SUMMARY:Village Playdate
DESCRIPTION:Are you and your little(s) looking for a fun place to learn and play that focuses on inclusivity and community? Come join the village! \n???? Village Playdates are weekly drop-ins with story time and activities to participate in at no cost. \n  \nVillage Playdates will be every Wednesday from 10 AM – 11:30 AM at the Kalamazoo Baby Café at Rootead. \n  \n 
URL:https://rootead.org/event/village-playdate-may-7-2025/
LOCATION:Rootead\, 505 E Kalamazoo Ave\, Suite 3\, Kalamazoo\, 49007
CATEGORIES:Birth Justice,Home
END:VEVENT
BEGIN:VEVENT
DTSTART;TZID=UTC:20250507T110000
DTEND;TZID=UTC:20250507T130000
DTSTAMP:20260424T055628
CREATED:20250127T182352Z
LAST-MODIFIED:20250127T182352Z
UID:10000528-1746615600-1746622800@rootead.org
SUMMARY:Diaper Giveaway @ Baby Café
DESCRIPTION:Diaper Giveaway Every Wednesday!\nDiaper giveaway will be every Wednesday from 11 AM -1 PM.  Come to the Village Playdates and also get free diapers! \nNewborn – 4t/ 5t Pull-ups ~ Limited supply\, first come first serve! \n  \n???? Village Playdates are weekly drop-ins with story time and activities to participate in at no cost. \nVillage Playdates will be every Wednesday from 10 AM – 11:30 AM at the Kalamazoo Baby Café at Rootead. \n  \n 
URL:https://rootead.org/event/diaper-giveaway-baby-cafe-may-7-2025/
LOCATION:Rootead\, 505 E Kalamazoo Ave\, Suite 3\, Kalamazoo\, 49007
CATEGORIES:Birth Justice,Home
ATTACH;FMTTYPE=image/png:https://rootead.org/wp-content/uploads/2024/09/Diaper-Giveaway.png
END:VEVENT
BEGIN:VEVENT
DTSTART;TZID=UTC:20250508T100000
DTEND;TZID=UTC:20250508T120000
DTSTAMP:20260424T055628
CREATED:20250127T183433Z
LAST-MODIFIED:20250127T183433Z
UID:10000537-1746698400-1746705600@rootead.org
SUMMARY:Baby Café Open Hours
DESCRIPTION:Announcing our new Kalamazoo Baby Café at Rootead!\nThursdays weekly from 10 AM – 12 PM \nOur weekly Kalamazoo Baby Café at Rootead is a new initiative in our community\, dedicated to providing a safe and nurturing space for chest- and breastfeeding individuals to access professional assistance free of charge\, receive unwavering support\, and gain access to invaluable resources essential for the success of their journeys. We understand the significance of supporting individuals and their infants during this crucial stage of life\, and our mission is to create an inclusive environment where everyone feels empowered and supported. \nThe Baby Café is a walk-in parent support group with lactation professionals present to provide support for baby feeding. This free service is available in partnership with Bronson Health Foundation and W.K. Kellogg Foundation. \n  \nDate: Weekly on Thursdays \nTime: 10am-12pm \nLocation: Rootead Enrichment Center\, 505 East Kalamazoo Ave. Suite 0\, Kalamazoo\, MI 49007 \n 
URL:https://rootead.org/event/baby-cafe-open-hours-may-8-2025/
LOCATION:Rootead\, 505 E Kalamazoo Ave\, Suite 3\, Kalamazoo\, 49007
CATEGORIES:Birth Justice,Home
END:VEVENT
BEGIN:VEVENT
DTSTART;TZID=UTC:20250508T193000
DTEND;TZID=UTC:20250508T210000
DTSTAMP:20260424T055628
CREATED:20250430T174809Z
LAST-MODIFIED:20250430T175040Z
UID:10000605-1746732600-1746738000@rootead.org
SUMMARY:Open Mic Night
DESCRIPTION:Join us for Open Mic Night!\nCreating space for young adults through the healing art of spoken word. Join us every 2nd Thursday of the month from 7:30–9 PM for Open Mic Night! Whether you’re a seasoned poet\, first-time performer\, or just want to vibe with the community\, all are welcome. Tea and water will be provided. In partnership with RAWK. \n  \n🎤 Sign-up to perform at the door \n🎟️ $5 entry or $2 with student ID \n  \nThis event is for ages 18+.
URL:https://rootead.org/event/open-mic-night-may-8-2025/
LOCATION:Rootead\, 505 E Kalamazoo Ave\, Suite 3\, Kalamazoo\, 49007
CATEGORIES:Community Healing,Home
ATTACH;FMTTYPE=image/png:https://rootead.org/wp-content/uploads/2025/04/Poetry-Nights-General-1.png
END:VEVENT
BEGIN:VEVENT
DTSTART;TZID=UTC:20250514T100000
DTEND;TZID=UTC:20250514T113000
DTSTAMP:20260424T055628
CREATED:20250127T180938Z
LAST-MODIFIED:20250127T180938Z
UID:10000520-1747216800-1747222200@rootead.org
SUMMARY:Village Playdate
DESCRIPTION:Are you and your little(s) looking for a fun place to learn and play that focuses on inclusivity and community? Come join the village! \n???? Village Playdates are weekly drop-ins with story time and activities to participate in at no cost. \n  \nVillage Playdates will be every Wednesday from 10 AM – 11:30 AM at the Kalamazoo Baby Café at Rootead. \n  \n 
URL:https://rootead.org/event/village-playdate-may-14-2025/
LOCATION:Rootead\, 505 E Kalamazoo Ave\, Suite 3\, Kalamazoo\, 49007
CATEGORIES:Birth Justice,Home
END:VEVENT
BEGIN:VEVENT
DTSTART;TZID=UTC:20250514T110000
DTEND;TZID=UTC:20250514T130000
DTSTAMP:20260424T055628
CREATED:20250127T182507Z
LAST-MODIFIED:20250127T182507Z
UID:10000529-1747220400-1747227600@rootead.org
SUMMARY:Diaper Giveaway @ Baby Café
DESCRIPTION:Diaper Giveaway Every Wednesday!\nDiaper giveaway will be every Wednesday from 11 AM -1 PM.  Come to the Village Playdates and also get free diapers! \nNewborn – 4t/ 5t Pull-ups ~ Limited supply\, first come first serve! \n  \n???? Village Playdates are weekly drop-ins with story time and activities to participate in at no cost. \nVillage Playdates will be every Wednesday from 10 AM – 11:30 AM at the Kalamazoo Baby Café at Rootead. \n  \n 
URL:https://rootead.org/event/diaper-giveaway-baby-cafe-may-14-2025/
LOCATION:Rootead\, 505 E Kalamazoo Ave\, Suite 3\, Kalamazoo\, 49007
CATEGORIES:Birth Justice,Home
ATTACH;FMTTYPE=image/png:https://rootead.org/wp-content/uploads/2024/09/Diaper-Giveaway.png
END:VEVENT
BEGIN:VEVENT
DTSTART;TZID=UTC:20250515T100000
DTEND;TZID=UTC:20250515T120000
DTSTAMP:20260424T055628
CREATED:20250127T183602Z
LAST-MODIFIED:20250127T183602Z
UID:10000538-1747303200-1747310400@rootead.org
SUMMARY:Baby Café Open Hours
DESCRIPTION:Announcing our new Kalamazoo Baby Café at Rootead!\nThursdays weekly from 10 AM – 12 PM \nOur weekly Kalamazoo Baby Café at Rootead is a new initiative in our community\, dedicated to providing a safe and nurturing space for chest- and breastfeeding individuals to access professional assistance free of charge\, receive unwavering support\, and gain access to invaluable resources essential for the success of their journeys. We understand the significance of supporting individuals and their infants during this crucial stage of life\, and our mission is to create an inclusive environment where everyone feels empowered and supported. \nThe Baby Café is a walk-in parent support group with lactation professionals present to provide support for baby feeding. This free service is available in partnership with Bronson Health Foundation and W.K. Kellogg Foundation. \n  \nDate: Weekly on Thursdays \nTime: 10am-12pm \nLocation: Rootead Enrichment Center\, 505 East Kalamazoo Ave. Suite 0\, Kalamazoo\, MI 49007 \n 
URL:https://rootead.org/event/baby-cafe-open-hours-may-15-2025/
LOCATION:Rootead\, 505 E Kalamazoo Ave\, Suite 3\, Kalamazoo\, 49007
CATEGORIES:Birth Justice,Home
END:VEVENT
BEGIN:VEVENT
DTSTART;TZID=UTC:20250521T100000
DTEND;TZID=UTC:20250521T113000
DTSTAMP:20260424T055628
CREATED:20250127T181333Z
LAST-MODIFIED:20250127T181333Z
UID:10000521-1747821600-1747827000@rootead.org
SUMMARY:Village Playdate
DESCRIPTION:Are you and your little(s) looking for a fun place to learn and play that focuses on inclusivity and community? Come join the village! \n???? Village Playdates are weekly drop-ins with story time and activities to participate in at no cost. \n  \nVillage Playdates will be every Wednesday from 10 AM – 11:30 AM at the Kalamazoo Baby Café at Rootead. \n  \n 
URL:https://rootead.org/event/village-playdate-may-21-2025/
LOCATION:Rootead\, 505 E Kalamazoo Ave\, Suite 3\, Kalamazoo\, 49007
CATEGORIES:Birth Justice,Home
END:VEVENT
BEGIN:VEVENT
DTSTART;TZID=UTC:20250521T110000
DTEND;TZID=UTC:20250521T130000
DTSTAMP:20260424T055628
CREATED:20250127T182610Z
LAST-MODIFIED:20250127T182610Z
UID:10000530-1747825200-1747832400@rootead.org
SUMMARY:Diaper Giveaway @ Baby Café
DESCRIPTION:Diaper Giveaway Every Wednesday!\nDiaper giveaway will be every Wednesday from 11 AM -1 PM.  Come to the Village Playdates and also get free diapers! \nNewborn – 4t/ 5t Pull-ups ~ Limited supply\, first come first serve! \n  \n???? Village Playdates are weekly drop-ins with story time and activities to participate in at no cost. \nVillage Playdates will be every Wednesday from 10 AM – 11:30 AM at the Kalamazoo Baby Café at Rootead. \n  \n 
URL:https://rootead.org/event/diaper-giveaway-baby-cafe-may-21-2025/
LOCATION:Rootead\, 505 E Kalamazoo Ave\, Suite 3\, Kalamazoo\, 49007
CATEGORIES:Birth Justice,Home
ATTACH;FMTTYPE=image/png:https://rootead.org/wp-content/uploads/2024/09/Diaper-Giveaway.png
END:VEVENT
BEGIN:VEVENT
DTSTART;TZID=UTC:20250522T100000
DTEND;TZID=UTC:20250522T120000
DTSTAMP:20260424T055628
CREATED:20250127T183705Z
LAST-MODIFIED:20250127T183705Z
UID:10000539-1747908000-1747915200@rootead.org
SUMMARY:Baby Café Open Hours
DESCRIPTION:Announcing our new Kalamazoo Baby Café at Rootead!\nThursdays weekly from 10 AM – 12 PM \nOur weekly Kalamazoo Baby Café at Rootead is a new initiative in our community\, dedicated to providing a safe and nurturing space for chest- and breastfeeding individuals to access professional assistance free of charge\, receive unwavering support\, and gain access to invaluable resources essential for the success of their journeys. We understand the significance of supporting individuals and their infants during this crucial stage of life\, and our mission is to create an inclusive environment where everyone feels empowered and supported. \nThe Baby Café is a walk-in parent support group with lactation professionals present to provide support for baby feeding. This free service is available in partnership with Bronson Health Foundation and W.K. Kellogg Foundation. \n  \nDate: Weekly on Thursdays \nTime: 10am-12pm \nLocation: Rootead Enrichment Center\, 505 East Kalamazoo Ave. Suite 0\, Kalamazoo\, MI 49007 \n 
URL:https://rootead.org/event/baby-cafe-open-hours-may-22-2025/
LOCATION:Rootead\, 505 E Kalamazoo Ave\, Suite 3\, Kalamazoo\, 49007
CATEGORIES:Birth Justice,Home
END:VEVENT
BEGIN:VEVENT
DTSTART;TZID=UTC:20250528T100000
DTEND;TZID=UTC:20250528T113000
DTSTAMP:20260424T055628
CREATED:20250127T181435Z
LAST-MODIFIED:20250127T181435Z
UID:10000522-1748426400-1748431800@rootead.org
SUMMARY:Village Playdate
DESCRIPTION:Are you and your little(s) looking for a fun place to learn and play that focuses on inclusivity and community? Come join the village! \n???? Village Playdates are weekly drop-ins with story time and activities to participate in at no cost. \n  \nVillage Playdates will be every Wednesday from 10 AM – 11:30 AM at the Kalamazoo Baby Café at Rootead. \n  \n 
URL:https://rootead.org/event/village-playdate-may-28-2025/
LOCATION:Rootead\, 505 E Kalamazoo Ave\, Suite 3\, Kalamazoo\, 49007
CATEGORIES:Birth Justice,Home
END:VEVENT
BEGIN:VEVENT
DTSTART;TZID=UTC:20250528T110000
DTEND;TZID=UTC:20250528T130000
DTSTAMP:20260424T055628
CREATED:20250127T182707Z
LAST-MODIFIED:20250127T182707Z
UID:10000531-1748430000-1748437200@rootead.org
SUMMARY:Diaper Giveaway @ Baby Café
DESCRIPTION:Diaper Giveaway Every Wednesday!\nDiaper giveaway will be every Wednesday from 11 AM -1 PM.  Come to the Village Playdates and also get free diapers! \nNewborn – 4t/ 5t Pull-ups ~ Limited supply\, first come first serve! \n  \n???? Village Playdates are weekly drop-ins with story time and activities to participate in at no cost. \nVillage Playdates will be every Wednesday from 10 AM – 11:30 AM at the Kalamazoo Baby Café at Rootead. \n  \n 
URL:https://rootead.org/event/diaper-giveaway-baby-cafe-may-28-2025/
LOCATION:Rootead\, 505 E Kalamazoo Ave\, Suite 3\, Kalamazoo\, 49007
CATEGORIES:Birth Justice,Home
ATTACH;FMTTYPE=image/png:https://rootead.org/wp-content/uploads/2024/09/Diaper-Giveaway.png
END:VEVENT
BEGIN:VEVENT
DTSTART;TZID=UTC:20250529T100000
DTEND;TZID=UTC:20250529T120000
DTSTAMP:20260424T055628
CREATED:20250127T183804Z
LAST-MODIFIED:20250127T183804Z
UID:10000540-1748512800-1748520000@rootead.org
SUMMARY:Baby Café Open Hours
DESCRIPTION:Announcing our new Kalamazoo Baby Café at Rootead!\nThursdays weekly from 10 AM – 12 PM \nOur weekly Kalamazoo Baby Café at Rootead is a new initiative in our community\, dedicated to providing a safe and nurturing space for chest- and breastfeeding individuals to access professional assistance free of charge\, receive unwavering support\, and gain access to invaluable resources essential for the success of their journeys. We understand the significance of supporting individuals and their infants during this crucial stage of life\, and our mission is to create an inclusive environment where everyone feels empowered and supported. \nThe Baby Café is a walk-in parent support group with lactation professionals present to provide support for baby feeding. This free service is available in partnership with Bronson Health Foundation and W.K. Kellogg Foundation. \n  \nDate: Weekly on Thursdays \nTime: 10am-12pm \nLocation: Rootead Enrichment Center\, 505 East Kalamazoo Ave. Suite 0\, Kalamazoo\, MI 49007 \n 
URL:https://rootead.org/event/baby-cafe-open-hours-may-29-2025/
LOCATION:Rootead\, 505 E Kalamazoo Ave\, Suite 3\, Kalamazoo\, 49007
CATEGORIES:Birth Justice,Home
END:VEVENT
BEGIN:VEVENT
DTSTART;TZID=UTC:20250530T173000
DTEND;TZID=UTC:20250530T193000
DTSTAMP:20260424T055628
CREATED:20250529T161747Z
LAST-MODIFIED:20250529T165221Z
UID:10000609-1748626200-1748633400@rootead.org
SUMMARY:Business Basics Class for Doulas
DESCRIPTION:Business Basics Class for Doulas\n*The Business Basics Class for Doulas is offered to current Rootead cohort Doulas only. Not open to the public. \nThe Doula Business Basics Course is a unique training program designed for doulas who are just starting their doula business. Visioning\, launching\, and growing a business is a creative act. It necessarily involves getting outside of your comfort zone\, the humility to be a novice\, and a willingness to learn. The payoff is becoming one of those rare people who loves their job and gets paid for doing work you were born to do\, on your own terms. Join us for a highly interactive covering the following topics. \n  \nDate: Friday\, May 30th \nTime: 5:30 PM \nLocation: Rootead Enrichment Center\, 505 East Kalamazoo Ave. Suite 0\, Kalamazoo\, MI 49007 \n 
URL:https://rootead.org/event/business-basics-class-doulas-may-30-2025/
LOCATION:Rootead\, 505 E Kalamazoo Ave\, Suite 3\, Kalamazoo\, 49007
CATEGORIES:Birth Justice,Home
END:VEVENT
END:VCALENDAR