BEGIN:VCALENDAR
VERSION:2.0
PRODID:-//Rootead - ECPv6.15.20//NONSGML v1.0//EN
CALSCALE:GREGORIAN
METHOD:PUBLISH
X-WR-CALNAME:Rootead
X-ORIGINAL-URL:https://rootead.org
X-WR-CALDESC:Events for Rootead
REFRESH-INTERVAL;VALUE=DURATION:PT1H
X-Robots-Tag:noindex
X-PUBLISHED-TTL:PT1H
BEGIN:VTIMEZONE
TZID:UTC
BEGIN:STANDARD
TZOFFSETFROM:+0000
TZOFFSETTO:+0000
TZNAME:UTC
DTSTART:20240101T000000
END:STANDARD
END:VTIMEZONE
BEGIN:VEVENT
DTSTART;VALUE=DATE:20250823
DTEND;VALUE=DATE:20250909
DTSTAMP:20260423T232311
CREATED:20250529T201357Z
LAST-MODIFIED:20250529T201554Z
UID:10000619-1755907200-1757375999@rootead.org
SUMMARY:CLOSED for Annual Rest and Reset
DESCRIPTION:Rootead Enrichment Center will be closed as we rest & reset from Saturday\, August 23rd – Monday\, September 8th. \nProgramming will be temporarily paused during this period. Kalamazoo Baby Café at Rootead will not be running during this period on August 28th or September 4th. \n 
URL:https://rootead.org/event/closed-for-annual-rest-and-reset-2025/
LOCATION:Rootead\, 505 E Kalamazoo Ave\, Suite 3\, Kalamazoo\, 49007
CATEGORIES:Home
END:VEVENT
BEGIN:VEVENT
DTSTART;TZID=UTC:20250906T110000
DTEND;TZID=UTC:20250906T130000
DTSTAMP:20260423T232311
CREATED:20250814T182636Z
LAST-MODIFIED:20250814T182636Z
UID:10000632-1757156400-1757163600@rootead.org
SUMMARY:Doulas + Donuts
DESCRIPTION:Doulas & Donuts\nSaturday\, September 6th from 11 AM- 1 PM \nDoulas & Donuts is your chance to mingle with fellow birth workers\, share experiences\, and build relationships in a relaxed\, welcoming space\, complete with fresh donuts and coffee. During this gathering\, you’ll also learn about Rootead’s upcoming trainings for doulas\, including skill-building workshops\, continuing education opportunities\, and programs designed to deepen your impact in the families you serve. Whether you’re a seasoned doula\, just starting out\, or curious about expanding your services\, this is the perfect place to connect\, learn\, and grow. \n\n  \nDate: Saturday\, September 6 \nTime: 11 AM – 1 PM \nLocation: Kalamazoo Baby Café at Rootead\, 505 E Kalamazoo Ave\, Suite 0\, Kalamazoo\, MI 49007 \n  \n 
URL:https://rootead.org/event/doulas-and-donuts-sept-6-2025/
LOCATION:Rootead\, 505 E Kalamazoo Ave\, Suite 3\, Kalamazoo\, 49007
CATEGORIES:Birth Justice,Home
ATTACH;FMTTYPE=image/png:https://rootead.org/wp-content/uploads/2025/08/Doulas-Donuts-1.png
END:VEVENT
BEGIN:VEVENT
DTSTART;TZID=UTC:20250910T100000
DTEND;TZID=UTC:20250910T113000
DTSTAMP:20260423T232311
CREATED:20250806T150532Z
LAST-MODIFIED:20250806T150532Z
UID:10000624-1757498400-1757503800@rootead.org
SUMMARY:Village Playdate
DESCRIPTION:Are you and your little(s) looking for a fun place to learn and play that focuses on inclusivity and community? Come join the village! \nVillage Playdates are weekly drop-ins with story time and activities to participate in at no cost. \n  \nVillage Playdates will be every Wednesday from 10 AM – 11:30 AM at the Kalamazoo Baby Café at Rootead. \n  \n 
URL:https://rootead.org/event/village-playdate-sept-10-2025/
LOCATION:Rootead\, 505 E Kalamazoo Ave\, Suite 3\, Kalamazoo\, 49007
CATEGORIES:Birth Justice,Home
ATTACH;FMTTYPE=image/png:https://rootead.org/wp-content/uploads/2025/04/Screenshot-2025-04-21-at-12.04.44 PM.png
END:VEVENT
BEGIN:VEVENT
DTSTART;TZID=UTC:20250910T110000
DTEND;TZID=UTC:20250910T130000
DTSTAMP:20260423T232311
CREATED:20250821T162950Z
LAST-MODIFIED:20250821T162950Z
UID:10000637-1757502000-1757509200@rootead.org
SUMMARY:Diaper Giveaway @ Baby Café
DESCRIPTION:Diaper Giveaway Every Wednesday!\nDiaper giveaway will be every Wednesday from 11 AM -1 PM.  Come to the Village Playdates and also get free diapers! \nNewborn – 4t/ 5t Pull-ups ~ Limited supply\, first come first serve! \n  \nVillage Playdates are weekly drop-ins with story time and activities to participate in at no cost. \nVillage Playdates will be every Wednesday from 10 AM – 11:30 AM at the Kalamazoo Baby Café at Rootead. \n  \n 
URL:https://rootead.org/event/diaper-giveaway-baby-cafe-sep-10-2025/
LOCATION:Rootead\, 505 E Kalamazoo Ave\, Suite 3\, Kalamazoo\, 49007
CATEGORIES:Birth Justice,Home
ATTACH;FMTTYPE=image/png:https://rootead.org/wp-content/uploads/2024/09/Diaper-Giveaway.png
END:VEVENT
BEGIN:VEVENT
DTSTART;TZID=UTC:20250911T100000
DTEND;TZID=UTC:20250911T120000
DTSTAMP:20260423T232311
CREATED:20250827T184030Z
LAST-MODIFIED:20250827T184030Z
UID:10000651-1757584800-1757592000@rootead.org
SUMMARY:Baby Café Open Hours
DESCRIPTION:Announcing our new Kalamazoo Baby Café at Rootead!\nThursdays weekly from 10 AM – 12 PM \nOur weekly Kalamazoo Baby Café at Rootead is a new initiative in our community\, dedicated to providing a safe and nurturing space for chest- and breastfeeding individuals to access professional assistance free of charge\, receive unwavering support\, and gain access to invaluable resources essential for the success of their journeys. We understand the significance of supporting individuals and their infants during this crucial stage of life\, and our mission is to create an inclusive environment where everyone feels empowered and supported. \nThe Baby Café is a walk-in parent support group with lactation professionals present to provide support for baby feeding. This free service is available in partnership with Bronson Health Foundation and W.K. Kellogg Foundation. \n  \nDate: Weekly on Thursdays \nTime: 10am-12pm \nLocation: Rootead Enrichment Center\, 505 East Kalamazoo Ave. Suite 0\, Kalamazoo\, MI 49007 \n 
URL:https://rootead.org/event/baby-cafe-open-hours-sept-11-2025/
LOCATION:Rootead\, 505 E Kalamazoo Ave\, Suite 3\, Kalamazoo\, 49007
CATEGORIES:Birth Justice,Home
END:VEVENT
BEGIN:VEVENT
DTSTART;TZID=UTC:20250911T193000
DTEND;TZID=UTC:20250911T210000
DTSTAMP:20260423T232311
CREATED:20250906T175618Z
LAST-MODIFIED:20250906T175618Z
UID:10000673-1757619000-1757624400@rootead.org
SUMMARY:Open Mic Night
DESCRIPTION:Join us for Open Mic Night!\nCreating space for young adults through the healing art of spoken word. Join us every 2nd Thursday of the month from 7:30–9 PM for Open Mic Night! Whether you’re a seasoned poet\, first-time performer\, or just want to vibe with the community\, all are welcome. Tea and water will be provided. In partnership with RAWK. \n  \n🎤 Sign-up to perform at the door \n🎟️ Suggested entry donation of $5 \n  \nThis event is for ages 18+.
URL:https://rootead.org/event/open-mic-night-sept-11-2025/
LOCATION:Rootead\, 505 E Kalamazoo Ave\, Suite 3\, Kalamazoo\, 49007
CATEGORIES:Community Healing,Home
ATTACH;FMTTYPE=image/png:https://rootead.org/wp-content/uploads/2025/09/Open-Mic-General-Flyer.png
END:VEVENT
BEGIN:VEVENT
DTSTART;VALUE=DATE:20250913
DTEND;VALUE=DATE:20250914
DTSTAMP:20260423T232311
CREATED:20250625T163133Z
LAST-MODIFIED:20250626T193149Z
UID:10000620-1757721600-1757807999@rootead.org
SUMMARY:Community Based Doula Training
DESCRIPTION:Announcing Community Based Doula Training Fall 2025 Cohort!\nNow accepting applications — application deadline is July 31st. \nFOR FULL INFORMATION\, CLICK HERE
URL:https://rootead.org/event/community-based-doula-training-fall-2025/
LOCATION:Rootead\, 505 E Kalamazoo Ave\, Suite 3\, Kalamazoo\, 49007
CATEGORIES:Birth Justice,Home
ATTACH;FMTTYPE=image/png:https://rootead.org/wp-content/uploads/2025/06/Doula-Training-Flyer-Fall-2025.png
END:VEVENT
BEGIN:VEVENT
DTSTART;TZID=UTC:20250917T100000
DTEND;TZID=UTC:20250917T113000
DTSTAMP:20260423T232311
CREATED:20250421T172400Z
LAST-MODIFIED:20250806T150645Z
UID:10000575-1758103200-1758108600@rootead.org
SUMMARY:Village Playdate
DESCRIPTION:Are you and your little(s) looking for a fun place to learn and play that focuses on inclusivity and community? Come join the village! \nVillage Playdates are weekly drop-ins with story time and activities to participate in at no cost. \n  \nVillage Playdates will be every Wednesday from 10 AM – 11:30 AM at the Kalamazoo Baby Café at Rootead. \n  \n 
URL:https://rootead.org/event/village-playdate-sept-17-2025/
LOCATION:Rootead\, 505 E Kalamazoo Ave\, Suite 3\, Kalamazoo\, 49007
CATEGORIES:Birth Justice,Home
ATTACH;FMTTYPE=image/png:https://rootead.org/wp-content/uploads/2025/04/Screenshot-2025-04-21-at-12.04.44 PM.png
END:VEVENT
BEGIN:VEVENT
DTSTART;TZID=UTC:20250917T110000
DTEND;TZID=UTC:20250917T130000
DTSTAMP:20260423T232311
CREATED:20250821T163630Z
LAST-MODIFIED:20250821T163630Z
UID:10000638-1758106800-1758114000@rootead.org
SUMMARY:Diaper Giveaway @ Baby Café
DESCRIPTION:Diaper Giveaway Every Wednesday!\nDiaper giveaway will be every Wednesday from 11 AM -1 PM.  Come to the Village Playdates and also get free diapers! \nNewborn – 4t/ 5t Pull-ups ~ Limited supply\, first come first serve! \n  \nVillage Playdates are weekly drop-ins with story time and activities to participate in at no cost. \nVillage Playdates will be every Wednesday from 10 AM – 11:30 AM at the Kalamazoo Baby Café at Rootead. \n  \n 
URL:https://rootead.org/event/diaper-giveaway-baby-cafe-sept-17-2025/
LOCATION:Rootead\, 505 E Kalamazoo Ave\, Suite 3\, Kalamazoo\, 49007
CATEGORIES:Birth Justice,Home
ATTACH;FMTTYPE=image/png:https://rootead.org/wp-content/uploads/2024/09/Diaper-Giveaway.png
END:VEVENT
BEGIN:VEVENT
DTSTART;TZID=UTC:20250918T100000
DTEND;TZID=UTC:20250918T120000
DTSTAMP:20260423T232311
CREATED:20250827T184207Z
LAST-MODIFIED:20250827T184207Z
UID:10000652-1758189600-1758196800@rootead.org
SUMMARY:Baby Café Open Hours
DESCRIPTION:Announcing our new Kalamazoo Baby Café at Rootead!\nThursdays weekly from 10 AM – 12 PM \nOur weekly Kalamazoo Baby Café at Rootead is a new initiative in our community\, dedicated to providing a safe and nurturing space for chest- and breastfeeding individuals to access professional assistance free of charge\, receive unwavering support\, and gain access to invaluable resources essential for the success of their journeys. We understand the significance of supporting individuals and their infants during this crucial stage of life\, and our mission is to create an inclusive environment where everyone feels empowered and supported. \nThe Baby Café is a walk-in parent support group with lactation professionals present to provide support for baby feeding. This free service is available in partnership with Bronson Health Foundation and W.K. Kellogg Foundation. \n  \nDate: Weekly on Thursdays \nTime: 10am-12pm \nLocation: Rootead Enrichment Center\, 505 East Kalamazoo Ave. Suite 0\, Kalamazoo\, MI 49007 \n 
URL:https://rootead.org/event/baby-cafe-open-hours-sept-18-2025/
LOCATION:Rootead\, 505 E Kalamazoo Ave\, Suite 3\, Kalamazoo\, 49007
CATEGORIES:Birth Justice,Home
END:VEVENT
BEGIN:VEVENT
DTSTART;TZID=UTC:20250920T100000
DTEND;TZID=UTC:20250920T160000
DTSTAMP:20260423T232311
CREATED:20250827T181955Z
LAST-MODIFIED:20250827T182145Z
UID:10000649-1758362400-1758384000@rootead.org
SUMMARY:Perinatal Loss Training for Doulas
DESCRIPTION:Perinatal Loss Training for Doulas\nSaturday\, September 20th from 10 AM- 4 PM \nSupporting families through miscarriage\, stillbirth\, or infant loss requires deep compassion\, sensitivity\, and specialized skills. This training prepares doulas to walk alongside grieving families with presence\, respect\, and emotional safety—while honoring each family’s unique experience. Presented by Tides of Life Doula & Perinatal Bereavement Services LLC. \nYou’ll walk away from the training with tools to: \n\nUnderstand the different types of perinatal loss and the physical aspects of each\nExplore the emotional impact of grief on individuals and families\nCommunicate with compassion while reducing the risk of added harm\nOffer practical support in both hospital and home settings — before\, during\, and after a loss\nFacilitate memory making\, legacy building\, and ways families can honor their baby\nSupport clients through pregnancy after loss\, holding space for both hope and fear\n\nCreated and led by an experienced bereavement educator and birth worker\, this in-person session is grounded in both lived experience and clinical insight. \n  \nREGISTRATION IS REQUIRED. Your registration includes:\n\nFull-day\, in-person training\nNourishing lunch and light refreshments\nGentle 30-minute yoga session (optional)\nDownloadable guides and checklists\nCertificate of completion\nCommunity connection with like-hearted professionals\n\n\nREGISTER HERE: Perinatal Loss Training for Doulas at Rootead\n  \nDate: Saturday\, September 20th \nTime: 10 AM – 4 PM \nCost: $279 \nLocation: Rootead Enrichment Center\, 505 E Kalamazoo Ave\, Suite 3\, Kalamazoo\, MI 49007 \n  \n 
URL:https://rootead.org/event/perinatal-loss-training-for-doulas-sept-20-2025/
LOCATION:Rootead\, 505 E Kalamazoo Ave\, Suite 3\, Kalamazoo\, 49007
CATEGORIES:Birth Justice,Home
ATTACH;FMTTYPE=image/png:https://rootead.org/wp-content/uploads/2025/08/Training-Flyer-QR-1-scaled.png
END:VEVENT
BEGIN:VEVENT
DTSTART;TZID=UTC:20250924T100000
DTEND;TZID=UTC:20250924T113000
DTSTAMP:20260423T232311
CREATED:20250421T172610Z
LAST-MODIFIED:20250806T150758Z
UID:10000577-1758708000-1758713400@rootead.org
SUMMARY:Village Playdate
DESCRIPTION:Are you and your little(s) looking for a fun place to learn and play that focuses on inclusivity and community? Come join the village! \nVillage Playdates are weekly drop-ins with story time and activities to participate in at no cost. \n  \nVillage Playdates will be every Wednesday from 10 AM – 11:30 AM at the Kalamazoo Baby Café at Rootead. \n  \n 
URL:https://rootead.org/event/village-playdate-sept-24-2025/
LOCATION:Rootead\, 505 E Kalamazoo Ave\, Suite 3\, Kalamazoo\, 49007
CATEGORIES:Birth Justice,Home
ATTACH;FMTTYPE=image/png:https://rootead.org/wp-content/uploads/2025/04/Screenshot-2025-04-21-at-12.04.44 PM.png
END:VEVENT
BEGIN:VEVENT
DTSTART;TZID=UTC:20250924T110000
DTEND;TZID=UTC:20250924T130000
DTSTAMP:20260423T232311
CREATED:20250821T163928Z
LAST-MODIFIED:20250821T163928Z
UID:10000639-1758711600-1758718800@rootead.org
SUMMARY:Diaper Giveaway @ Baby Café
DESCRIPTION:Diaper Giveaway Every Wednesday!\nDiaper giveaway will be every Wednesday from 11 AM -1 PM.  Come to the Village Playdates and also get free diapers! \nNewborn – 4t/ 5t Pull-ups ~ Limited supply\, first come first serve! \n  \nVillage Playdates are weekly drop-ins with story time and activities to participate in at no cost. \nVillage Playdates will be every Wednesday from 10 AM – 11:30 AM at the Kalamazoo Baby Café at Rootead. \n  \n 
URL:https://rootead.org/event/diaper-giveaway-baby-cafe-sept-24-2025/
LOCATION:Rootead\, 505 E Kalamazoo Ave\, Suite 3\, Kalamazoo\, 49007
CATEGORIES:Birth Justice,Home
ATTACH;FMTTYPE=image/png:https://rootead.org/wp-content/uploads/2024/09/Diaper-Giveaway.png
END:VEVENT
BEGIN:VEVENT
DTSTART;TZID=UTC:20250925T100000
DTEND;TZID=UTC:20250925T120000
DTSTAMP:20260423T232311
CREATED:20250827T184404Z
LAST-MODIFIED:20250827T184404Z
UID:10000653-1758794400-1758801600@rootead.org
SUMMARY:Baby Café Open Hours
DESCRIPTION:Announcing our new Kalamazoo Baby Café at Rootead!\nThursdays weekly from 10 AM – 12 PM \nOur weekly Kalamazoo Baby Café at Rootead is a new initiative in our community\, dedicated to providing a safe and nurturing space for chest- and breastfeeding individuals to access professional assistance free of charge\, receive unwavering support\, and gain access to invaluable resources essential for the success of their journeys. We understand the significance of supporting individuals and their infants during this crucial stage of life\, and our mission is to create an inclusive environment where everyone feels empowered and supported. \nThe Baby Café is a walk-in parent support group with lactation professionals present to provide support for baby feeding. This free service is available in partnership with Bronson Health Foundation and W.K. Kellogg Foundation. \n  \nDate: Weekly on Thursdays \nTime: 10am-12pm \nLocation: Rootead Enrichment Center\, 505 East Kalamazoo Ave. Suite 0\, Kalamazoo\, MI 49007 \n 
URL:https://rootead.org/event/baby-cafe-open-hours-sept-25-2025/
LOCATION:Rootead\, 505 E Kalamazoo Ave\, Suite 3\, Kalamazoo\, 49007
CATEGORIES:Birth Justice,Home
END:VEVENT
BEGIN:VEVENT
DTSTART;TZID=UTC:20250925T160000
DTEND;TZID=UTC:20250925T173000
DTSTAMP:20260423T232311
CREATED:20250906T184923Z
LAST-MODIFIED:20251001T154825Z
UID:10000689-1758816000-1758821400@rootead.org
SUMMARY:RYDDE Auditions
DESCRIPTION:Audition for RYDDE (Rootead Youth Drum & Dance Ensemble)\nRYDDE is a non-competitive\, pre-professional youth & dance company for middle and high school aged youth. They perform in the wider Kalamazoo area\, training in the arts of the Black diaspora. RYDEE is open to ages 13-18.\nRYDDE seasons align with the KPS school calendar\, and the youth meet Tuesdays\, Wednesdays\, and Thursdays from 3:30-5:30 PM at Rootead’s Studio. Transportation is available for youth who live within the Greater Kalamazoo area. \nRegistration for auditions is required.  \n  \nRYDDE Auditions will be September 25th-27th at Rootead’s Studio with a breakdown of the audition dates/times below:\n\nDancer Auditions: Thursday\, September 25th\,  4:00 PM – 5:30 PM\nDrummer & Dancer Auditions: Friday\, September 26th\,  5:00 PM – 6:30 PM\nDancer Auditions: Saturday\, September 27th\,  2:00 PM – 3:30 PM\n\n  \nREGISTER HERE\n  \nWhere: 505 East Kalamazoo Ave.\, Suite 3\, Kalamazoo\, MI 49007 \nWhen: Thursday\, September 25th-Saturday\, September 27th \n  \nLearn more about RYDDE here. \n  \n 
URL:https://rootead.org/event/rydde-auditions-sept-25-2025/
LOCATION:Rootead\, 505 E Kalamazoo Ave\, Suite 3\, Kalamazoo\, 49007
CATEGORIES:Home,Youth Enrichment
ATTACH;FMTTYPE=image/png:https://rootead.org/wp-content/uploads/2025/09/RYDDE-Auditions-SM-flyer.png
END:VEVENT
BEGIN:VEVENT
DTSTART;TZID=UTC:20250926T170000
DTEND;TZID=UTC:20250926T183000
DTSTAMP:20260423T232311
CREATED:20250906T185113Z
LAST-MODIFIED:20250906T185113Z
UID:10000690-1758906000-1758911400@rootead.org
SUMMARY:RYDDE Auditions
DESCRIPTION:Audition for RYDDE (Rootead Youth Drum & Dance Ensemble)\nRYDDE is a non-competitive\, pre-professional youth & dance company for middle and high school aged youth. They perform in the wider Kalamazoo area\, training in the arts of the Black diaspora. RYDEE is open to ages 13-18.\nRYDDE seasons align with the KPS school calendar\, and the youth meet Tuesdays\, Wednesdays\, and Thursdays from 3:30-5:30 PM at Rootead’s Studio. Transportation is available for youth who live within the Greater Kalamazoo area. \nRegistration for auditions is required.  \n  \nRYDDE Auditions will be September 25th-27th at Rootead’s Studio with a breakdown of the audition dates/times below:\n\nDancer Auditions: Thursday\, September 25th\,  4:00 PM – 5:30 PM\nDrummer & Dancer Auditions: Friday\, September 26th\,  5:00 PM – 6:30 PM\nDancer Auditions: Saturday\, September 27th\,  2:00 PM – 3:30 PM\n\n  \nREGISTER HERE\n  \nWhere: 505 East Kalamazoo Ave.\, Suite 3\, Kalamazoo\, MI 49007 \nWhen: Thursday\, September 25th-Saturday\, September 27th \n  \nLearn more about RYDDE here. \n  \n 
URL:https://rootead.org/event/rydde-auditions-sept-26-2025/
LOCATION:Rootead\, 505 E Kalamazoo Ave\, Suite 3\, Kalamazoo\, 49007
CATEGORIES:Home,Youth Enrichment
ATTACH;FMTTYPE=image/png:https://rootead.org/wp-content/uploads/2025/09/RYDDE-Auditions-SM-flyer.png
END:VEVENT
BEGIN:VEVENT
DTSTART;TZID=UTC:20250927T140000
DTEND;TZID=UTC:20250927T153000
DTSTAMP:20260423T232311
CREATED:20250906T185227Z
LAST-MODIFIED:20250906T185227Z
UID:10000691-1758981600-1758987000@rootead.org
SUMMARY:RYDDE Auditions
DESCRIPTION:Audition for RYDDE (Rootead Youth Drum & Dance Ensemble)\nRYDDE is a non-competitive\, pre-professional youth & dance company for middle and high school aged youth. They perform in the wider Kalamazoo area\, training in the arts of the Black diaspora. RYDEE is open to ages 13-18.\nRYDDE seasons align with the KPS school calendar\, and the youth meet Tuesdays\, Wednesdays\, and Thursdays from 3:30-5:30 PM at Rootead’s Studio. Transportation is available for youth who live within the Greater Kalamazoo area. \nRegistration for auditions is required.  \n  \nRYDDE Auditions will be September 25th-27th at Rootead’s Studio with a breakdown of the audition dates/times below:\n\nDancer Auditions: Thursday\, September 25th\,  4:00 PM – 5:30 PM\nDrummer & Dancer Auditions: Friday\, September 26th\,  5:00 PM – 6:30 PM\nDancer Auditions: Saturday\, September 27th\,  2:00 PM – 3:30 PM\n\n  \nREGISTER HERE\n  \nWhere: 505 East Kalamazoo Ave.\, Suite 3\, Kalamazoo\, MI 49007 \nWhen: Thursday\, September 25th-Saturday\, September 27th \n  \nLearn more about RYDDE here. \n  \n 
URL:https://rootead.org/event/rydde-auditions-sept-27-2025/
LOCATION:Rootead\, 505 E Kalamazoo Ave\, Suite 3\, Kalamazoo\, 49007
CATEGORIES:Home,Youth Enrichment
ATTACH;FMTTYPE=image/png:https://rootead.org/wp-content/uploads/2025/09/RYDDE-Auditions-SM-flyer.png
END:VEVENT
END:VCALENDAR