BEGIN:VCALENDAR
VERSION:2.0
PRODID:-//Rootead - ECPv6.15.20//NONSGML v1.0//EN
CALSCALE:GREGORIAN
METHOD:PUBLISH
X-WR-CALNAME:Rootead
X-ORIGINAL-URL:https://rootead.org
X-WR-CALDESC:Events for Rootead
REFRESH-INTERVAL;VALUE=DURATION:PT1H
X-Robots-Tag:noindex
X-PUBLISHED-TTL:PT1H
BEGIN:VTIMEZONE
TZID:UTC
BEGIN:STANDARD
TZOFFSETFROM:+0000
TZOFFSETTO:+0000
TZNAME:UTC
DTSTART:20250101T000000
END:STANDARD
END:VTIMEZONE
BEGIN:VEVENT
DTSTART;TZID=UTC:20260624T110000
DTEND;TZID=UTC:20260624T130000
DTSTAMP:20260423T155828
CREATED:20260324T172751Z
LAST-MODIFIED:20260324T180023Z
UID:10000776-1782298800-1782306000@rootead.org
SUMMARY:Diaper Giveaway @ Baby Café
DESCRIPTION:Diaper Giveaway Every Wednesday!\nDiaper giveaway will be every Wednesday from 11 AM -1 PM.  Come to the Village Playdates and also get free diapers! \nNewborn – 4t/ 5t Pull-ups ~ Limited supply\, first come first serve! \n 
URL:https://rootead.org/event/diaper-giveaway-jun-24-2026/2026-06-24/
LOCATION:Rootead\, 505 E Kalamazoo Ave\, Suite 3\, Kalamazoo\, 49007
CATEGORIES:Birth Justice,Home
ATTACH;FMTTYPE=image/png:https://rootead.org/wp-content/uploads/2024/09/Diaper-Giveaway.png
END:VEVENT
BEGIN:VEVENT
DTSTART;TZID=UTC:20260701T110000
DTEND;TZID=UTC:20260701T130000
DTSTAMP:20260423T155828
CREATED:20260324T172751Z
LAST-MODIFIED:20260324T180023Z
UID:10000777-1782903600-1782910800@rootead.org
SUMMARY:Diaper Giveaway @ Baby Café
DESCRIPTION:Diaper Giveaway Every Wednesday!\nDiaper giveaway will be every Wednesday from 11 AM -1 PM.  Come to the Village Playdates and also get free diapers! \nNewborn – 4t/ 5t Pull-ups ~ Limited supply\, first come first serve! \n 
URL:https://rootead.org/event/diaper-giveaway-jun-24-2026/2026-07-01/
LOCATION:Rootead\, 505 E Kalamazoo Ave\, Suite 3\, Kalamazoo\, 49007
CATEGORIES:Birth Justice,Home
ATTACH;FMTTYPE=image/png:https://rootead.org/wp-content/uploads/2024/09/Diaper-Giveaway.png
END:VEVENT
BEGIN:VEVENT
DTSTART;TZID=UTC:20260708T110000
DTEND;TZID=UTC:20260708T130000
DTSTAMP:20260423T155828
CREATED:20260324T172751Z
LAST-MODIFIED:20260324T180023Z
UID:10000778-1783508400-1783515600@rootead.org
SUMMARY:Diaper Giveaway @ Baby Café
DESCRIPTION:Diaper Giveaway Every Wednesday!\nDiaper giveaway will be every Wednesday from 11 AM -1 PM.  Come to the Village Playdates and also get free diapers! \nNewborn – 4t/ 5t Pull-ups ~ Limited supply\, first come first serve! \n 
URL:https://rootead.org/event/diaper-giveaway-jun-24-2026/2026-07-08/
LOCATION:Rootead\, 505 E Kalamazoo Ave\, Suite 3\, Kalamazoo\, 49007
CATEGORIES:Birth Justice,Home
ATTACH;FMTTYPE=image/png:https://rootead.org/wp-content/uploads/2024/09/Diaper-Giveaway.png
END:VEVENT
BEGIN:VEVENT
DTSTART;TZID=UTC:20260715T110000
DTEND;TZID=UTC:20260715T130000
DTSTAMP:20260423T155828
CREATED:20260324T172751Z
LAST-MODIFIED:20260324T180023Z
UID:10000779-1784113200-1784120400@rootead.org
SUMMARY:Diaper Giveaway @ Baby Café
DESCRIPTION:Diaper Giveaway Every Wednesday!\nDiaper giveaway will be every Wednesday from 11 AM -1 PM.  Come to the Village Playdates and also get free diapers! \nNewborn – 4t/ 5t Pull-ups ~ Limited supply\, first come first serve! \n 
URL:https://rootead.org/event/diaper-giveaway-jun-24-2026/2026-07-15/
LOCATION:Rootead\, 505 E Kalamazoo Ave\, Suite 3\, Kalamazoo\, 49007
CATEGORIES:Birth Justice,Home
ATTACH;FMTTYPE=image/png:https://rootead.org/wp-content/uploads/2024/09/Diaper-Giveaway.png
END:VEVENT
BEGIN:VEVENT
DTSTART;TZID=UTC:20260722T110000
DTEND;TZID=UTC:20260722T130000
DTSTAMP:20260423T155828
CREATED:20260324T172751Z
LAST-MODIFIED:20260324T180023Z
UID:10000780-1784718000-1784725200@rootead.org
SUMMARY:Diaper Giveaway @ Baby Café
DESCRIPTION:Diaper Giveaway Every Wednesday!\nDiaper giveaway will be every Wednesday from 11 AM -1 PM.  Come to the Village Playdates and also get free diapers! \nNewborn – 4t/ 5t Pull-ups ~ Limited supply\, first come first serve! \n 
URL:https://rootead.org/event/diaper-giveaway-jun-24-2026/2026-07-22/
LOCATION:Rootead\, 505 E Kalamazoo Ave\, Suite 3\, Kalamazoo\, 49007
CATEGORIES:Birth Justice,Home
ATTACH;FMTTYPE=image/png:https://rootead.org/wp-content/uploads/2024/09/Diaper-Giveaway.png
END:VEVENT
BEGIN:VEVENT
DTSTART;TZID=UTC:20260729T110000
DTEND;TZID=UTC:20260729T130000
DTSTAMP:20260423T155828
CREATED:20260324T172751Z
LAST-MODIFIED:20260324T180023Z
UID:10000781-1785322800-1785330000@rootead.org
SUMMARY:Diaper Giveaway @ Baby Café
DESCRIPTION:Diaper Giveaway Every Wednesday!\nDiaper giveaway will be every Wednesday from 11 AM -1 PM.  Come to the Village Playdates and also get free diapers! \nNewborn – 4t/ 5t Pull-ups ~ Limited supply\, first come first serve! \n 
URL:https://rootead.org/event/diaper-giveaway-jun-24-2026/2026-07-29/
LOCATION:Rootead\, 505 E Kalamazoo Ave\, Suite 3\, Kalamazoo\, 49007
CATEGORIES:Birth Justice,Home
ATTACH;FMTTYPE=image/png:https://rootead.org/wp-content/uploads/2024/09/Diaper-Giveaway.png
END:VEVENT
BEGIN:VEVENT
DTSTART;TZID=UTC:20260805T110000
DTEND;TZID=UTC:20260805T130000
DTSTAMP:20260423T155828
CREATED:20260324T172751Z
LAST-MODIFIED:20260324T180023Z
UID:10000782-1785927600-1785934800@rootead.org
SUMMARY:Diaper Giveaway @ Baby Café
DESCRIPTION:Diaper Giveaway Every Wednesday!\nDiaper giveaway will be every Wednesday from 11 AM -1 PM.  Come to the Village Playdates and also get free diapers! \nNewborn – 4t/ 5t Pull-ups ~ Limited supply\, first come first serve! \n 
URL:https://rootead.org/event/diaper-giveaway-jun-24-2026/2026-08-05/
LOCATION:Rootead\, 505 E Kalamazoo Ave\, Suite 3\, Kalamazoo\, 49007
CATEGORIES:Birth Justice,Home
ATTACH;FMTTYPE=image/png:https://rootead.org/wp-content/uploads/2024/09/Diaper-Giveaway.png
END:VEVENT
BEGIN:VEVENT
DTSTART;TZID=UTC:20260812T110000
DTEND;TZID=UTC:20260812T130000
DTSTAMP:20260423T155828
CREATED:20260324T172751Z
LAST-MODIFIED:20260324T180023Z
UID:10000783-1786532400-1786539600@rootead.org
SUMMARY:Diaper Giveaway @ Baby Café
DESCRIPTION:Diaper Giveaway Every Wednesday!\nDiaper giveaway will be every Wednesday from 11 AM -1 PM.  Come to the Village Playdates and also get free diapers! \nNewborn – 4t/ 5t Pull-ups ~ Limited supply\, first come first serve! \n 
URL:https://rootead.org/event/diaper-giveaway-jun-24-2026/2026-08-12/
LOCATION:Rootead\, 505 E Kalamazoo Ave\, Suite 3\, Kalamazoo\, 49007
CATEGORIES:Birth Justice,Home
ATTACH;FMTTYPE=image/png:https://rootead.org/wp-content/uploads/2024/09/Diaper-Giveaway.png
END:VEVENT
BEGIN:VEVENT
DTSTART;TZID=UTC:20260819T110000
DTEND;TZID=UTC:20260819T130000
DTSTAMP:20260423T155828
CREATED:20260324T172751Z
LAST-MODIFIED:20260324T180023Z
UID:10000784-1787137200-1787144400@rootead.org
SUMMARY:Diaper Giveaway @ Baby Café
DESCRIPTION:Diaper Giveaway Every Wednesday!\nDiaper giveaway will be every Wednesday from 11 AM -1 PM.  Come to the Village Playdates and also get free diapers! \nNewborn – 4t/ 5t Pull-ups ~ Limited supply\, first come first serve! \n 
URL:https://rootead.org/event/diaper-giveaway-jun-24-2026/2026-08-19/
LOCATION:Rootead\, 505 E Kalamazoo Ave\, Suite 3\, Kalamazoo\, 49007
CATEGORIES:Birth Justice,Home
ATTACH;FMTTYPE=image/png:https://rootead.org/wp-content/uploads/2024/09/Diaper-Giveaway.png
END:VEVENT
BEGIN:VEVENT
DTSTART;TZID=UTC:20260826T110000
DTEND;TZID=UTC:20260826T130000
DTSTAMP:20260423T155828
CREATED:20260324T172751Z
LAST-MODIFIED:20260324T180023Z
UID:10000785-1787742000-1787749200@rootead.org
SUMMARY:Diaper Giveaway @ Baby Café
DESCRIPTION:Diaper Giveaway Every Wednesday!\nDiaper giveaway will be every Wednesday from 11 AM -1 PM.  Come to the Village Playdates and also get free diapers! \nNewborn – 4t/ 5t Pull-ups ~ Limited supply\, first come first serve! \n 
URL:https://rootead.org/event/diaper-giveaway-jun-24-2026/2026-08-26/
LOCATION:Rootead\, 505 E Kalamazoo Ave\, Suite 3\, Kalamazoo\, 49007
CATEGORIES:Birth Justice,Home
ATTACH;FMTTYPE=image/png:https://rootead.org/wp-content/uploads/2024/09/Diaper-Giveaway.png
END:VEVENT
BEGIN:VEVENT
DTSTART;TZID=UTC:20260902T110000
DTEND;TZID=UTC:20260902T130000
DTSTAMP:20260423T155828
CREATED:20260324T172751Z
LAST-MODIFIED:20260324T180023Z
UID:10000786-1788346800-1788354000@rootead.org
SUMMARY:Diaper Giveaway @ Baby Café
DESCRIPTION:Diaper Giveaway Every Wednesday!\nDiaper giveaway will be every Wednesday from 11 AM -1 PM.  Come to the Village Playdates and also get free diapers! \nNewborn – 4t/ 5t Pull-ups ~ Limited supply\, first come first serve! \n 
URL:https://rootead.org/event/diaper-giveaway-jun-24-2026/2026-09-02/
LOCATION:Rootead\, 505 E Kalamazoo Ave\, Suite 3\, Kalamazoo\, 49007
CATEGORIES:Birth Justice,Home
ATTACH;FMTTYPE=image/png:https://rootead.org/wp-content/uploads/2024/09/Diaper-Giveaway.png
END:VEVENT
BEGIN:VEVENT
DTSTART;TZID=UTC:20260909T110000
DTEND;TZID=UTC:20260909T130000
DTSTAMP:20260423T155828
CREATED:20260324T172751Z
LAST-MODIFIED:20260324T180023Z
UID:10000787-1788951600-1788958800@rootead.org
SUMMARY:Diaper Giveaway @ Baby Café
DESCRIPTION:Diaper Giveaway Every Wednesday!\nDiaper giveaway will be every Wednesday from 11 AM -1 PM.  Come to the Village Playdates and also get free diapers! \nNewborn – 4t/ 5t Pull-ups ~ Limited supply\, first come first serve! \n 
URL:https://rootead.org/event/diaper-giveaway-jun-24-2026/2026-09-09/
LOCATION:Rootead\, 505 E Kalamazoo Ave\, Suite 3\, Kalamazoo\, 49007
CATEGORIES:Birth Justice,Home
ATTACH;FMTTYPE=image/png:https://rootead.org/wp-content/uploads/2024/09/Diaper-Giveaway.png
END:VEVENT
BEGIN:VEVENT
DTSTART;TZID=UTC:20260916T110000
DTEND;TZID=UTC:20260916T130000
DTSTAMP:20260423T155828
CREATED:20260324T172751Z
LAST-MODIFIED:20260324T180023Z
UID:10000788-1789556400-1789563600@rootead.org
SUMMARY:Diaper Giveaway @ Baby Café
DESCRIPTION:Diaper Giveaway Every Wednesday!\nDiaper giveaway will be every Wednesday from 11 AM -1 PM.  Come to the Village Playdates and also get free diapers! \nNewborn – 4t/ 5t Pull-ups ~ Limited supply\, first come first serve! \n 
URL:https://rootead.org/event/diaper-giveaway-jun-24-2026/2026-09-16/
LOCATION:Rootead\, 505 E Kalamazoo Ave\, Suite 3\, Kalamazoo\, 49007
CATEGORIES:Birth Justice,Home
ATTACH;FMTTYPE=image/png:https://rootead.org/wp-content/uploads/2024/09/Diaper-Giveaway.png
END:VEVENT
BEGIN:VEVENT
DTSTART;TZID=UTC:20260923T110000
DTEND;TZID=UTC:20260923T130000
DTSTAMP:20260423T155828
CREATED:20260324T172751Z
LAST-MODIFIED:20260324T180023Z
UID:10000789-1790161200-1790168400@rootead.org
SUMMARY:Diaper Giveaway @ Baby Café
DESCRIPTION:Diaper Giveaway Every Wednesday!\nDiaper giveaway will be every Wednesday from 11 AM -1 PM.  Come to the Village Playdates and also get free diapers! \nNewborn – 4t/ 5t Pull-ups ~ Limited supply\, first come first serve! \n 
URL:https://rootead.org/event/diaper-giveaway-jun-24-2026/2026-09-23/
LOCATION:Rootead\, 505 E Kalamazoo Ave\, Suite 3\, Kalamazoo\, 49007
CATEGORIES:Birth Justice,Home
ATTACH;FMTTYPE=image/png:https://rootead.org/wp-content/uploads/2024/09/Diaper-Giveaway.png
END:VEVENT
BEGIN:VEVENT
DTSTART;TZID=UTC:20260930T110000
DTEND;TZID=UTC:20260930T130000
DTSTAMP:20260423T155828
CREATED:20260324T172751Z
LAST-MODIFIED:20260324T180023Z
UID:10000790-1790766000-1790773200@rootead.org
SUMMARY:Diaper Giveaway @ Baby Café
DESCRIPTION:Diaper Giveaway Every Wednesday!\nDiaper giveaway will be every Wednesday from 11 AM -1 PM.  Come to the Village Playdates and also get free diapers! \nNewborn – 4t/ 5t Pull-ups ~ Limited supply\, first come first serve! \n 
URL:https://rootead.org/event/diaper-giveaway-jun-24-2026/2026-09-30/
LOCATION:Rootead\, 505 E Kalamazoo Ave\, Suite 3\, Kalamazoo\, 49007
CATEGORIES:Birth Justice,Home
ATTACH;FMTTYPE=image/png:https://rootead.org/wp-content/uploads/2024/09/Diaper-Giveaway.png
END:VEVENT
BEGIN:VEVENT
DTSTART;TZID=UTC:20261007T110000
DTEND;TZID=UTC:20261007T130000
DTSTAMP:20260423T155828
CREATED:20260324T172751Z
LAST-MODIFIED:20260324T180023Z
UID:10000791-1791370800-1791378000@rootead.org
SUMMARY:Diaper Giveaway @ Baby Café
DESCRIPTION:Diaper Giveaway Every Wednesday!\nDiaper giveaway will be every Wednesday from 11 AM -1 PM.  Come to the Village Playdates and also get free diapers! \nNewborn – 4t/ 5t Pull-ups ~ Limited supply\, first come first serve! \n 
URL:https://rootead.org/event/diaper-giveaway-jun-24-2026/2026-10-07/
LOCATION:Rootead\, 505 E Kalamazoo Ave\, Suite 3\, Kalamazoo\, 49007
CATEGORIES:Birth Justice,Home
ATTACH;FMTTYPE=image/png:https://rootead.org/wp-content/uploads/2024/09/Diaper-Giveaway.png
END:VEVENT
BEGIN:VEVENT
DTSTART;TZID=UTC:20261014T110000
DTEND;TZID=UTC:20261014T130000
DTSTAMP:20260423T155828
CREATED:20260324T172751Z
LAST-MODIFIED:20260324T180023Z
UID:10000792-1791975600-1791982800@rootead.org
SUMMARY:Diaper Giveaway @ Baby Café
DESCRIPTION:Diaper Giveaway Every Wednesday!\nDiaper giveaway will be every Wednesday from 11 AM -1 PM.  Come to the Village Playdates and also get free diapers! \nNewborn – 4t/ 5t Pull-ups ~ Limited supply\, first come first serve! \n 
URL:https://rootead.org/event/diaper-giveaway-jun-24-2026/2026-10-14/
LOCATION:Rootead\, 505 E Kalamazoo Ave\, Suite 3\, Kalamazoo\, 49007
CATEGORIES:Birth Justice,Home
ATTACH;FMTTYPE=image/png:https://rootead.org/wp-content/uploads/2024/09/Diaper-Giveaway.png
END:VEVENT
BEGIN:VEVENT
DTSTART;TZID=UTC:20261021T110000
DTEND;TZID=UTC:20261021T130000
DTSTAMP:20260423T155828
CREATED:20260324T172751Z
LAST-MODIFIED:20260324T180023Z
UID:10000793-1792580400-1792587600@rootead.org
SUMMARY:Diaper Giveaway @ Baby Café
DESCRIPTION:Diaper Giveaway Every Wednesday!\nDiaper giveaway will be every Wednesday from 11 AM -1 PM.  Come to the Village Playdates and also get free diapers! \nNewborn – 4t/ 5t Pull-ups ~ Limited supply\, first come first serve! \n 
URL:https://rootead.org/event/diaper-giveaway-jun-24-2026/2026-10-21/
LOCATION:Rootead\, 505 E Kalamazoo Ave\, Suite 3\, Kalamazoo\, 49007
CATEGORIES:Birth Justice,Home
ATTACH;FMTTYPE=image/png:https://rootead.org/wp-content/uploads/2024/09/Diaper-Giveaway.png
END:VEVENT
BEGIN:VEVENT
DTSTART;TZID=UTC:20261028T110000
DTEND;TZID=UTC:20261028T130000
DTSTAMP:20260423T155828
CREATED:20260324T172751Z
LAST-MODIFIED:20260324T180023Z
UID:10000794-1793185200-1793192400@rootead.org
SUMMARY:Diaper Giveaway @ Baby Café
DESCRIPTION:Diaper Giveaway Every Wednesday!\nDiaper giveaway will be every Wednesday from 11 AM -1 PM.  Come to the Village Playdates and also get free diapers! \nNewborn – 4t/ 5t Pull-ups ~ Limited supply\, first come first serve! \n 
URL:https://rootead.org/event/diaper-giveaway-jun-24-2026/2026-10-28/
LOCATION:Rootead\, 505 E Kalamazoo Ave\, Suite 3\, Kalamazoo\, 49007
CATEGORIES:Birth Justice,Home
ATTACH;FMTTYPE=image/png:https://rootead.org/wp-content/uploads/2024/09/Diaper-Giveaway.png
END:VEVENT
BEGIN:VEVENT
DTSTART;TZID=UTC:20261104T110000
DTEND;TZID=UTC:20261104T130000
DTSTAMP:20260423T155828
CREATED:20260324T172751Z
LAST-MODIFIED:20260324T180023Z
UID:10000795-1793790000-1793797200@rootead.org
SUMMARY:Diaper Giveaway @ Baby Café
DESCRIPTION:Diaper Giveaway Every Wednesday!\nDiaper giveaway will be every Wednesday from 11 AM -1 PM.  Come to the Village Playdates and also get free diapers! \nNewborn – 4t/ 5t Pull-ups ~ Limited supply\, first come first serve! \n 
URL:https://rootead.org/event/diaper-giveaway-jun-24-2026/2026-11-04/
LOCATION:Rootead\, 505 E Kalamazoo Ave\, Suite 3\, Kalamazoo\, 49007
CATEGORIES:Birth Justice,Home
ATTACH;FMTTYPE=image/png:https://rootead.org/wp-content/uploads/2024/09/Diaper-Giveaway.png
END:VEVENT
BEGIN:VEVENT
DTSTART;TZID=UTC:20261111T110000
DTEND;TZID=UTC:20261111T130000
DTSTAMP:20260423T155828
CREATED:20260324T172751Z
LAST-MODIFIED:20260324T180023Z
UID:10000796-1794394800-1794402000@rootead.org
SUMMARY:Diaper Giveaway @ Baby Café
DESCRIPTION:Diaper Giveaway Every Wednesday!\nDiaper giveaway will be every Wednesday from 11 AM -1 PM.  Come to the Village Playdates and also get free diapers! \nNewborn – 4t/ 5t Pull-ups ~ Limited supply\, first come first serve! \n 
URL:https://rootead.org/event/diaper-giveaway-jun-24-2026/2026-11-11/
LOCATION:Rootead\, 505 E Kalamazoo Ave\, Suite 3\, Kalamazoo\, 49007
CATEGORIES:Birth Justice,Home
ATTACH;FMTTYPE=image/png:https://rootead.org/wp-content/uploads/2024/09/Diaper-Giveaway.png
END:VEVENT
BEGIN:VEVENT
DTSTART;TZID=UTC:20261118T110000
DTEND;TZID=UTC:20261118T130000
DTSTAMP:20260423T155828
CREATED:20260324T172751Z
LAST-MODIFIED:20260324T180023Z
UID:10000797-1794999600-1795006800@rootead.org
SUMMARY:Diaper Giveaway @ Baby Café
DESCRIPTION:Diaper Giveaway Every Wednesday!\nDiaper giveaway will be every Wednesday from 11 AM -1 PM.  Come to the Village Playdates and also get free diapers! \nNewborn – 4t/ 5t Pull-ups ~ Limited supply\, first come first serve! \n 
URL:https://rootead.org/event/diaper-giveaway-jun-24-2026/2026-11-18/
LOCATION:Rootead\, 505 E Kalamazoo Ave\, Suite 3\, Kalamazoo\, 49007
CATEGORIES:Birth Justice,Home
ATTACH;FMTTYPE=image/png:https://rootead.org/wp-content/uploads/2024/09/Diaper-Giveaway.png
END:VEVENT
BEGIN:VEVENT
DTSTART;TZID=UTC:20261125T110000
DTEND;TZID=UTC:20261125T130000
DTSTAMP:20260423T155828
CREATED:20260324T172751Z
LAST-MODIFIED:20260324T180023Z
UID:10000798-1795604400-1795611600@rootead.org
SUMMARY:Diaper Giveaway @ Baby Café
DESCRIPTION:Diaper Giveaway Every Wednesday!\nDiaper giveaway will be every Wednesday from 11 AM -1 PM.  Come to the Village Playdates and also get free diapers! \nNewborn – 4t/ 5t Pull-ups ~ Limited supply\, first come first serve! \n 
URL:https://rootead.org/event/diaper-giveaway-jun-24-2026/2026-11-25/
LOCATION:Rootead\, 505 E Kalamazoo Ave\, Suite 3\, Kalamazoo\, 49007
CATEGORIES:Birth Justice,Home
ATTACH;FMTTYPE=image/png:https://rootead.org/wp-content/uploads/2024/09/Diaper-Giveaway.png
END:VEVENT
BEGIN:VEVENT
DTSTART;TZID=UTC:20261202T110000
DTEND;TZID=UTC:20261202T130000
DTSTAMP:20260423T155828
CREATED:20260324T172751Z
LAST-MODIFIED:20260324T180023Z
UID:10000799-1796209200-1796216400@rootead.org
SUMMARY:Diaper Giveaway @ Baby Café
DESCRIPTION:Diaper Giveaway Every Wednesday!\nDiaper giveaway will be every Wednesday from 11 AM -1 PM.  Come to the Village Playdates and also get free diapers! \nNewborn – 4t/ 5t Pull-ups ~ Limited supply\, first come first serve! \n 
URL:https://rootead.org/event/diaper-giveaway-jun-24-2026/2026-12-02/
LOCATION:Rootead\, 505 E Kalamazoo Ave\, Suite 3\, Kalamazoo\, 49007
CATEGORIES:Birth Justice,Home
ATTACH;FMTTYPE=image/png:https://rootead.org/wp-content/uploads/2024/09/Diaper-Giveaway.png
END:VEVENT
BEGIN:VEVENT
DTSTART;TZID=UTC:20261209T110000
DTEND;TZID=UTC:20261209T130000
DTSTAMP:20260423T155828
CREATED:20260324T172751Z
LAST-MODIFIED:20260324T180023Z
UID:10000800-1796814000-1796821200@rootead.org
SUMMARY:Diaper Giveaway @ Baby Café
DESCRIPTION:Diaper Giveaway Every Wednesday!\nDiaper giveaway will be every Wednesday from 11 AM -1 PM.  Come to the Village Playdates and also get free diapers! \nNewborn – 4t/ 5t Pull-ups ~ Limited supply\, first come first serve! \n 
URL:https://rootead.org/event/diaper-giveaway-jun-24-2026/2026-12-09/
LOCATION:Rootead\, 505 E Kalamazoo Ave\, Suite 3\, Kalamazoo\, 49007
CATEGORIES:Birth Justice,Home
ATTACH;FMTTYPE=image/png:https://rootead.org/wp-content/uploads/2024/09/Diaper-Giveaway.png
END:VEVENT
BEGIN:VEVENT
DTSTART;TZID=UTC:20261216T110000
DTEND;TZID=UTC:20261216T130000
DTSTAMP:20260423T155828
CREATED:20260324T172751Z
LAST-MODIFIED:20260324T180023Z
UID:10000801-1797418800-1797426000@rootead.org
SUMMARY:Diaper Giveaway @ Baby Café
DESCRIPTION:Diaper Giveaway Every Wednesday!\nDiaper giveaway will be every Wednesday from 11 AM -1 PM.  Come to the Village Playdates and also get free diapers! \nNewborn – 4t/ 5t Pull-ups ~ Limited supply\, first come first serve! \n 
URL:https://rootead.org/event/diaper-giveaway-jun-24-2026/2026-12-16/
LOCATION:Rootead\, 505 E Kalamazoo Ave\, Suite 3\, Kalamazoo\, 49007
CATEGORIES:Birth Justice,Home
ATTACH;FMTTYPE=image/png:https://rootead.org/wp-content/uploads/2024/09/Diaper-Giveaway.png
END:VEVENT
BEGIN:VEVENT
DTSTART;TZID=UTC:20261223T110000
DTEND;TZID=UTC:20261223T130000
DTSTAMP:20260423T155828
CREATED:20260324T172751Z
LAST-MODIFIED:20260324T180023Z
UID:10000802-1798023600-1798030800@rootead.org
SUMMARY:Diaper Giveaway @ Baby Café
DESCRIPTION:Diaper Giveaway Every Wednesday!\nDiaper giveaway will be every Wednesday from 11 AM -1 PM.  Come to the Village Playdates and also get free diapers! \nNewborn – 4t/ 5t Pull-ups ~ Limited supply\, first come first serve! \n 
URL:https://rootead.org/event/diaper-giveaway-jun-24-2026/2026-12-23/
LOCATION:Rootead\, 505 E Kalamazoo Ave\, Suite 3\, Kalamazoo\, 49007
CATEGORIES:Birth Justice,Home
ATTACH;FMTTYPE=image/png:https://rootead.org/wp-content/uploads/2024/09/Diaper-Giveaway.png
END:VEVENT
BEGIN:VEVENT
DTSTART;TZID=UTC:20261230T110000
DTEND;TZID=UTC:20261230T130000
DTSTAMP:20260423T155828
CREATED:20260324T172751Z
LAST-MODIFIED:20260324T180023Z
UID:10000803-1798628400-1798635600@rootead.org
SUMMARY:Diaper Giveaway @ Baby Café
DESCRIPTION:Diaper Giveaway Every Wednesday!\nDiaper giveaway will be every Wednesday from 11 AM -1 PM.  Come to the Village Playdates and also get free diapers! \nNewborn – 4t/ 5t Pull-ups ~ Limited supply\, first come first serve! \n 
URL:https://rootead.org/event/diaper-giveaway-jun-24-2026/2026-12-30/
LOCATION:Rootead\, 505 E Kalamazoo Ave\, Suite 3\, Kalamazoo\, 49007
CATEGORIES:Birth Justice,Home
ATTACH;FMTTYPE=image/png:https://rootead.org/wp-content/uploads/2024/09/Diaper-Giveaway.png
END:VEVENT
BEGIN:VEVENT
DTSTART;TZID=UTC:20270106T110000
DTEND;TZID=UTC:20270106T130000
DTSTAMP:20260423T155828
CREATED:20260324T172751Z
LAST-MODIFIED:20260324T180023Z
UID:10000804-1799233200-1799240400@rootead.org
SUMMARY:Diaper Giveaway @ Baby Café
DESCRIPTION:Diaper Giveaway Every Wednesday!\nDiaper giveaway will be every Wednesday from 11 AM -1 PM.  Come to the Village Playdates and also get free diapers! \nNewborn – 4t/ 5t Pull-ups ~ Limited supply\, first come first serve! \n 
URL:https://rootead.org/event/diaper-giveaway-jun-24-2026/2027-01-06/
LOCATION:Rootead\, 505 E Kalamazoo Ave\, Suite 3\, Kalamazoo\, 49007
CATEGORIES:Birth Justice,Home
ATTACH;FMTTYPE=image/png:https://rootead.org/wp-content/uploads/2024/09/Diaper-Giveaway.png
END:VEVENT
BEGIN:VEVENT
DTSTART;TZID=UTC:20270113T110000
DTEND;TZID=UTC:20270113T130000
DTSTAMP:20260423T155828
CREATED:20260324T172751Z
LAST-MODIFIED:20260324T180023Z
UID:10000805-1799838000-1799845200@rootead.org
SUMMARY:Diaper Giveaway @ Baby Café
DESCRIPTION:Diaper Giveaway Every Wednesday!\nDiaper giveaway will be every Wednesday from 11 AM -1 PM.  Come to the Village Playdates and also get free diapers! \nNewborn – 4t/ 5t Pull-ups ~ Limited supply\, first come first serve! \n 
URL:https://rootead.org/event/diaper-giveaway-jun-24-2026/2027-01-13/
LOCATION:Rootead\, 505 E Kalamazoo Ave\, Suite 3\, Kalamazoo\, 49007
CATEGORIES:Birth Justice,Home
ATTACH;FMTTYPE=image/png:https://rootead.org/wp-content/uploads/2024/09/Diaper-Giveaway.png
END:VEVENT
END:VCALENDAR