BEGIN:VCALENDAR
VERSION:2.0
PRODID:-//Rootead - ECPv6.15.20//NONSGML v1.0//EN
CALSCALE:GREGORIAN
METHOD:PUBLISH
X-WR-CALNAME:Rootead
X-ORIGINAL-URL:https://rootead.org
X-WR-CALDESC:Events for Rootead
REFRESH-INTERVAL;VALUE=DURATION:PT1H
X-Robots-Tag:noindex
X-PUBLISHED-TTL:PT1H
BEGIN:VTIMEZONE
TZID:UTC
BEGIN:STANDARD
TZOFFSETFROM:+0000
TZOFFSETTO:+0000
TZNAME:UTC
DTSTART:20250101T000000
END:STANDARD
END:VTIMEZONE
BEGIN:VEVENT
DTSTART;TZID=UTC:20260521T100000
DTEND;TZID=UTC:20260521T120000
DTSTAMP:20260423T143052
CREATED:20260319T151357Z
LAST-MODIFIED:20260324T180640Z
UID:10000759-1779357600-1779364800@rootead.org
SUMMARY:Baby Café Open Hours - In Person
DESCRIPTION:Nourish your baby. Nourish yourself. Find your community at Rootead’s Baby Café\nThursdays weekly from 10 AM – 12 PM \nThe Baby Café is a walk-in parent support group with lactation professionals present to provide support for baby feeding. This free service is available in partnership with Bronson Health Foundation and W.K. Kellogg Foundation. \n  \nDate: Weekly on Thursdays \nTime: 10am-12pm \nLocation: \n1st and 3rd Thursdays at the Baby Cafe\, Rootead Enrichment Center\, 505 East Kalamazoo Ave. Suite 0\, Kalamazoo\, MI 49007 \n2nd and 4th Thursdays\, Virtually. Join using this link. \n  \n 
URL:https://rootead.org/event/baby-cafe-open-hours-spring-2026/2026-05-21/
LOCATION:Rootead\, 505 E Kalamazoo Ave\, Suite 3\, Kalamazoo\, 49007
CATEGORIES:Birth Justice,Home
ATTACH;FMTTYPE=image/png:https://rootead.org/wp-content/uploads/2026/02/BabyCafeInfoCard.png
END:VEVENT
BEGIN:VEVENT
DTSTART;TZID=UTC:20260618T100000
DTEND;TZID=UTC:20260618T120000
DTSTAMP:20260423T143052
CREATED:20260319T151357Z
LAST-MODIFIED:20260324T180640Z
UID:10000966-1781776800-1781784000@rootead.org
SUMMARY:Baby Café Open Hours - In Person
DESCRIPTION:Nourish your baby. Nourish yourself. Find your community at Rootead’s Baby Café\nThursdays weekly from 10 AM – 12 PM \nThe Baby Café is a walk-in parent support group with lactation professionals present to provide support for baby feeding. This free service is available in partnership with Bronson Health Foundation and W.K. Kellogg Foundation. \n  \nDate: Weekly on Thursdays \nTime: 10am-12pm \nLocation: \n1st and 3rd Thursdays at the Baby Cafe\, Rootead Enrichment Center\, 505 East Kalamazoo Ave. Suite 0\, Kalamazoo\, MI 49007 \n2nd and 4th Thursdays\, Virtually. Join using this link. \n  \n 
URL:https://rootead.org/event/baby-cafe-open-hours-spring-2026/2026-06-18/
LOCATION:Rootead\, 505 E Kalamazoo Ave\, Suite 3\, Kalamazoo\, 49007
CATEGORIES:Birth Justice,Home
ATTACH;FMTTYPE=image/png:https://rootead.org/wp-content/uploads/2026/02/BabyCafeInfoCard.png
END:VEVENT
BEGIN:VEVENT
DTSTART;TZID=UTC:20260716T100000
DTEND;TZID=UTC:20260716T120000
DTSTAMP:20260423T143052
CREATED:20260319T151357Z
LAST-MODIFIED:20260324T180640Z
UID:10000967-1784196000-1784203200@rootead.org
SUMMARY:Baby Café Open Hours - In Person
DESCRIPTION:Nourish your baby. Nourish yourself. Find your community at Rootead’s Baby Café\nThursdays weekly from 10 AM – 12 PM \nThe Baby Café is a walk-in parent support group with lactation professionals present to provide support for baby feeding. This free service is available in partnership with Bronson Health Foundation and W.K. Kellogg Foundation. \n  \nDate: Weekly on Thursdays \nTime: 10am-12pm \nLocation: \n1st and 3rd Thursdays at the Baby Cafe\, Rootead Enrichment Center\, 505 East Kalamazoo Ave. Suite 0\, Kalamazoo\, MI 49007 \n2nd and 4th Thursdays\, Virtually. Join using this link. \n  \n 
URL:https://rootead.org/event/baby-cafe-open-hours-spring-2026/2026-07-16/
LOCATION:Rootead\, 505 E Kalamazoo Ave\, Suite 3\, Kalamazoo\, 49007
CATEGORIES:Birth Justice,Home
ATTACH;FMTTYPE=image/png:https://rootead.org/wp-content/uploads/2026/02/BabyCafeInfoCard.png
END:VEVENT
BEGIN:VEVENT
DTSTART;TZID=UTC:20260820T100000
DTEND;TZID=UTC:20260820T120000
DTSTAMP:20260423T143052
CREATED:20260319T151357Z
LAST-MODIFIED:20260324T180640Z
UID:10000968-1787220000-1787227200@rootead.org
SUMMARY:Baby Café Open Hours - In Person
DESCRIPTION:Nourish your baby. Nourish yourself. Find your community at Rootead’s Baby Café\nThursdays weekly from 10 AM – 12 PM \nThe Baby Café is a walk-in parent support group with lactation professionals present to provide support for baby feeding. This free service is available in partnership with Bronson Health Foundation and W.K. Kellogg Foundation. \n  \nDate: Weekly on Thursdays \nTime: 10am-12pm \nLocation: \n1st and 3rd Thursdays at the Baby Cafe\, Rootead Enrichment Center\, 505 East Kalamazoo Ave. Suite 0\, Kalamazoo\, MI 49007 \n2nd and 4th Thursdays\, Virtually. Join using this link. \n  \n 
URL:https://rootead.org/event/baby-cafe-open-hours-spring-2026/2026-08-20/
LOCATION:Rootead\, 505 E Kalamazoo Ave\, Suite 3\, Kalamazoo\, 49007
CATEGORIES:Birth Justice,Home
ATTACH;FMTTYPE=image/png:https://rootead.org/wp-content/uploads/2026/02/BabyCafeInfoCard.png
END:VEVENT
BEGIN:VEVENT
DTSTART;TZID=UTC:20260917T100000
DTEND;TZID=UTC:20260917T120000
DTSTAMP:20260423T143052
CREATED:20260319T151357Z
LAST-MODIFIED:20260324T180640Z
UID:10000969-1789639200-1789646400@rootead.org
SUMMARY:Baby Café Open Hours - In Person
DESCRIPTION:Nourish your baby. Nourish yourself. Find your community at Rootead’s Baby Café\nThursdays weekly from 10 AM – 12 PM \nThe Baby Café is a walk-in parent support group with lactation professionals present to provide support for baby feeding. This free service is available in partnership with Bronson Health Foundation and W.K. Kellogg Foundation. \n  \nDate: Weekly on Thursdays \nTime: 10am-12pm \nLocation: \n1st and 3rd Thursdays at the Baby Cafe\, Rootead Enrichment Center\, 505 East Kalamazoo Ave. Suite 0\, Kalamazoo\, MI 49007 \n2nd and 4th Thursdays\, Virtually. Join using this link. \n  \n 
URL:https://rootead.org/event/baby-cafe-open-hours-spring-2026/2026-09-17/
LOCATION:Rootead\, 505 E Kalamazoo Ave\, Suite 3\, Kalamazoo\, 49007
CATEGORIES:Birth Justice,Home
ATTACH;FMTTYPE=image/png:https://rootead.org/wp-content/uploads/2026/02/BabyCafeInfoCard.png
END:VEVENT
BEGIN:VEVENT
DTSTART;TZID=UTC:20261015T100000
DTEND;TZID=UTC:20261015T120000
DTSTAMP:20260423T143052
CREATED:20260319T151357Z
LAST-MODIFIED:20260324T180640Z
UID:10000970-1792058400-1792065600@rootead.org
SUMMARY:Baby Café Open Hours - In Person
DESCRIPTION:Nourish your baby. Nourish yourself. Find your community at Rootead’s Baby Café\nThursdays weekly from 10 AM – 12 PM \nThe Baby Café is a walk-in parent support group with lactation professionals present to provide support for baby feeding. This free service is available in partnership with Bronson Health Foundation and W.K. Kellogg Foundation. \n  \nDate: Weekly on Thursdays \nTime: 10am-12pm \nLocation: \n1st and 3rd Thursdays at the Baby Cafe\, Rootead Enrichment Center\, 505 East Kalamazoo Ave. Suite 0\, Kalamazoo\, MI 49007 \n2nd and 4th Thursdays\, Virtually. Join using this link. \n  \n 
URL:https://rootead.org/event/baby-cafe-open-hours-spring-2026/2026-10-15/
LOCATION:Rootead\, 505 E Kalamazoo Ave\, Suite 3\, Kalamazoo\, 49007
CATEGORIES:Birth Justice,Home
ATTACH;FMTTYPE=image/png:https://rootead.org/wp-content/uploads/2026/02/BabyCafeInfoCard.png
END:VEVENT
BEGIN:VEVENT
DTSTART;TZID=UTC:20261119T100000
DTEND;TZID=UTC:20261119T120000
DTSTAMP:20260423T143052
CREATED:20260319T151357Z
LAST-MODIFIED:20260324T180640Z
UID:10000971-1795082400-1795089600@rootead.org
SUMMARY:Baby Café Open Hours - In Person
DESCRIPTION:Nourish your baby. Nourish yourself. Find your community at Rootead’s Baby Café\nThursdays weekly from 10 AM – 12 PM \nThe Baby Café is a walk-in parent support group with lactation professionals present to provide support for baby feeding. This free service is available in partnership with Bronson Health Foundation and W.K. Kellogg Foundation. \n  \nDate: Weekly on Thursdays \nTime: 10am-12pm \nLocation: \n1st and 3rd Thursdays at the Baby Cafe\, Rootead Enrichment Center\, 505 East Kalamazoo Ave. Suite 0\, Kalamazoo\, MI 49007 \n2nd and 4th Thursdays\, Virtually. Join using this link. \n  \n 
URL:https://rootead.org/event/baby-cafe-open-hours-spring-2026/2026-11-19/
LOCATION:Rootead\, 505 E Kalamazoo Ave\, Suite 3\, Kalamazoo\, 49007
CATEGORIES:Birth Justice,Home
ATTACH;FMTTYPE=image/png:https://rootead.org/wp-content/uploads/2026/02/BabyCafeInfoCard.png
END:VEVENT
BEGIN:VEVENT
DTSTART;TZID=UTC:20261217T100000
DTEND;TZID=UTC:20261217T120000
DTSTAMP:20260423T143052
CREATED:20260319T151357Z
LAST-MODIFIED:20260324T180640Z
UID:10000972-1797501600-1797508800@rootead.org
SUMMARY:Baby Café Open Hours - In Person
DESCRIPTION:Nourish your baby. Nourish yourself. Find your community at Rootead’s Baby Café\nThursdays weekly from 10 AM – 12 PM \nThe Baby Café is a walk-in parent support group with lactation professionals present to provide support for baby feeding. This free service is available in partnership with Bronson Health Foundation and W.K. Kellogg Foundation. \n  \nDate: Weekly on Thursdays \nTime: 10am-12pm \nLocation: \n1st and 3rd Thursdays at the Baby Cafe\, Rootead Enrichment Center\, 505 East Kalamazoo Ave. Suite 0\, Kalamazoo\, MI 49007 \n2nd and 4th Thursdays\, Virtually. Join using this link. \n  \n 
URL:https://rootead.org/event/baby-cafe-open-hours-spring-2026/2026-12-17/
LOCATION:Rootead\, 505 E Kalamazoo Ave\, Suite 3\, Kalamazoo\, 49007
CATEGORIES:Birth Justice,Home
ATTACH;FMTTYPE=image/png:https://rootead.org/wp-content/uploads/2026/02/BabyCafeInfoCard.png
END:VEVENT
BEGIN:VEVENT
DTSTART;TZID=UTC:20270121T100000
DTEND;TZID=UTC:20270121T120000
DTSTAMP:20260423T143052
CREATED:20260319T151357Z
LAST-MODIFIED:20260324T180640Z
UID:10000973-1800525600-1800532800@rootead.org
SUMMARY:Baby Café Open Hours - In Person
DESCRIPTION:Nourish your baby. Nourish yourself. Find your community at Rootead’s Baby Café\nThursdays weekly from 10 AM – 12 PM \nThe Baby Café is a walk-in parent support group with lactation professionals present to provide support for baby feeding. This free service is available in partnership with Bronson Health Foundation and W.K. Kellogg Foundation. \n  \nDate: Weekly on Thursdays \nTime: 10am-12pm \nLocation: \n1st and 3rd Thursdays at the Baby Cafe\, Rootead Enrichment Center\, 505 East Kalamazoo Ave. Suite 0\, Kalamazoo\, MI 49007 \n2nd and 4th Thursdays\, Virtually. Join using this link. \n  \n 
URL:https://rootead.org/event/baby-cafe-open-hours-spring-2026/2027-01-21/
LOCATION:Rootead\, 505 E Kalamazoo Ave\, Suite 3\, Kalamazoo\, 49007
CATEGORIES:Birth Justice,Home
ATTACH;FMTTYPE=image/png:https://rootead.org/wp-content/uploads/2026/02/BabyCafeInfoCard.png
END:VEVENT
BEGIN:VEVENT
DTSTART;TZID=UTC:20270218T100000
DTEND;TZID=UTC:20270218T120000
DTSTAMP:20260423T143052
CREATED:20260319T151357Z
LAST-MODIFIED:20260324T180640Z
UID:10000974-1802944800-1802952000@rootead.org
SUMMARY:Baby Café Open Hours - In Person
DESCRIPTION:Nourish your baby. Nourish yourself. Find your community at Rootead’s Baby Café\nThursdays weekly from 10 AM – 12 PM \nThe Baby Café is a walk-in parent support group with lactation professionals present to provide support for baby feeding. This free service is available in partnership with Bronson Health Foundation and W.K. Kellogg Foundation. \n  \nDate: Weekly on Thursdays \nTime: 10am-12pm \nLocation: \n1st and 3rd Thursdays at the Baby Cafe\, Rootead Enrichment Center\, 505 East Kalamazoo Ave. Suite 0\, Kalamazoo\, MI 49007 \n2nd and 4th Thursdays\, Virtually. Join using this link. \n  \n 
URL:https://rootead.org/event/baby-cafe-open-hours-spring-2026/2027-02-18/
LOCATION:Rootead\, 505 E Kalamazoo Ave\, Suite 3\, Kalamazoo\, 49007
CATEGORIES:Birth Justice,Home
ATTACH;FMTTYPE=image/png:https://rootead.org/wp-content/uploads/2026/02/BabyCafeInfoCard.png
END:VEVENT
BEGIN:VEVENT
DTSTART;TZID=UTC:20270318T100000
DTEND;TZID=UTC:20270318T120000
DTSTAMP:20260423T143052
CREATED:20260319T151357Z
LAST-MODIFIED:20260324T180640Z
UID:10000975-1805364000-1805371200@rootead.org
SUMMARY:Baby Café Open Hours - In Person
DESCRIPTION:Nourish your baby. Nourish yourself. Find your community at Rootead’s Baby Café\nThursdays weekly from 10 AM – 12 PM \nThe Baby Café is a walk-in parent support group with lactation professionals present to provide support for baby feeding. This free service is available in partnership with Bronson Health Foundation and W.K. Kellogg Foundation. \n  \nDate: Weekly on Thursdays \nTime: 10am-12pm \nLocation: \n1st and 3rd Thursdays at the Baby Cafe\, Rootead Enrichment Center\, 505 East Kalamazoo Ave. Suite 0\, Kalamazoo\, MI 49007 \n2nd and 4th Thursdays\, Virtually. Join using this link. \n  \n 
URL:https://rootead.org/event/baby-cafe-open-hours-spring-2026/2027-03-18/
LOCATION:Rootead\, 505 E Kalamazoo Ave\, Suite 3\, Kalamazoo\, 49007
CATEGORIES:Birth Justice,Home
ATTACH;FMTTYPE=image/png:https://rootead.org/wp-content/uploads/2026/02/BabyCafeInfoCard.png
END:VEVENT
BEGIN:VEVENT
DTSTART;TZID=UTC:20270415T100000
DTEND;TZID=UTC:20270415T120000
DTSTAMP:20260423T143052
CREATED:20260319T151357Z
LAST-MODIFIED:20260324T180640Z
UID:10000976-1807783200-1807790400@rootead.org
SUMMARY:Baby Café Open Hours - In Person
DESCRIPTION:Nourish your baby. Nourish yourself. Find your community at Rootead’s Baby Café\nThursdays weekly from 10 AM – 12 PM \nThe Baby Café is a walk-in parent support group with lactation professionals present to provide support for baby feeding. This free service is available in partnership with Bronson Health Foundation and W.K. Kellogg Foundation. \n  \nDate: Weekly on Thursdays \nTime: 10am-12pm \nLocation: \n1st and 3rd Thursdays at the Baby Cafe\, Rootead Enrichment Center\, 505 East Kalamazoo Ave. Suite 0\, Kalamazoo\, MI 49007 \n2nd and 4th Thursdays\, Virtually. Join using this link. \n  \n 
URL:https://rootead.org/event/baby-cafe-open-hours-spring-2026/2027-04-15/
LOCATION:Rootead\, 505 E Kalamazoo Ave\, Suite 3\, Kalamazoo\, 49007
CATEGORIES:Birth Justice,Home
ATTACH;FMTTYPE=image/png:https://rootead.org/wp-content/uploads/2026/02/BabyCafeInfoCard.png
END:VEVENT
BEGIN:VEVENT
DTSTART;TZID=UTC:20270520T100000
DTEND;TZID=UTC:20270520T120000
DTSTAMP:20260423T143052
CREATED:20260319T151357Z
LAST-MODIFIED:20260324T180640Z
UID:10000977-1810807200-1810814400@rootead.org
SUMMARY:Baby Café Open Hours - In Person
DESCRIPTION:Nourish your baby. Nourish yourself. Find your community at Rootead’s Baby Café\nThursdays weekly from 10 AM – 12 PM \nThe Baby Café is a walk-in parent support group with lactation professionals present to provide support for baby feeding. This free service is available in partnership with Bronson Health Foundation and W.K. Kellogg Foundation. \n  \nDate: Weekly on Thursdays \nTime: 10am-12pm \nLocation: \n1st and 3rd Thursdays at the Baby Cafe\, Rootead Enrichment Center\, 505 East Kalamazoo Ave. Suite 0\, Kalamazoo\, MI 49007 \n2nd and 4th Thursdays\, Virtually. Join using this link. \n  \n 
URL:https://rootead.org/event/baby-cafe-open-hours-spring-2026/2027-05-20/
LOCATION:Rootead\, 505 E Kalamazoo Ave\, Suite 3\, Kalamazoo\, 49007
CATEGORIES:Birth Justice,Home
ATTACH;FMTTYPE=image/png:https://rootead.org/wp-content/uploads/2026/02/BabyCafeInfoCard.png
END:VEVENT
BEGIN:VEVENT
DTSTART;TZID=UTC:20270617T100000
DTEND;TZID=UTC:20270617T120000
DTSTAMP:20260423T143052
CREATED:20260319T151357Z
LAST-MODIFIED:20260324T180640Z
UID:10000978-1813226400-1813233600@rootead.org
SUMMARY:Baby Café Open Hours - In Person
DESCRIPTION:Nourish your baby. Nourish yourself. Find your community at Rootead’s Baby Café\nThursdays weekly from 10 AM – 12 PM \nThe Baby Café is a walk-in parent support group with lactation professionals present to provide support for baby feeding. This free service is available in partnership with Bronson Health Foundation and W.K. Kellogg Foundation. \n  \nDate: Weekly on Thursdays \nTime: 10am-12pm \nLocation: \n1st and 3rd Thursdays at the Baby Cafe\, Rootead Enrichment Center\, 505 East Kalamazoo Ave. Suite 0\, Kalamazoo\, MI 49007 \n2nd and 4th Thursdays\, Virtually. Join using this link. \n  \n 
URL:https://rootead.org/event/baby-cafe-open-hours-spring-2026/2027-06-17/
LOCATION:Rootead\, 505 E Kalamazoo Ave\, Suite 3\, Kalamazoo\, 49007
CATEGORIES:Birth Justice,Home
ATTACH;FMTTYPE=image/png:https://rootead.org/wp-content/uploads/2026/02/BabyCafeInfoCard.png
END:VEVENT
BEGIN:VEVENT
DTSTART;TZID=UTC:20270715T100000
DTEND;TZID=UTC:20270715T120000
DTSTAMP:20260423T143052
CREATED:20260319T151357Z
LAST-MODIFIED:20260324T180640Z
UID:10000979-1815645600-1815652800@rootead.org
SUMMARY:Baby Café Open Hours - In Person
DESCRIPTION:Nourish your baby. Nourish yourself. Find your community at Rootead’s Baby Café\nThursdays weekly from 10 AM – 12 PM \nThe Baby Café is a walk-in parent support group with lactation professionals present to provide support for baby feeding. This free service is available in partnership with Bronson Health Foundation and W.K. Kellogg Foundation. \n  \nDate: Weekly on Thursdays \nTime: 10am-12pm \nLocation: \n1st and 3rd Thursdays at the Baby Cafe\, Rootead Enrichment Center\, 505 East Kalamazoo Ave. Suite 0\, Kalamazoo\, MI 49007 \n2nd and 4th Thursdays\, Virtually. Join using this link. \n  \n 
URL:https://rootead.org/event/baby-cafe-open-hours-spring-2026/2027-07-15/
LOCATION:Rootead\, 505 E Kalamazoo Ave\, Suite 3\, Kalamazoo\, 49007
CATEGORIES:Birth Justice,Home
ATTACH;FMTTYPE=image/png:https://rootead.org/wp-content/uploads/2026/02/BabyCafeInfoCard.png
END:VEVENT
END:VCALENDAR